BEGIN:VCALENDAR
VERSION:2.0
PRODID:-//Motala Sjöstad - ECPv6.13.2.1//NONSGML v1.0//EN
CALSCALE:GREGORIAN
METHOD:PUBLISH
X-ORIGINAL-URL:https://motalasjostad.se
X-WR-CALDESC:Händelser för Motala Sjöstad
REFRESH-INTERVAL;VALUE=DURATION:PT1H
X-Robots-Tag:noindex
X-PUBLISHED-TTL:PT1H
BEGIN:VTIMEZONE
TZID:Europe/Paris
BEGIN:DAYLIGHT
TZOFFSETFROM:+0100
TZOFFSETTO:+0200
TZNAME:CEST
DTSTART:20240331T010000
END:DAYLIGHT
BEGIN:STANDARD
TZOFFSETFROM:+0200
TZOFFSETTO:+0100
TZNAME:CET
DTSTART:20241027T010000
END:STANDARD
BEGIN:DAYLIGHT
TZOFFSETFROM:+0100
TZOFFSETTO:+0200
TZNAME:CEST
DTSTART:20250330T010000
END:DAYLIGHT
BEGIN:STANDARD
TZOFFSETFROM:+0200
TZOFFSETTO:+0100
TZNAME:CET
DTSTART:20251026T010000
END:STANDARD
BEGIN:DAYLIGHT
TZOFFSETFROM:+0100
TZOFFSETTO:+0200
TZNAME:CEST
DTSTART:20260329T010000
END:DAYLIGHT
BEGIN:STANDARD
TZOFFSETFROM:+0200
TZOFFSETTO:+0100
TZNAME:CET
DTSTART:20261025T010000
END:STANDARD
END:VTIMEZONE
BEGIN:VEVENT
DTSTART;TZID=Europe/Paris:20260106T150000
DTEND;TZID=Europe/Paris:20260106T160000
DTSTAMP:20260419T143324
CREATED:20251217T105723Z
LAST-MODIFIED:20251217T105723Z
UID:10013684-1767711600-1767715200@motalasjostad.se
SUMMARY:Trettondagsmusik i Varv och Styra kyrka
DESCRIPTION:Musikgudstjänst med Motala Blåsorkester under ledning av John Börén.\nPräst Jan-Olof Arkstedt Broberg
URL:https://motalasjostad.se/ec-event/trettondagsmusik-i-varv-och-styra-kyrka/
CATEGORIES:Musik
ATTACH;FMTTYPE=image/jpeg:https://motalasjostad.se/wp-content/uploads/2025/12/2026_01_06_varvstyra-1-scaled-e1765969033811.jpg
ORGANIZER;CN="Motala Bl%C3%A5sorkester":MAILTO:info@motalablasorkester.se
END:VEVENT
BEGIN:VEVENT
DTSTART;TZID=Europe/Paris:20240420T180000
DTEND;TZID=Europe/Paris:20240420T193000
DTSTAMP:20260419T143324
CREATED:20240409T144815Z
LAST-MODIFIED:20240410T094623Z
UID:10000762-1713636000-1713641400@motalasjostad.se
SUMMARY:Motala Blåsorkester med Martin Chorell\, trombon
DESCRIPTION:Motala Blåsorkester välkomnar hem trombonisten och Motalasonen Martin Chorell\, till vardags musiker i tyska Philharmonischen Orchester Bremerhaven. Tillsammans bjuder de på bland annat Gordon Jacobs trombonkonsert och annan härlig blåsmusik.
URL:https://motalasjostad.se/ec-event/motala-blasorkester-med-martin-chorell-trombon/
LOCATION:Motala Kyrka\, Sjögatan 9\, Motala
ATTACH;FMTTYPE=image/jpeg:https://motalasjostad.se/wp-content/uploads/2024/04/Chorell-e1712674155628.jpg
ORGANIZER;CN="Motala f%C3%B6rsamling":MAILTO:motala.forsamling@svenskakyrkan.se
END:VEVENT
END:VCALENDAR