BEGIN:VCALENDAR
VERSION:2.0
PRODID:-//Motala Sjöstad - ECPv6.13.2.1//NONSGML v1.0//EN
CALSCALE:GREGORIAN
METHOD:PUBLISH
X-WR-CALNAME:Motala Sjöstad
X-ORIGINAL-URL:https://motalasjostad.se
X-WR-CALDESC:Händelser för Motala Sjöstad
REFRESH-INTERVAL;VALUE=DURATION:PT1H
X-Robots-Tag:noindex
X-PUBLISHED-TTL:PT1H
BEGIN:VTIMEZONE
TZID:Europe/Paris
BEGIN:DAYLIGHT
TZOFFSETFROM:+0100
TZOFFSETTO:+0200
TZNAME:CEST
DTSTART:20240331T010000
END:DAYLIGHT
BEGIN:STANDARD
TZOFFSETFROM:+0200
TZOFFSETTO:+0100
TZNAME:CET
DTSTART:20241027T010000
END:STANDARD
BEGIN:DAYLIGHT
TZOFFSETFROM:+0100
TZOFFSETTO:+0200
TZNAME:CEST
DTSTART:20250330T010000
END:DAYLIGHT
BEGIN:STANDARD
TZOFFSETFROM:+0200
TZOFFSETTO:+0100
TZNAME:CET
DTSTART:20251026T010000
END:STANDARD
END:VTIMEZONE
BEGIN:VEVENT
DTSTART;TZID=Europe/Paris:20251016T190000
DTEND;TZID=Europe/Paris:20251016T201500
DTSTAMP:20260419T143123
CREATED:20250709T080852Z
LAST-MODIFIED:20250709T081128Z
UID:10007657-1760641200-1760645700@motalasjostad.se
SUMMARY:Raised on Rythm
DESCRIPTION:Livets rytmer flätas samman i lekfull dansritual.\nRytmerna finns överallt – i hopprepens slag mot asfalten och i stegen från trapphuset. Och de gör något med oss\, om vi låter dem. I Raised on Rhythm vill koreografen och freestylepionjären Niki ”Awandee” Tsappos uppmärksamma oss på hur rytmer förenar\, frigör och sätter människor i rörelse. Men var börjar en rytm och var slutar den? Med Sveriges hiphopdans-nestor Damon Frost som berättare och spirituell guide\, startar en vindlande resa i rytmernas universum. \nBeatsen som han gör i stunden\, förenas med inspelad musik samskapad med Erik Hjärpe\, även känd som Voz Vibrante. De fyra dansarna Damon Frost\, Amalie Sasha Schanke\, Yared Tilahun Cederlund och Rebecca Wolete bjuder in publiken till lekar och ritualer\, där de låter rytmerna fortplanta sig i rummet och bli till en gemensam puls. \nNiki ”Awandee” Tsappos har redan från ung ålder dansat till sitt eget beat. I dag inspirerar hon sitt globala danscommunity som prisad dansare\, koreograf\, lärare och domare. \n2022 presenterade Riksteatern Niki ”Awandee” Tsappos helaftonsverk Head Peace. Urpremiären för Raised on Rhythm ägde rum på Dramaten där den spelade för fulla hus våren 2023. \nFöreställningen passar från 10 år. \nFöreställningslängd 1 tim 15 min \nBiljetter säljs via Tickster samt Rapps Foto i Motala och Linköping.  Ordinarie; 200 kr\, Med Scenpass 150 kr\, Med Platenkort 175 kr\, Ungdom under 25 år 100 kr
URL:https://motalasjostad.se/ec-event/raised-on-rythm/
LOCATION:Teatersalongen Motala Folkets Hus\, Repslagaretagatan 3\, Motala\, 59130
ATTACH;FMTTYPE=image/jpeg:https://motalasjostad.se/wp-content/uploads/2025/07/Raised-on-Rhythm_Foto_Senay-Berhe-staende-scaled-e1752048673837.jpg
ORGANIZER;CN="Motala Teaterf%C3%B6rening":MAILTO:motala.tf@gmail.com
END:VEVENT
BEGIN:VEVENT
DTSTART;TZID=Europe/Paris:20241207T160000
DTEND;TZID=Europe/Paris:20241207T160000
DTSTAMP:20260419T143123
CREATED:20240906T083726Z
LAST-MODIFIED:20240906T083921Z
UID:10003493-1733587200-1733587200@motalasjostad.se
SUMMARY:Julkonsert med Motala Kammarkör
DESCRIPTION:Välkommen på konsert med Motala Kammarkör. Finstämd och traditionell julmusik.
URL:https://motalasjostad.se/ec-event/julkonsert-med-motala-kammarkor/
LOCATION:Teatersalongen Motala Folkets Hus\, Repslagaretagatan 3\, Motala\, 59130
ATTACH;FMTTYPE=image/jpeg:https://motalasjostad.se/wp-content/uploads/2024/09/Motala-kammarkor.jpg
ORGANIZER;CN="Motala Teaterf%C3%B6rening":MAILTO:motala.tf@gmail.com
END:VEVENT
BEGIN:VEVENT
DTSTART;TZID=Europe/Paris:20241103T190000
DTEND;TZID=Europe/Paris:20241103T190000
DTSTAMP:20260419T143123
CREATED:20240725T091625Z
LAST-MODIFIED:20240906T081011Z
UID:10003376-1730660400-1730660400@motalasjostad.se
SUMMARY:Är det hett här?
DESCRIPTION:En orädd och fartfylld komedi om klimakteriet.\nKlimakteriet angår oss alla\, kvinnor som män – ändå vet vi väldigt lite om detta skede i livet.\nVad händer när mensen tar slut? Varför funkar inte minnet eller humöret som förr? Varför sover man plötsligt inte? Och varför vet vi inte svaren? Är det hett här? är lika delar monolog som manifest\, lika mycket folkbildning som underhållning. I sin fartfyllda debutpjäs rätar Anna Hultin ut menopausens många frågetecken.\n-Föreställningen handlar om allt som jag själv ville veta om klimakteriet\, men inte fick svar på\, berättar Anna.\n”En rolig\, ömsint och arg monolog som lyfter upp något väldigt viktigt: den åldrande kvinnans rätt att vara sig själv och må bra.” – Östnyland\nBiljetter säljs via Tickster samt då vår biljettkassa är öppen Ordinarie: 250 kr Scenpass: 200 kr Platenkort: 225 kr Ungdom under 25 år 125 kr
URL:https://motalasjostad.se/ec-event/ar-det-hett-har/
LOCATION:Kulturakademin Motala\, Urban Hjärnes väg 6\, Motala\, 59130
ATTACH;FMTTYPE=image/jpeg:https://motalasjostad.se/wp-content/uploads/2024/07/Ar-det-hett-har.jpg
ORGANIZER;CN="Motala Teaterf%C3%B6rening":MAILTO:motala.tf@gmail.com
END:VEVENT
BEGIN:VEVENT
DTSTART;TZID=Europe/Paris:20241029T190000
DTEND;TZID=Europe/Paris:20241029T204000
DTSTAMP:20260419T143123
CREATED:20240912T143257Z
LAST-MODIFIED:20240912T143450Z
UID:10003516-1730228400-1730234400@motalasjostad.se
SUMMARY:Bokslut – En tragikomisk internredovisning
DESCRIPTION:Pjäsen är en tragikomisk hyllning till alla dom som känner\nsig lite osynliga och utanför på sin arbetsplats. Här kommer\ndom till tals när en av dom ser sig tvingad att ta chansen\noch berätta sin och sin älskades historia. Monologen är en\npåminnelse om att stora passioner och känslor också ryms\nhos den där personen på jobbet som utåt sett kan verka\nintrovert eller udda. \nEn liten tillbakadragen ekonomiansvarig\, Norlén\, på ett\nföretag skall presentera företagets bokslut i stället för\nföretagets VD\, som plötsligt fått förhinder. Han brukar aldrig\nmissa en presentation. Vad har hänt med VD? Norlén\npresenterar bokslutet en stund men istället för att redogöra\nför bokslutet berättar han om sig själv\, sitt liv och sin\noförmåga att passa in i gemenskapen. Men framför allt\nberättar han om sin svindlande kärlekshistoria med en\nannan av företagets udda anställda\, Maria\, som försvunnit\nefter att ha frusits ut på arbetsplatsen. En passionerad\nkärlekshistoria om ett möte i utanförskap som slutar med\nett stort svek och en hemlighet avslöjas. \nEn komisk resa av ekonomi\, kärlek med mycket humor! \nPris från 100kr
URL:https://motalasjostad.se/ec-event/bokslut-en-tragikomisk-internredovisning/
LOCATION:Restaurang Skepparpinan
ATTACH;FMTTYPE=image/jpeg:https://motalasjostad.se/wp-content/uploads/2024/09/Bokslut.jpg
ORGANIZER;CN="Motala Teaterf%C3%B6rening":MAILTO:motala.tf@gmail.com
END:VEVENT
BEGIN:VEVENT
DTSTART;TZID=Europe/Paris:20241017T190000
DTEND;TZID=Europe/Paris:20241017T214000
DTSTAMP:20260419T143123
CREATED:20240609T134941Z
LAST-MODIFIED:20240609T141240Z
UID:10003241-1729191600-1729201200@motalasjostad.se
SUMMARY:Kulturbärarna
DESCRIPTION:Arrangemangsinformation: \nVad pågår egentligen ute i garderoben under en pågående föreställning? En alldeles egen föreställning! \nDär står nämligen en pratsjuk garderobiär som fördriver tiden genom att sy i lösa knappar i inlämnade jackor och svara i kvarglömda mobiltelefoner. I garderoben visar det sig hänga en hel folksamling av kulturbärare\, som nu kommer till liv. \nEfter tio år med den hyllade enmansföreställningen Sufflören\, kommer nu Andreas T Olsson med en ny föreställning i samma melankomiska anda\, där den omhändertagande garderobiären blir publikens förtrogne och låter oss möta ett pärlband av sorglustiga existenser som på olika sätt bär kulturen: den osynlige statisten\, den nitiske autografjägaren\, läkaren i salongen\, museivakten som blir förälskad i en tavla\, skådespelaren som spelar björn på Skansen. Och många fler. \nI Oscarsteaterns fullsatta salong har Kulturbärarna redan blivit en succé\, både bland publiken och recensenter och nu åker föreställningen ut på turné med Riksteatern. \nPrecis som i Sufflören har Andreas haft ett extra regiöga\, en V. I. S. (Vän I Salongen). I Sufflören var det Gösta Ekman\, i Kulturbärarna är det Claes Eriksson. \nRiksteatern i samarbete med Vicky Nöjesproduktion och 2Entertain \nFöreställningslängd: 1 tim 40 min \nOm biljetter \nBiljetter köps via Tickster eller då vår biljettkassa är öppen Ordinarie: 375 kr Scenpass: 325 kr Platenkort: 350 kr (max 2 st) Ungdom under 25 år: 190 kr \nScenpassförmån: 50 kr rabatt samt fri garderob \nRiksteatern i samarbete med Vicky Nöjesproduktion och 2Entertain
URL:https://motalasjostad.se/ec-event/kulturbararna/
LOCATION:Teatersalongen Motala Folkets Hus\, Repslagaretagatan 3\, Motala\, 59130
ATTACH;FMTTYPE=image/jpeg:https://motalasjostad.se/wp-content/uploads/2024/06/Kulturbararna.jpg
ORGANIZER;CN="Motala Teaterf%C3%B6rening":MAILTO:motala.tf@gmail.com
END:VEVENT
BEGIN:VEVENT
DTSTART;TZID=Europe/Paris:20240914T190000
DTEND;TZID=Europe/Paris:20240914T203000
DTSTAMP:20260419T143123
CREATED:20240609T140843Z
LAST-MODIFIED:20240609T141007Z
UID:10003243-1726340400-1726345800@motalasjostad.se
SUMMARY:Instructions for a Teenage Armageddon
DESCRIPTION:En berörande och vansinnigt rolig coming-of-age story! Efter utsålda hus i London – nu kommer den drastiska monologen i en svensk översättning och iscensättning. Hur tar vi oss genom det kaos som tonåren kan vara?\n\nEn berörande och vansinnigt rolig coming-of-age story.\nEfter utsålda hus i London – nu kommer den drastiska monologen i en svensk översättning och iscensättning. En berörande\, rapp och vansinnigt rolig coming-of-age story om en tjej som trots allt tog sig igenom sina stormiga tonår. Vi får följa Eileen från tretton till sjutton års ålder\, genom sin omtumlande metamorfos. En resa som navigerar i hur sorg och trauma kan sätta sina spår\, om ensamheten och ilskan som tar över. Om att förlora sitt fotfäste\, om kärlek\, sex och nya oönskade familjemedlemmar. \nEileen är tretton år när hennes syster går bort i anorexia. Katastrofen skickar henne in i en tid av tuffa\, nästan osannolikt brutala händelser. Hur tar vi oss genom det kaos som tonåren kan vara? Hur är det ens möjligt\, hur orkar vi\, och framför allt – hur påverkar det de människor vi blir? Med en stor portion svart humor beskriver Eileen sin familj\, kompisar\, och möjliga kärleksobjekt för publiken. Scouterna finns också med på ett hörn. \nDen lovordade texten är skriven av den unga brittiska dramatikern Rosie Day. I denna svenska uppsättning får vi se Alexandra Nordberg (bland annat Netflix-serien Kärlek & Anarki) i rollen som Eileen. \nFöreställningslängd: 1 tim 15 min\nPå riksteaterturné hösten 2024. \nBiljettpris:\nOrdinarie: 200 kr\nMed Scenpass: 150 kr\nUngdom under 25 år: 100 kr \nFör frågor angående arrangemanget\, vänligen kontakta Motala Teaterförening.
URL:https://motalasjostad.se/ec-event/instructions-for-a-teenage-armageddon/
LOCATION:Teatersalongen Motala Folkets Hus\, Repslagaretagatan 3\, Motala\, 59130
ATTACH;FMTTYPE=image/jpeg:https://motalasjostad.se/wp-content/uploads/2024/06/Instructions-for-at-teenaged-e1717942197698.jpg
ORGANIZER;CN="Motala Teaterf%C3%B6rening":MAILTO:motala.tf@gmail.com
END:VEVENT
BEGIN:VEVENT
DTSTART;TZID=Europe/Paris:20240414T190000
DTEND;TZID=Europe/Paris:20240414T190000
DTSTAMP:20260419T143123
CREATED:20240115T133726Z
LAST-MODIFIED:20240117T111321Z
UID:10000117-1713121200-1713121200@motalasjostad.se
SUMMARY:NOMAD
DESCRIPTION:En musikalisk berättelse om olika sätt att bo och leva \nNomad är ett musikaliskt och poetiskt scenkonstverk som nyfiket och generöst interagerar med sin publik genom existentiella frågeställningar. Föreställningen är baserad på intervjuer som dramatikern Lucia Cajchanova har gjort med artisterna Sofia Jannoks och Salamanca Taikon Gonzalez. Det blir ett fängslande möte mellan Sofias samiska och Salamancas romska rötter. Deras personliga erfarenheter och de fördomar de båda möter i vardagen flätas samman med reflektioner över hur vi människor bor och lever. \nOm biljetter: \nBiljetter sälj via Tickster samt 1 timme innan föreställning. Ordinarie 300 kr Scenpass 250 kr Platenkort 275 kr Ungdom under 25 år 150 kr \n 
URL:https://motalasjostad.se/ec-event/nomad/
LOCATION:Motala Folkets Hus\, Repslagaregatan 3\, Motala\, Sverige
ATTACH;FMTTYPE=image/jpeg:https://motalasjostad.se/wp-content/uploads/2024/01/unnamed-file-5.jpeg
ORGANIZER;CN="Motala Teaterf%C3%B6rening":MAILTO:motala.tf@gmail.com
GEO:58.535514875897;15.03563263654
X-APPLE-STRUCTURED-LOCATION;VALUE=URI;X-ADDRESS=Motala Folkets Hus Repslagaregatan 3 Motala Sverige;X-APPLE-RADIUS=500;X-TITLE=Repslagaregatan 3:geo:15.03563263654,58.535514875897
END:VEVENT
BEGIN:VEVENT
DTSTART;TZID=Europe/Paris:20240323T190000
DTEND;TZID=Europe/Paris:20240323T190000
DTSTAMP:20260419T143123
CREATED:20240115T133726Z
LAST-MODIFIED:20240117T105742Z
UID:10000124-1711220400-1711220400@motalasjostad.se
SUMMARY:Ellen Babić
DESCRIPTION:I denna nyskrivna pjäs möter vi den äldre lärarinnan Astrid som lever med sin f.d. elev Klara. Ikväll har rektorn på skolan\, Wolfram bjudit in sig själv för att prata om ett besvärande och känsligt ärende. Det visar sig att det kommit in graverande klagomål på Astrid från föräldrarna till en av hennes elever\, 16-åriga Ellen Babic.\nWolfram säger att han vill skydda henne\, men går han att lita på? Han avslöjar inte vad det handlar om mer än att det är allvarligt och har hänt på en klassresa. Ju mindre klarspråk\, desto mer hotfylld blir situationen. Ett intrikat psykologiskt spel tar fart. Tolkningar av hörsägen\, olika minnesbilder av händelser och skuldbeläggningar avlöser varandra i ett rappt tempo. Och nu börjar även Klara minnas detaljer från tiden som Astrids elev. \nPå scen ser vi Cecilia Lindqvist\, Niki Gunke Stangertz och Jacob Ericksson. \nBiljetter kommer att finnas på www.tickster.com\nBiljettkassan i foajen hos Folkets hus är öppen\nlördagar 11/2\,25/2 och 11/3 \nBiljettkassan är även öppen 1 timma innan föreställningarna i Folkets Hus \n 
URL:https://motalasjostad.se/ec-event/ellen-babic/
LOCATION:Motala Folkets Hus\, Repslagaregatan 3\, Motala\, Sverige
ATTACH;FMTTYPE=image/jpeg:https://motalasjostad.se/wp-content/uploads/2024/01/unnamed-file-4.jpeg
ORGANIZER;CN="Motala Teaterf%C3%B6rening":MAILTO:motala.tf@gmail.com
GEO:58.535514875897;15.03563263654
X-APPLE-STRUCTURED-LOCATION;VALUE=URI;X-ADDRESS=Motala Folkets Hus Repslagaregatan 3 Motala Sverige;X-APPLE-RADIUS=500;X-TITLE=Repslagaregatan 3:geo:15.03563263654,58.535514875897
END:VEVENT
BEGIN:VEVENT
DTSTART;TZID=Europe/Paris:20240307T190000
DTEND;TZID=Europe/Paris:20240307T190000
DTSTAMP:20260419T143123
CREATED:20240212T145104Z
LAST-MODIFIED:20240212T163930Z
UID:10000322-1709838000-1709838000@motalasjostad.se
SUMMARY:Kassettbanden
DESCRIPTION:Verklighetsbaserad soloföreställning.\nI Kassettbanden låter Chrystèle Khodr oss möta ett antal berörande människoröster från inbördeskrigets i 70-talets Libanon. En av rösterna kommer från hennes egen farbroders kassettband – inlästa brev som han skickade till sina bröder efter ankomsten till Sverige. Genom dessa unika tidsdokument får vi på nära håll följa med på en resa från ett land i krig till ett land som levt i fred sedan tidigt 1800-tal. Samtidigt tas vi med på en inre resa\, där det som i det nya landet från början verkar så hoppfullt\, visar sig vara långt mer komplext. \nPå plats i dåtidens Libanon får vi också möta Eva Ståhl\, sjuksköterska\, och Anders Hasselblom\, journalist som arbetar med att rädda liv och berätta för omvärlden om den fruktansvärda situationen i flyktinglägret Tel el Zaatar sedan ett stort antal människor berövats sina liv. \nI pjäsen flätas olika personers liv samman till en tät väv av röster om mänskligt lidande\, motstånd och medmänsklighet som talar till oss än idag. Denna gripande soloföreställning är både skriven\, regisserad och gestaltad på scen av Chrystèle Khodr.Spelas på arabiska och textas till svenska.\nBiljetter säljs via Tickster samt 1 timme innan föreställning Ordinarie 150 kr Scenpass 100 kr Platenkort 125 kr Ungdom under 25 år 75 kr
URL:https://motalasjostad.se/ec-event/kassettbanden/
LOCATION:Kulturakademin Motala\, Urban Hjärnes väg 6\, Motala\, 59130
ATTACH;FMTTYPE=image/jpeg:https://motalasjostad.se/wp-content/uploads/2024/02/Kassetbanden.jpg
ORGANIZER;CN="Motala Teaterf%C3%B6rening":MAILTO:motala.tf@gmail.com
END:VEVENT
BEGIN:VEVENT
DTSTART;TZID=Europe/Paris:20240222T190000
DTEND;TZID=Europe/Paris:20240222T190000
DTSTAMP:20260419T143123
CREATED:20240115T133726Z
LAST-MODIFIED:20240116T132021Z
UID:10000132-1708628400-1708628400@motalasjostad.se
SUMMARY:Kärlekens historia med Rickard Söderberg
DESCRIPTION:När operasångaren Rickard Söderberg läser mellan raderna i sina gamla dagböcker hittar han en person som kämpar med att ta reda på vem han verkligen är. När han gräver djupare i historien visar det sig att han inte är den första som ställt frågor om kärlekens väsen – längtan efter kärlek verkar vara oförändrad sedan människan blev människa. \nDetta är starten på en resa genom kärlekens historia från stenåldern fram till idag. Från grottmålningar i Zimbabwe av älskande män till samkönade passioner i det svenska bondesamhället. Från religionernas försök att radera de homosexuella historierna till obesjungna hjältar som agerat i tystnad. Från historiens mest flamboyanta celebriteter till hans egen instagramvardag med fredagstaco tillsammans med maken Anders. \nRickard gjorde succé på Riksteaterscenerna våren 2018 och nu är han tillbaka med en föreställning där hans unika blandning av musik\, artisteri och aktivism får fullt utlopp på scen. \nKom med på den förbjudna kärlekens historia! \nBiljettkassa finns i foajen i Folkets hus\nÖppet lördag 11/2 klockan 12-14 \n  \nOm biljetter: \nBiljetter säljs via Tickster samt 1 timme innan föreställning Ordinarie 350 kr Scenpass 300 kr Platenkort 325 kr Ungdom till 25 år 150 kr \nScenpassförmån: Rabatt på entré samt fri garderob \nBiljettkassan är även öppen 1 timma innan föreställningarna \n 
URL:https://motalasjostad.se/ec-event/karlekens-historia-med-rickard-soderberg/
LOCATION:Teatersalongen Motala Folkets Hus\, Repslagaretagatan 3\, Motala\, 59130
ATTACH;FMTTYPE=image/jpeg:https://motalasjostad.se/wp-content/uploads/2024/01/unnamed-file-2.jpeg
ORGANIZER;CN="Motala Teaterf%C3%B6rening":MAILTO:motala.tf@gmail.com
END:VEVENT
BEGIN:VEVENT
DTSTART;TZID=Europe/Paris:20240209T190000
DTEND;TZID=Europe/Paris:20240209T190000
DTSTAMP:20260419T143123
CREATED:20240115T133726Z
LAST-MODIFIED:20240116T130716Z
UID:10000134-1707505200-1707505200@motalasjostad.se
SUMMARY:Euphoria
DESCRIPTION:Lekfull och äventyrlig cirkusföreställning för hela familjen!\nEuphoria är fylld av vibrerande energi\, överraskningar\, humor och akrobatik som tänjer gränserna för vad den mänskliga kroppen kan utföra. \nCirkuskompaniet LONE Company har i samarbete med Riksteatern\, Borås Stadsteater och Cirkus i Väst skapat en lekfull och spännande värld. En färgstark\, euforisk helhet\, där klassiska och banbrytande cirkusdiscipliner flätas samman med ett melodiskt ackompanjerade av livemusik som skapas under föreställningens gång. \nAllt började som en barndomsdröm. En dröm om att skapa en fantasifull och spännande värld fylld av cirkus och musik\, där allting är på låtsas men samtidigt alldeles på riktigt. Ett äventyr och en lek som plötsligt blir på allvar och sen lek igen. Deras önskan mognade och tio år senare begav de sig ut på ett vilt äventyr\, en seglats över Atlanten\, trots att de aldrig hade seglat förut\, följt av en tre månader lång turné längs den västfranska kusten. \n”I Euphoria kommer vi på ett poetiskt sätt att hämta inspiration från vår resa och vi vill ta med oss publiken på vårt nya äventyr. Föreställningen kommer att kretsa kring en utopi\, samhörighet och sökandet efter en vacker ö” säger medlemmarna i LONE Company. \nFöreställningslängd: ca 60 min \nOm biljetter: \nBiljetter sälj via Tickster samt 1 timme innan föreställning Ordinarie 275 kr Scenpass 225 kr Platenkort 250 kr (max 2 st) Ungdom till 25 år 140 kr \nScenpassförmån: Rabatt på entré samt fri garderob \n 
URL:https://motalasjostad.se/ec-event/euphoria/
LOCATION:Teatersalongen Motala Folkets Hus\, Repslagaretagatan 3\, Motala\, 59130
ATTACH;FMTTYPE=image/jpeg:https://motalasjostad.se/wp-content/uploads/2024/01/unnamed-file-3.jpeg
ORGANIZER;CN="Motala Teaterf%C3%B6rening":MAILTO:motala.tf@gmail.com
END:VEVENT
END:VCALENDAR