BEGIN:VCALENDAR
VERSION:2.0
PRODID:-//Motala Sjöstad - ECPv6.13.2.1//NONSGML v1.0//EN
CALSCALE:GREGORIAN
METHOD:PUBLISH
X-ORIGINAL-URL:https://motalasjostad.se
X-WR-CALDESC:Händelser för Motala Sjöstad
REFRESH-INTERVAL;VALUE=DURATION:PT1H
X-Robots-Tag:noindex
X-PUBLISHED-TTL:PT1H
BEGIN:VTIMEZONE
TZID:Europe/Paris
BEGIN:DAYLIGHT
TZOFFSETFROM:+0100
TZOFFSETTO:+0200
TZNAME:CEST
DTSTART:20240331T010000
END:DAYLIGHT
BEGIN:STANDARD
TZOFFSETFROM:+0200
TZOFFSETTO:+0100
TZNAME:CET
DTSTART:20241027T010000
END:STANDARD
END:VTIMEZONE
BEGIN:VEVENT
DTSTART;TZID=Europe/Paris:20241122T190000
DTEND;TZID=Europe/Paris:20241122T190000
DTSTAMP:20260425T212812
CREATED:20241104T122756Z
LAST-MODIFIED:20241120T111237Z
UID:10003813-1732302000-1732302000@motalasjostad.se
SUMMARY:Quiz!
DESCRIPTION:Ett sista höstquiz innan julbordssäsongen!\n\n\nFörvänta er inget mindre än medelroliga vitsar\, lagom svåra quizfrågor\, totalt lämpliga priser på mat och dryck! Dessutom\, vem vet om båten från Karlsborg kommer! Mannen med svaren som ställer frågorna är ingen mindre än vår genomhärliga quizmaster Henrik Elofsson\n\n\nDetta blir en kväll att minnas!\n\n\nSäkra din plats! Ring 073 558 33 41 eller gå in på www.restaurangsjovik.se\n\n\nMed vänliga hälsningar\, David & Linn med personal
URL:https://motalasjostad.se/ec-event/quiz/
ATTACH;FMTTYPE=image/jpeg:https://motalasjostad.se/wp-content/uploads/2024/11/464690416_1158156245885482_6827110377156473804_n-e1730723127873.jpg
END:VEVENT
END:VCALENDAR