BEGIN:VCALENDAR
VERSION:2.0
PRODID:-//Motala Sjöstad - ECPv6.13.2.1//NONSGML v1.0//EN
CALSCALE:GREGORIAN
METHOD:PUBLISH
X-WR-CALNAME:Motala Sjöstad
X-ORIGINAL-URL:https://motalasjostad.se
X-WR-CALDESC:Händelser för Motala Sjöstad
REFRESH-INTERVAL;VALUE=DURATION:PT1H
X-Robots-Tag:noindex
X-PUBLISHED-TTL:PT1H
BEGIN:VTIMEZONE
TZID:Europe/Paris
BEGIN:DAYLIGHT
TZOFFSETFROM:+0100
TZOFFSETTO:+0200
TZNAME:CEST
DTSTART:20240331T010000
END:DAYLIGHT
BEGIN:STANDARD
TZOFFSETFROM:+0200
TZOFFSETTO:+0100
TZNAME:CET
DTSTART:20241027T010000
END:STANDARD
BEGIN:DAYLIGHT
TZOFFSETFROM:+0100
TZOFFSETTO:+0200
TZNAME:CEST
DTSTART:20250330T010000
END:DAYLIGHT
BEGIN:STANDARD
TZOFFSETFROM:+0200
TZOFFSETTO:+0100
TZNAME:CET
DTSTART:20251026T010000
END:STANDARD
END:VTIMEZONE
BEGIN:VEVENT
DTSTART;TZID=Europe/Paris:20251003T190000
DTEND;TZID=Europe/Paris:20251003T190000
DTSTAMP:20260425T190348
CREATED:20251002T093404Z
LAST-MODIFIED:20251002T093510Z
UID:10013361-1759518000-1759518000@motalasjostad.se
SUMMARY:Oktober-Quiz!
DESCRIPTION:Hjärtligt välkomna till Oktober-quiz på fredag och Oktober-helg hela helgen! På fredag är det ca 60 personer som redan bokat men än finns alltså chansen säkra din plats \n\n\nVarmt välkomna önskar David & Linn med personal!\n\n\nFör bordsbokning:\n073 558 33 41\n bokningar@restaurangsjovik.se\nwww.restaurangsjovik.se
URL:https://motalasjostad.se/ec-event/oktober-quiz/
LOCATION:Restaurang Sjövik\, Solskensvägen 8\, Motala\, 59172
CATEGORIES:Musik
ATTACH;FMTTYPE=image/jpeg:https://motalasjostad.se/wp-content/uploads/2025/10/Oktober-quiz-e1759397705606.jpg
ORGANIZER;CN="Restaurang Sj%C3%B6vik":MAILTO:bokningar@restaurangsjovik.se
END:VEVENT
BEGIN:VEVENT
DTSTART;TZID=Europe/Paris:20241025T190000
DTEND;TZID=Europe/Paris:20241025T213000
DTSTAMP:20260425T190348
CREATED:20241008T072806Z
LAST-MODIFIED:20241008T073021Z
UID:10003668-1729882800-1729891800@motalasjostad.se
SUMMARY:Quiz på Sjövik 25 oktober 19:00
DESCRIPTION:25 oktober\, 19:00 \nQuiz på Restaurang Sjövik med quizmaster Henrik Elofsson! \nAfter-work priser på mat och dryck från klockan 16. \n  \nQuizet startar 19:00\, anmälan sker på plats. Avgift för quiz är 25kr och hela summan går till ett presentkort på Sjövik till kvällens vinnare. \n  \nFör bordsbokning\, ring 073 558 33 41 eller gå in på www.restaurangsjovik.se
URL:https://motalasjostad.se/ec-event/quiz-pa-sjovik-25-oktober-1900/
LOCATION:Restaurang Sjövik\, Solskensvägen 8\, Motala\, 59172
ATTACH;FMTTYPE=image/jpeg:https://motalasjostad.se/wp-content/uploads/2024/10/inbound2410709529034150469-scaled-e1728372607732.jpg
ORGANIZER;CN="Restaurang Sj%C3%B6vik":MAILTO:bokningar@restaurangsjovik.se
END:VEVENT
END:VCALENDAR