BEGIN:VCALENDAR
VERSION:2.0
PRODID:-//Motala Sjöstad - ECPv6.13.2.1//NONSGML v1.0//EN
CALSCALE:GREGORIAN
METHOD:PUBLISH
X-ORIGINAL-URL:https://motalasjostad.se
X-WR-CALDESC:Händelser för Motala Sjöstad
REFRESH-INTERVAL;VALUE=DURATION:PT1H
X-Robots-Tag:noindex
X-PUBLISHED-TTL:PT1H
BEGIN:VTIMEZONE
TZID:Europe/Paris
BEGIN:DAYLIGHT
TZOFFSETFROM:+0100
TZOFFSETTO:+0200
TZNAME:CEST
DTSTART:20240331T010000
END:DAYLIGHT
BEGIN:STANDARD
TZOFFSETFROM:+0200
TZOFFSETTO:+0100
TZNAME:CET
DTSTART:20241027T010000
END:STANDARD
BEGIN:DAYLIGHT
TZOFFSETFROM:+0100
TZOFFSETTO:+0200
TZNAME:CEST
DTSTART:20250330T010000
END:DAYLIGHT
BEGIN:STANDARD
TZOFFSETFROM:+0200
TZOFFSETTO:+0100
TZNAME:CET
DTSTART:20251026T010000
END:STANDARD
END:VTIMEZONE
BEGIN:VEVENT
DTSTART;TZID=Europe/Paris:20250719T100000
DTEND;TZID=Europe/Paris:20250719T100000
DTSTAMP:20260424T192243
CREATED:20250614T110241Z
LAST-MODIFIED:20250714T073552Z
UID:10007684-1752919200-1752919200@motalasjostad.se
SUMMARY:Folkracefestivalen i Motala
DESCRIPTION:Välkommen på en härlig vecka på Dunteberget med mycket action 🚗💨🏁 \nBiljetter säljs på tickster.com https://www.tickster.com/se/sv/events/d664eya98jet7jy/2025-07-15/folkracefestivalen-i-motala-2025\nPriser:\n100 kr/dag eller 400 kr för en 5-dagarsbiljett vid förköp.\n120 kr/dag eller 500 kr för en 5-dagarsbiljett vid köp i entrén.\nFri entré under 15 år.\nFörsta start 10.00 samtliga dagar.
URL:https://motalasjostad.se/ec-event/fiolracefestivalen-i-motala/2025-07-19/
LOCATION:Dunteberget\, Vinnerstadsvägen 47\, Motala\, 591 45
CATEGORIES:Sportevenemang,Större evenemang
ATTACH;FMTTYPE=image/jpeg:https://motalasjostad.se/wp-content/uploads/2025/06/Folkracefestivalen.jpg
ORGANIZER;CN="SMK Motala Bil":MAILTO:kansli@smkmotalabil.com
END:VEVENT
BEGIN:VEVENT
DTSTART;TZID=Europe/Paris:20250718T100000
DTEND;TZID=Europe/Paris:20250718T100000
DTSTAMP:20260424T192243
CREATED:20250614T110241Z
LAST-MODIFIED:20250714T073552Z
UID:10007683-1752832800-1752832800@motalasjostad.se
SUMMARY:Folkracefestivalen i Motala
DESCRIPTION:Välkommen på en härlig vecka på Dunteberget med mycket action 🚗💨🏁 \nBiljetter säljs på tickster.com https://www.tickster.com/se/sv/events/d664eya98jet7jy/2025-07-15/folkracefestivalen-i-motala-2025\nPriser:\n100 kr/dag eller 400 kr för en 5-dagarsbiljett vid förköp.\n120 kr/dag eller 500 kr för en 5-dagarsbiljett vid köp i entrén.\nFri entré under 15 år.\nFörsta start 10.00 samtliga dagar.
URL:https://motalasjostad.se/ec-event/fiolracefestivalen-i-motala/2025-07-18/
LOCATION:Dunteberget\, Vinnerstadsvägen 47\, Motala\, 591 45
CATEGORIES:Sportevenemang,Större evenemang
ATTACH;FMTTYPE=image/jpeg:https://motalasjostad.se/wp-content/uploads/2025/06/Folkracefestivalen.jpg
ORGANIZER;CN="SMK Motala Bil":MAILTO:kansli@smkmotalabil.com
END:VEVENT
BEGIN:VEVENT
DTSTART;TZID=Europe/Paris:20250717T100000
DTEND;TZID=Europe/Paris:20250717T100000
DTSTAMP:20260424T192243
CREATED:20250614T110241Z
LAST-MODIFIED:20250714T073552Z
UID:10007682-1752746400-1752746400@motalasjostad.se
SUMMARY:Folkracefestivalen i Motala
DESCRIPTION:Välkommen på en härlig vecka på Dunteberget med mycket action 🚗💨🏁 \nBiljetter säljs på tickster.com https://www.tickster.com/se/sv/events/d664eya98jet7jy/2025-07-15/folkracefestivalen-i-motala-2025\nPriser:\n100 kr/dag eller 400 kr för en 5-dagarsbiljett vid förköp.\n120 kr/dag eller 500 kr för en 5-dagarsbiljett vid köp i entrén.\nFri entré under 15 år.\nFörsta start 10.00 samtliga dagar.
URL:https://motalasjostad.se/ec-event/fiolracefestivalen-i-motala/2025-07-17/
LOCATION:Dunteberget\, Vinnerstadsvägen 47\, Motala\, 591 45
CATEGORIES:Sportevenemang,Större evenemang
ATTACH;FMTTYPE=image/jpeg:https://motalasjostad.se/wp-content/uploads/2025/06/Folkracefestivalen.jpg
ORGANIZER;CN="SMK Motala Bil":MAILTO:kansli@smkmotalabil.com
END:VEVENT
BEGIN:VEVENT
DTSTART;TZID=Europe/Paris:20250716T100000
DTEND;TZID=Europe/Paris:20250716T100000
DTSTAMP:20260424T192243
CREATED:20250614T110241Z
LAST-MODIFIED:20250714T073552Z
UID:10007681-1752660000-1752660000@motalasjostad.se
SUMMARY:Folkracefestivalen i Motala
DESCRIPTION:Välkommen på en härlig vecka på Dunteberget med mycket action 🚗💨🏁 \nBiljetter säljs på tickster.com https://www.tickster.com/se/sv/events/d664eya98jet7jy/2025-07-15/folkracefestivalen-i-motala-2025\nPriser:\n100 kr/dag eller 400 kr för en 5-dagarsbiljett vid förköp.\n120 kr/dag eller 500 kr för en 5-dagarsbiljett vid köp i entrén.\nFri entré under 15 år.\nFörsta start 10.00 samtliga dagar.
URL:https://motalasjostad.se/ec-event/fiolracefestivalen-i-motala/2025-07-16/
LOCATION:Dunteberget\, Vinnerstadsvägen 47\, Motala\, 591 45
CATEGORIES:Sportevenemang,Större evenemang
ATTACH;FMTTYPE=image/jpeg:https://motalasjostad.se/wp-content/uploads/2025/06/Folkracefestivalen.jpg
ORGANIZER;CN="SMK Motala Bil":MAILTO:kansli@smkmotalabil.com
END:VEVENT
BEGIN:VEVENT
DTSTART;TZID=Europe/Paris:20250715T100000
DTEND;TZID=Europe/Paris:20250715T160000
DTSTAMP:20260424T192243
CREATED:20250614T110241Z
LAST-MODIFIED:20250714T073552Z
UID:10007449-1752573600-1752595200@motalasjostad.se
SUMMARY:Folkracefestivalen i Motala
DESCRIPTION:Välkommen på en härlig vecka på Dunteberget med mycket action 🚗💨🏁 \nBiljetter säljs på tickster.com https://www.tickster.com/se/sv/events/d664eya98jet7jy/2025-07-15/folkracefestivalen-i-motala-2025\nPriser:\n100 kr/dag eller 400 kr för en 5-dagarsbiljett vid förköp.\n120 kr/dag eller 500 kr för en 5-dagarsbiljett vid köp i entrén.\nFri entré under 15 år.\nFörsta start 10.00 samtliga dagar.
URL:https://motalasjostad.se/ec-event/fiolracefestivalen-i-motala/2025-07-15/
LOCATION:Dunteberget\, Vinnerstadsvägen 47\, Motala\, 591 45
CATEGORIES:Sportevenemang,Större evenemang
ATTACH;FMTTYPE=image/jpeg:https://motalasjostad.se/wp-content/uploads/2025/06/Folkracefestivalen.jpg
ORGANIZER;CN="SMK Motala Bil":MAILTO:kansli@smkmotalabil.com
END:VEVENT
BEGIN:VEVENT
DTSTART;TZID=Europe/Paris:20250705T100000
DTEND;TZID=Europe/Paris:20250705T150000
DTSTAMP:20260424T192243
CREATED:20250702T101912Z
LAST-MODIFIED:20250702T101912Z
UID:10007649-1751709600-1751727600@motalasjostad.se
SUMMARY:SMK Motala Bil på Sommartorget
DESCRIPTION:Lördagen den 5 juli finns SMK Motala Bil på plats på Stora torget! \nProvsitt deras bil\, prata med ungdomarna som kör och lär dig mer om allt som klubben gör. \nDessutom är lekytan på Sommartorget öppen för lek och skoj. \nVälkomna!
URL:https://motalasjostad.se/ec-event/smk-motala-bil-pa-sommartorget/
LOCATION:Stora Torget Motala
CATEGORIES:Barn/ungdom
ATTACH;FMTTYPE=image/jpeg:https://motalasjostad.se/wp-content/uploads/2025/07/inlagg-smk-bil2.jpg
ORGANIZER;CN="SMK Motala Bil":MAILTO:kansli@smkmotalabil.com
END:VEVENT
BEGIN:VEVENT
DTSTART;TZID=Europe/Paris:20250421T110000
DTEND;TZID=Europe/Paris:20250421T163000
DTSTAMP:20260424T192243
CREATED:20250206T083751Z
LAST-MODIFIED:20250206T083751Z
UID:10004138-1745233200-1745253000@motalasjostad.se
SUMMARY:SBF-Bilcross Cup Premiär
DESCRIPTION:Premiär i SBF-Bilcross Cup! \nFör andra året i rad startar Bilcross-säsongen på Dunteberget i Motala. Se när Sveriges vassaste chaufförer och Bilcross-bilar gör sin säsongsdebut. Tävlingsdagen startar 11:00 med den första kvalomgången. \nVälkomna till Dunteberget i Påsk!
URL:https://motalasjostad.se/ec-event/sbf-bilcross-cup-premiar-2/
LOCATION:Dunteberget\, Vinnerstadsvägen 47\, Motala\, 591 45
CATEGORIES:Sportevenemang
ATTACH;FMTTYPE=image/png:https://motalasjostad.se/wp-content/uploads/2025/02/Kopia-av-Facebook-inlagg.png
ORGANIZER;CN="SMK Motala Bil":MAILTO:kansli@smkmotalabil.com
END:VEVENT
BEGIN:VEVENT
DTSTART;TZID=Europe/Paris:20240720T100000
DTEND;TZID=Europe/Paris:20240720T100000
DTSTAMP:20260424T192243
CREATED:20240528T123254Z
LAST-MODIFIED:20240528T123841Z
UID:10002795-1721469600-1721469600@motalasjostad.se
SUMMARY:Folkrace Festivalen 2024
DESCRIPTION:16-20 juli är det äntligen dags att för årets Folkracefestival på Dunteberget i Motala!\nFörsta start är klockan 10.00 varje dag och det bjuds på rafflande action för hela familjen.\nKom se snabba race\, hårda kamper och rejäla crasher. En riktig fartfylld underhållning hela veckan.  \nEntréinfo: \nEntré förköp via Tickster.com\nTisdag-Lördag 100:-/dag.\n5 dagarsbiljett 400:- \nEntré på plats\nTisdag-Lördag 120:-/dag.\n5 dagarsbiljett 500:- \nBarn under 15 år fri entré
URL:https://motalasjostad.se/ec-event/folkrace-festivalen-2024/2024-07-20/
LOCATION:Dunteberget\, Vinnerstadsvägen 47\, Motala\, 591 45
ATTACH;FMTTYPE=image/jpeg:https://motalasjostad.se/wp-content/uploads/2024/05/Fokrace-2024.jpg
ORGANIZER;CN="SMK Motala Bil":MAILTO:kansli@smkmotalabil.com
END:VEVENT
BEGIN:VEVENT
DTSTART;TZID=Europe/Paris:20240719T100000
DTEND;TZID=Europe/Paris:20240719T100000
DTSTAMP:20260424T192243
CREATED:20240528T123254Z
LAST-MODIFIED:20240528T123841Z
UID:10002794-1721383200-1721383200@motalasjostad.se
SUMMARY:Folkrace Festivalen 2024
DESCRIPTION:16-20 juli är det äntligen dags att för årets Folkracefestival på Dunteberget i Motala!\nFörsta start är klockan 10.00 varje dag och det bjuds på rafflande action för hela familjen.\nKom se snabba race\, hårda kamper och rejäla crasher. En riktig fartfylld underhållning hela veckan.  \nEntréinfo: \nEntré förköp via Tickster.com\nTisdag-Lördag 100:-/dag.\n5 dagarsbiljett 400:- \nEntré på plats\nTisdag-Lördag 120:-/dag.\n5 dagarsbiljett 500:- \nBarn under 15 år fri entré
URL:https://motalasjostad.se/ec-event/folkrace-festivalen-2024/2024-07-19/
LOCATION:Dunteberget\, Vinnerstadsvägen 47\, Motala\, 591 45
ATTACH;FMTTYPE=image/jpeg:https://motalasjostad.se/wp-content/uploads/2024/05/Fokrace-2024.jpg
ORGANIZER;CN="SMK Motala Bil":MAILTO:kansli@smkmotalabil.com
END:VEVENT
BEGIN:VEVENT
DTSTART;TZID=Europe/Paris:20240718T100000
DTEND;TZID=Europe/Paris:20240718T100000
DTSTAMP:20260424T192243
CREATED:20240528T123254Z
LAST-MODIFIED:20240528T123841Z
UID:10002793-1721296800-1721296800@motalasjostad.se
SUMMARY:Folkrace Festivalen 2024
DESCRIPTION:16-20 juli är det äntligen dags att för årets Folkracefestival på Dunteberget i Motala!\nFörsta start är klockan 10.00 varje dag och det bjuds på rafflande action för hela familjen.\nKom se snabba race\, hårda kamper och rejäla crasher. En riktig fartfylld underhållning hela veckan.  \nEntréinfo: \nEntré förköp via Tickster.com\nTisdag-Lördag 100:-/dag.\n5 dagarsbiljett 400:- \nEntré på plats\nTisdag-Lördag 120:-/dag.\n5 dagarsbiljett 500:- \nBarn under 15 år fri entré
URL:https://motalasjostad.se/ec-event/folkrace-festivalen-2024/2024-07-18/
LOCATION:Dunteberget\, Vinnerstadsvägen 47\, Motala\, 591 45
ATTACH;FMTTYPE=image/jpeg:https://motalasjostad.se/wp-content/uploads/2024/05/Fokrace-2024.jpg
ORGANIZER;CN="SMK Motala Bil":MAILTO:kansli@smkmotalabil.com
END:VEVENT
BEGIN:VEVENT
DTSTART;TZID=Europe/Paris:20240717T100000
DTEND;TZID=Europe/Paris:20240717T100000
DTSTAMP:20260424T192243
CREATED:20240528T123254Z
LAST-MODIFIED:20240528T123841Z
UID:10002792-1721210400-1721210400@motalasjostad.se
SUMMARY:Folkrace Festivalen 2024
DESCRIPTION:16-20 juli är det äntligen dags att för årets Folkracefestival på Dunteberget i Motala!\nFörsta start är klockan 10.00 varje dag och det bjuds på rafflande action för hela familjen.\nKom se snabba race\, hårda kamper och rejäla crasher. En riktig fartfylld underhållning hela veckan.  \nEntréinfo: \nEntré förköp via Tickster.com\nTisdag-Lördag 100:-/dag.\n5 dagarsbiljett 400:- \nEntré på plats\nTisdag-Lördag 120:-/dag.\n5 dagarsbiljett 500:- \nBarn under 15 år fri entré
URL:https://motalasjostad.se/ec-event/folkrace-festivalen-2024/2024-07-17/
LOCATION:Dunteberget\, Vinnerstadsvägen 47\, Motala\, 591 45
ATTACH;FMTTYPE=image/jpeg:https://motalasjostad.se/wp-content/uploads/2024/05/Fokrace-2024.jpg
ORGANIZER;CN="SMK Motala Bil":MAILTO:kansli@smkmotalabil.com
END:VEVENT
BEGIN:VEVENT
DTSTART;TZID=Europe/Paris:20240716T100000
DTEND;TZID=Europe/Paris:20240716T100000
DTSTAMP:20260424T192243
CREATED:20240528T123254Z
LAST-MODIFIED:20240528T123841Z
UID:10002791-1721124000-1721124000@motalasjostad.se
SUMMARY:Folkrace Festivalen 2024
DESCRIPTION:16-20 juli är det äntligen dags att för årets Folkracefestival på Dunteberget i Motala!\nFörsta start är klockan 10.00 varje dag och det bjuds på rafflande action för hela familjen.\nKom se snabba race\, hårda kamper och rejäla crasher. En riktig fartfylld underhållning hela veckan.  \nEntréinfo: \nEntré förköp via Tickster.com\nTisdag-Lördag 100:-/dag.\n5 dagarsbiljett 400:- \nEntré på plats\nTisdag-Lördag 120:-/dag.\n5 dagarsbiljett 500:- \nBarn under 15 år fri entré
URL:https://motalasjostad.se/ec-event/folkrace-festivalen-2024/2024-07-16/
LOCATION:Dunteberget\, Vinnerstadsvägen 47\, Motala\, 591 45
ATTACH;FMTTYPE=image/jpeg:https://motalasjostad.se/wp-content/uploads/2024/05/Fokrace-2024.jpg
ORGANIZER;CN="SMK Motala Bil":MAILTO:kansli@smkmotalabil.com
END:VEVENT
BEGIN:VEVENT
DTSTART;TZID=Europe/Paris:20240501T110000
DTEND;TZID=Europe/Paris:20240501T170000
DTSTAMP:20260424T192243
CREATED:20240329T070752Z
LAST-MODIFIED:20240329T070752Z
UID:10000721-1714561200-1714582800@motalasjostad.se
SUMMARY:SBF-Bilcross Cup premiär
DESCRIPTION:Premiär för SBF-Bilcross Cup på Dunteberget i Motala. Se Bilcross-eliten köra årets första deltävling där förarna gör upp i tre kvalomgångar på tid\, innan finalpasset där det är först mål som gäller. \nBilcross är storebror till folkrace och lillebror till rallycross. Med bilar som har effekt över 200-hästkrafter och med en vikt på under 1000kg. Så utlovas bra action den 1-maj.
URL:https://motalasjostad.se/ec-event/sbf-bilcross-cup-premiar/
LOCATION:Dunteberget\, Vinnerstadsvägen 47\, Motala\, 591 45
ATTACH;FMTTYPE=image/jpeg:https://motalasjostad.se/wp-content/uploads/2024/03/Motala-1.jpg
ORGANIZER;CN="SMK Motala Bil":MAILTO:kansli@smkmotalabil.com
END:VEVENT
END:VCALENDAR