BEGIN:VCALENDAR
VERSION:2.0
PRODID:-//Motala Sjöstad - ECPv6.13.2.1//NONSGML v1.0//EN
CALSCALE:GREGORIAN
METHOD:PUBLISH
X-WR-CALNAME:Motala Sjöstad
X-ORIGINAL-URL:https://motalasjostad.se
X-WR-CALDESC:Händelser för Motala Sjöstad
REFRESH-INTERVAL;VALUE=DURATION:PT1H
X-Robots-Tag:noindex
X-PUBLISHED-TTL:PT1H
BEGIN:VTIMEZONE
TZID:Europe/Paris
BEGIN:DAYLIGHT
TZOFFSETFROM:+0100
TZOFFSETTO:+0200
TZNAME:CEST
DTSTART:20260329T010000
END:DAYLIGHT
BEGIN:STANDARD
TZOFFSETFROM:+0200
TZOFFSETTO:+0100
TZNAME:CET
DTSTART:20261025T010000
END:STANDARD
END:VTIMEZONE
BEGIN:VEVENT
DTSTART;VALUE=DATE:20260328
DTEND;VALUE=DATE:20260423
DTSTAMP:20260420T142908
CREATED:20260225T084922Z
LAST-MODIFIED:20260225T084922Z
UID:10013968-1774656000-1776902399@motalasjostad.se
SUMMARY:Punktskriften 200 år
DESCRIPTION:Vi uppmärksammar att Louis Brailles fantastiska taktila skriftspråk fyllde 200 år 2025 med att visa SKKF:s (Synskadade Konstnärers och Konsthantverkares Förening) gemensamma konstverk ”Punktskriften 200 år”. Det är ett verk bestående av 30 taktila tavlor\, en för varje bokstav i alfabetet plus en med verkets titel. Kan ses under bibliotekets öppettider. \n 
URL:https://motalasjostad.se/ec-event/punktskriften-200-ar/
LOCATION:Motala huvudbibliotek
CATEGORIES:Utställning
ATTACH;FMTTYPE=image/png:https://motalasjostad.se/wp-content/uploads/2026/02/Utstallning-punktskriften-200-ar.png
END:VEVENT
BEGIN:VEVENT
DTSTART;VALUE=DATE:20260401
DTEND;VALUE=DATE:20260501
DTSTAMP:20260420T142908
CREATED:20260323T081503Z
LAST-MODIFIED:20260323T081503Z
UID:10014052-1775001600-1777593599@motalasjostad.se
SUMMARY:Birds in action - fåglar i rörelse
DESCRIPTION:Lars Eriksson\, naturfotograf från Motala med ett särskilt intresse för fåglar. Genom kameran försöker han fånga deras rörelser\, beteenden och de korta ögonblick som uppstår i naturen. Fåglar lever i ständig rörelse. I flykt\, i jakt efter föda eller i samspelet med andra fåglar. I den här utställningen har han försökt fånga några av dessa ögonblick i deras naturliga miljö. ”För mig handlar fågelfotografering om tålamod\, närvaro i naturen och ibland en gnutta tur”. Kan ses under bibliotekets öppettider.
URL:https://motalasjostad.se/ec-event/birds-in-action-faglar-i-rorelse/
LOCATION:Motala huvudbibliotek
CATEGORIES:Utställning
ATTACH;FMTTYPE=image/png:https://motalasjostad.se/wp-content/uploads/2026/03/Birds-in-action.png
END:VEVENT
BEGIN:VEVENT
DTSTART;TZID=Europe/Paris:20260420T140000
DTEND;TZID=Europe/Paris:20260420T153000
DTSTAMP:20260420T142908
CREATED:20260323T082620Z
LAST-MODIFIED:20260323T082620Z
UID:10014047-1776693600-1776699000@motalasjostad.se
SUMMARY:Läsa tillsammans
DESCRIPTION:Välkommen till Läsa tillsammans – högläsning för vuxna där vi läser noveller och dikter högt tillsammans och samtalar om det vi läser. Det krävs inga förberedelser. Vi bjuder på kaffe/te. Anmälan till biblioteket på 0141-22 51 00 eller till bibl.info@motala.se\, senast onsdag veckan innan träffen ska äga rum. \n 
URL:https://motalasjostad.se/ec-event/lasa-tillsammans-12/
LOCATION:Motala huvudbibliotek
CATEGORIES:Övriga evenemang
ATTACH;FMTTYPE=image/png:https://motalasjostad.se/wp-content/uploads/2026/03/Lasa-tillsammans.png
END:VEVENT
BEGIN:VEVENT
DTSTART;TZID=Europe/Paris:20260420T183000
DTEND;TZID=Europe/Paris:20260420T193000
DTSTAMP:20260420T142908
CREATED:20260211T093200Z
LAST-MODIFIED:20260223T105524Z
UID:10013859-1776709800-1776713400@motalasjostad.se
SUMMARY:Hundra blommor - Från fånge i krigets Syrien till frihetskämpe. OBS Nytt datum
DESCRIPTION:Föreläsare: Omar Alshogre\, syrisk flykting och människorättsaktivist. 937 dagar i fängelse. Inspärrad i en cell på tjugo kvadratmeter med nittio främlingar. Brutal tortyr och svält. En resa mot friheten genom elva länder. OBS! Begränsat antal platser. \n 
URL:https://motalasjostad.se/ec-event/hundra-blommor-fran-fange-i-krigets-syrien-till-frihetskampe/
LOCATION:Motala huvudbibliotek
CATEGORIES:Gudningar och föreläsningar
ATTACH;FMTTYPE=image/png:https://motalasjostad.se/wp-content/uploads/2026/02/Omar-Alshogre-e1770802308828.png
END:VEVENT
BEGIN:VEVENT
DTSTART;TZID=Europe/Paris:20260420T190000
DTEND;TZID=Europe/Paris:20260420T200000
DTSTAMP:20260420T142908
CREATED:20260408T101156Z
LAST-MODIFIED:20260408T101239Z
UID:10014148-1776711600-1776715200@motalasjostad.se
SUMMARY:Dansens vecka: Connected
DESCRIPTION:Ett koreografiskt möte mellan två dansvärldar; flamencons känsloladdade styrka och den samtida dansens uttrycksfulla frihet. Med dansarna Ann Sehlstedt och Angel Gutierrez utvecklas en intim dialog mellan kroppar som söker\, konfronterar och omfamnar varandra – avslöjande universella känslor som passion\, ensamhet\, glädje och smärta.Här bygger varje rörelse en kraftfull poetisk upplevelse som överskrider både stilar och ord. En dans om vad som skiljer oss åt – och framför allt\, vad som förenar oss!\n\nBiljettpris:Ordinarie 50 kr\,med Scenpass 25 kr\,med Platenkort 25 kr\,Ungdom under 25 år 25 kr.Biljetter köps via Tickster eller hos Rapps foto i Motala och Linköping.\nCONNECTED arrangeras inom arrangörsnätverket DansARR Öst och som en del av Dansens vecka i Östergötland 2026.
URL:https://motalasjostad.se/ec-event/dansens-vecka-connected/
LOCATION:Motala Folkets Hus\, Repslagaregatan 3\, Motala\, Sverige
CATEGORIES:Teater & show
ATTACH;FMTTYPE=image/jpeg:https://motalasjostad.se/wp-content/uploads/2026/04/connected-e1775643155985.jpg
ORGANIZER;CN="Motala Teaterf%C3%B6rening":MAILTO:motala,tf@gmail.com
GEO:58.535514875897;15.03563263654
X-APPLE-STRUCTURED-LOCATION;VALUE=URI;X-ADDRESS=Motala Folkets Hus Repslagaregatan 3 Motala Sverige;X-APPLE-RADIUS=500;X-TITLE=Repslagaregatan 3:geo:15.03563263654,58.535514875897
END:VEVENT
END:VCALENDAR