BEGIN:VCALENDAR
VERSION:2.0
PRODID:-//Motala Sjöstad - ECPv6.13.2.1//NONSGML v1.0//EN
CALSCALE:GREGORIAN
METHOD:PUBLISH
X-WR-CALNAME:Motala Sjöstad
X-ORIGINAL-URL:https://motalasjostad.se
X-WR-CALDESC:Händelser för Motala Sjöstad
REFRESH-INTERVAL;VALUE=DURATION:PT1H
X-Robots-Tag:noindex
X-PUBLISHED-TTL:PT1H
BEGIN:VTIMEZONE
TZID:Europe/Paris
BEGIN:DAYLIGHT
TZOFFSETFROM:+0100
TZOFFSETTO:+0200
TZNAME:CEST
DTSTART:20260329T010000
END:DAYLIGHT
BEGIN:STANDARD
TZOFFSETFROM:+0200
TZOFFSETTO:+0100
TZNAME:CET
DTSTART:20261025T010000
END:STANDARD
END:VTIMEZONE
BEGIN:VEVENT
DTSTART;VALUE=DATE:20260328
DTEND;VALUE=DATE:20260423
DTSTAMP:20260421T140628
CREATED:20260225T084922Z
LAST-MODIFIED:20260225T084922Z
UID:10013968-1774656000-1776902399@motalasjostad.se
SUMMARY:Punktskriften 200 år
DESCRIPTION:Vi uppmärksammar att Louis Brailles fantastiska taktila skriftspråk fyllde 200 år 2025 med att visa SKKF:s (Synskadade Konstnärers och Konsthantverkares Förening) gemensamma konstverk ”Punktskriften 200 år”. Det är ett verk bestående av 30 taktila tavlor\, en för varje bokstav i alfabetet plus en med verkets titel. Kan ses under bibliotekets öppettider. \n 
URL:https://motalasjostad.se/ec-event/punktskriften-200-ar/
LOCATION:Motala huvudbibliotek
CATEGORIES:Utställning
ATTACH;FMTTYPE=image/png:https://motalasjostad.se/wp-content/uploads/2026/02/Utstallning-punktskriften-200-ar.png
END:VEVENT
BEGIN:VEVENT
DTSTART;VALUE=DATE:20260401
DTEND;VALUE=DATE:20260501
DTSTAMP:20260421T140628
CREATED:20260323T081503Z
LAST-MODIFIED:20260323T081503Z
UID:10014052-1775001600-1777593599@motalasjostad.se
SUMMARY:Birds in action - fåglar i rörelse
DESCRIPTION:Lars Eriksson\, naturfotograf från Motala med ett särskilt intresse för fåglar. Genom kameran försöker han fånga deras rörelser\, beteenden och de korta ögonblick som uppstår i naturen. Fåglar lever i ständig rörelse. I flykt\, i jakt efter föda eller i samspelet med andra fåglar. I den här utställningen har han försökt fånga några av dessa ögonblick i deras naturliga miljö. ”För mig handlar fågelfotografering om tålamod\, närvaro i naturen och ibland en gnutta tur”. Kan ses under bibliotekets öppettider.
URL:https://motalasjostad.se/ec-event/birds-in-action-faglar-i-rorelse/
LOCATION:Motala huvudbibliotek
CATEGORIES:Utställning
ATTACH;FMTTYPE=image/png:https://motalasjostad.se/wp-content/uploads/2026/03/Birds-in-action.png
END:VEVENT
BEGIN:VEVENT
DTSTART;TZID=Europe/Paris:20260421T093000
DTEND;TZID=Europe/Paris:20260421T100000
DTSTAMP:20260421T140628
CREATED:20260323T113923Z
LAST-MODIFIED:20260323T113923Z
UID:10014079-1776763800-1776765600@motalasjostad.se
SUMMARY:Saga och sång
DESCRIPTION:Från 2 år. Vi läser sagor och sjunger. Givetvis är syskon också välkomna. Ta gärna med matsäck om du vill fika efteråt. Vi önskar att grupper för-anmäler på biblioteket eller på 0141-22 58 75.
URL:https://motalasjostad.se/ec-event/saga-och-sang-18/2026-04-21/
LOCATION:Borensbergs Bibliotek\, Husbyvägen 13\, Borensberg\, 59175
CATEGORIES:Barn/ungdom
ATTACH;FMTTYPE=image/png:https://motalasjostad.se/wp-content/uploads/2026/03/BBG-Saga-och-sang.png
END:VEVENT
BEGIN:VEVENT
DTSTART;TZID=Europe/Paris:20260421T100000
DTEND;TZID=Europe/Paris:20260421T113000
DTSTAMP:20260421T140628
CREATED:20260323T083332Z
LAST-MODIFIED:20260323T083332Z
UID:10014023-1776765600-1776771000@motalasjostad.se
SUMMARY:Digitala första hjälpen
DESCRIPTION:Välkommen till vår drop-in där vi svarar på dina grundläggande frågor om IT. Ta gärna med din telefon\, surfplatta eller laptop. Här kan du även få hjälp med att hantera Konsumentverkets hemsida.
URL:https://motalasjostad.se/ec-event/digitala-forsta-hjalpen-79/2026-04-21/
LOCATION:Motala huvudbibliotek
CATEGORIES:Övriga evenemang
ATTACH;FMTTYPE=image/png:https://motalasjostad.se/wp-content/uploads/2026/03/DFH.png
END:VEVENT
BEGIN:VEVENT
DTSTART;TZID=Europe/Paris:20260421T140000
DTEND;TZID=Europe/Paris:20260421T150000
DTSTAMP:20260421T140628
CREATED:20260211T095221Z
LAST-MODIFIED:20260211T095221Z
UID:10013868-1776780000-1776783600@motalasjostad.se
SUMMARY:Favorit i repris - Motalas butiker och handlare
DESCRIPTION:Favorit i repris – under våren tar vi tillbaka några av favoriterna från våra tidigare föreläsningsserier. \nVi berättar om kända butiker och kedjor\, varuhus och handlare i Motala centrum. Vi tar upp torghandeln\, minnesvärda händelser och stadens förändringar under 1960- och 70-talen.
URL:https://motalasjostad.se/ec-event/favorit-i-repris-motalas-butiker-och-handlare/2026-04-21/1/
LOCATION:Svecia Travels kontor\, Poppelgatan 8\, Motala
CATEGORIES:Gudningar och föreläsningar
ATTACH;FMTTYPE=image/jpeg:https://motalasjostad.se/wp-content/uploads/2026/02/Motalas-butiker-handlare.jpg
ORGANIZER;CN="Svecia Travels":MAILTO:info@sveciatravels.se
END:VEVENT
BEGIN:VEVENT
DTSTART;TZID=Europe/Paris:20260421T153000
DTEND;TZID=Europe/Paris:20260421T163000
DTSTAMP:20260421T140628
CREATED:20260323T114308Z
LAST-MODIFIED:20260323T114308Z
UID:10014066-1776785400-1776789000@motalasjostad.se
SUMMARY:MangaMania - Mysterier
DESCRIPTION:Gillar du att läsa manga eller titta på anime? Gillar du att ge och få bok- och filmtips? Då är MangaMania något för dig! Denna gång pratar vi mysterier och tipsar om Fullmetal Alchemist\, The Apothecary Diaries och Magnus of the Library. Ingen anmälan. \n 
URL:https://motalasjostad.se/ec-event/mangamania-mysterier/
LOCATION:Motala huvudbibliotek
CATEGORIES:Barn/ungdom
ATTACH;FMTTYPE=image/png:https://motalasjostad.se/wp-content/uploads/2026/03/MangaMania.png
END:VEVENT
BEGIN:VEVENT
DTSTART;TZID=Europe/Paris:20260421T170000
DTEND;TZID=Europe/Paris:20260421T190000
DTSTAMP:20260421T140628
CREATED:20260323T083249Z
LAST-MODIFIED:20260323T083249Z
UID:10014034-1776790800-1776798000@motalasjostad.se
SUMMARY:Språkträning
DESCRIPTION:På Motala huvudbibliotek finns möjligheten att få hjälp med att träna på det svenska språket\, tyda krångliga brev\, skriva jobbansökningar med mera. I samarbete med Folkuniversitetet. \n 
URL:https://motalasjostad.se/ec-event/spraktraning-46/2026-04-21/
LOCATION:Motala huvudbibliotek
CATEGORIES:Övriga evenemang
ATTACH;FMTTYPE=image/png:https://motalasjostad.se/wp-content/uploads/2026/03/Spraktraning.png
END:VEVENT
BEGIN:VEVENT
DTSTART;TZID=Europe/Paris:20260421T180000
DTEND;TZID=Europe/Paris:20260421T190000
DTSTAMP:20260421T140628
CREATED:20260211T095221Z
LAST-MODIFIED:20260211T095221Z
UID:10013869-1776794400-1776798000@motalasjostad.se
SUMMARY:Favorit i repris - Motalas butiker och handlare
DESCRIPTION:Favorit i repris – under våren tar vi tillbaka några av favoriterna från våra tidigare föreläsningsserier. \nVi berättar om kända butiker och kedjor\, varuhus och handlare i Motala centrum. Vi tar upp torghandeln\, minnesvärda händelser och stadens förändringar under 1960- och 70-talen.
URL:https://motalasjostad.se/ec-event/favorit-i-repris-motalas-butiker-och-handlare/2026-04-21/2/
LOCATION:Svecia Travels kontor\, Poppelgatan 8\, Motala
CATEGORIES:Gudningar och föreläsningar
ATTACH;FMTTYPE=image/jpeg:https://motalasjostad.se/wp-content/uploads/2026/02/Motalas-butiker-handlare.jpg
ORGANIZER;CN="Svecia Travels":MAILTO:info@sveciatravels.se
END:VEVENT
BEGIN:VEVENT
DTSTART;TZID=Europe/Paris:20260421T193000
DTEND;TZID=Europe/Paris:20260421T210000
DTSTAMP:20260421T140628
CREATED:20260206T103142Z
LAST-MODIFIED:20260206T103142Z
UID:10013838-1776799800-1776805200@motalasjostad.se
SUMMARY:Viktor Norén
DESCRIPTION:Viktor Norén åker ut på soloturné med sin debutbok \nNu i vår åker Viktor Norén ut på en personlig och avskalad turné där hans hyllade debutbok “Jag går min väg” står i centrum. Ensam på scen ger han boken liv när han genom musik och berättelser delar med sig av de låtar och historier som format honom.  \n21 april kommer Viktor Norén till Teatersalongen Motala Folkets hus med “En musikalisk berättelse – Jag går min väg”  \n– Genom låtarna som format mig ger jag musikaliskt liv åt min debutbok Jag går min väg – historien om en pojke från Borlänge som följer musiken ut i världen. En slingrig väg fylld av framgångar\, bakslag\, vänskap\, förluster och den där envisa tron på att det alltid finns något bättre runt hörnet. Allt från Beatles\, musikaler och folkmusiken från Dalarna till vistraditionen jag vuxit upp med och låtarna som blivit kompasser genom livet. Musiken tar vid där orden stannar. Det blir en konsert med skratt\, gråt och stora känslor\, säger Viktor Norén \nTurnén är ett nytt kapitel i Viktors Noréns resa och det blir en personlig kväll där boken möter musiken som bar den fram. Boken “Jag går min väg” har även hyllats av några av Sveriges främsta författare: \n»Man börjar ju undra om Viktor Norén egentligen är en hel liten fabrik av begåvningar förklädd till en person. Först musiken\, nu en bok som är både hysteriskt rolig\, gripande och dessutom briljant skriven. Hatten av.«\nPascal Engman \n»En helt enkelt ljuvlig bok om musik\, vänskap\, förlust och att hitta sin väg i livet.«\nCamilla Läckberg \n»… stilsäker och otroligt rolig som författare.«\nDiamant Salihu \n  \nFöreställning 90 min (ingen paus)
URL:https://motalasjostad.se/ec-event/viktor-noren/
LOCATION:Folkets Hus; Teatersalongen\, Sjögatan 5\, Motala
CATEGORIES:Musik
ATTACH;FMTTYPE=image/jpeg:https://motalasjostad.se/wp-content/uploads/2026/02/viktor-noren.jpg
END:VEVENT
END:VCALENDAR