BEGIN:VCALENDAR
VERSION:2.0
PRODID:-//Motala Sjöstad - ECPv6.13.2.1//NONSGML v1.0//EN
CALSCALE:GREGORIAN
METHOD:PUBLISH
X-WR-CALNAME:Motala Sjöstad
X-ORIGINAL-URL:https://motalasjostad.se
X-WR-CALDESC:Händelser för Motala Sjöstad
REFRESH-INTERVAL;VALUE=DURATION:PT1H
X-Robots-Tag:noindex
X-PUBLISHED-TTL:PT1H
BEGIN:VTIMEZONE
TZID:Europe/Paris
BEGIN:DAYLIGHT
TZOFFSETFROM:+0100
TZOFFSETTO:+0200
TZNAME:CEST
DTSTART:20250330T010000
END:DAYLIGHT
BEGIN:STANDARD
TZOFFSETFROM:+0200
TZOFFSETTO:+0100
TZNAME:CET
DTSTART:20251026T010000
END:STANDARD
END:VTIMEZONE
BEGIN:VEVENT
DTSTART;TZID=Europe/Paris:20250301T220000
DTEND;TZID=Europe/Paris:20250301T220000
DTSTAMP:20260423T172944
CREATED:20250221T085340Z
LAST-MODIFIED:20250221T085340Z
UID:10004239-1740866400-1740866400@motalasjostad.se
SUMMARY:Rock´n´roll
DESCRIPTION:Häng med Compact på en riktig rockkväll på restaurang Wetternmagasinet. Massor av kall dryck finnes i baren.Entré 100kr efter kl 21:00
URL:https://motalasjostad.se/ec-event/rocknroll/
LOCATION:Restaurang Wetternmagasinet\, Platensgatan 4\,\, Motala\, 591 35
CATEGORIES:Musik
ATTACH;FMTTYPE=image/jpeg:https://motalasjostad.se/wp-content/uploads/2025/02/compact.jpg
ORGANIZER;CN="Restaurang Wetternmagasinet - Compact":MAILTO:info@wmagasinet.se
END:VEVENT
BEGIN:VEVENT
DTSTART;TZID=Europe/Paris:20250301T220000
DTEND;TZID=Europe/Paris:20250302T020000
DTSTAMP:20260423T172944
CREATED:20250130T100057Z
LAST-MODIFIED:20250306T102803Z
UID:10004126-1740866400-1740880800@motalasjostad.se
SUMMARY:Party & Schlager
DESCRIPTION:Lönelördagen den 1 mars öppnar vi på allmän begäran upp SH till en riktigt härlig party- och schlagerkväll för den något äldre publiken! Kvällens DJ står redo att leverera de absolut bästa partyhitsen från förr fram tills idag\, baren är fylld med fantastiska erbjudanden och dessutom slänger vi in en Happy Hour i potten mellan 22-23! Kom och fira lönehelgen med oss på SH!\n\n\nEarly bird: 100 SEK (Släpps nu direkt på Nortic.se – OBS! Begränsat antal)\n\n\nTider: 22.00-02.00\nÅlder: 23+ (Rek)\n– OBS! Obl. legkontroll. Fysisk legitimation krävs. Användning av falskt id / annan persons id polisanmäls på plats.\n\n\nVarmt välkomna!
URL:https://motalasjostad.se/ec-event/party-schlager/
LOCATION:Saluhallen Motala\, Prästgatan 8\, Motala\, 59130
CATEGORIES:Musik
ATTACH;FMTTYPE=image/jpeg:https://motalasjostad.se/wp-content/uploads/2025/01/party-schlager-1-e1738231250951.jpg
ORGANIZER;CN="SH Eventcenter":MAILTO:hej@saluhallenmotala.se
END:VEVENT
BEGIN:VEVENT
DTSTART;TZID=Europe/Paris:20250302T080000
DTEND;TZID=Europe/Paris:20250302T170000
DTSTAMP:20260423T172944
CREATED:20250213T125326Z
LAST-MODIFIED:20250220T130629Z
UID:10004174-1740902400-1740934800@motalasjostad.se
SUMMARY:Konstutställning
DESCRIPTION:Maria Wallin\, fotografi\nHoppas att några av fotografierna kan intressera\, överraska\, förvirra eller pigga upp säger Maria. Fotograferandet är ett sätt att titta närmare på sin omgivning och ibland upptäcka något nytt. Bilderna är tagna både med vanliga kamera och med drönare. Ibland nära\, ibland på längre håll.
URL:https://motalasjostad.se/ec-event/konstutstallning-4/2025-03-02/
LOCATION:Galleri K-ringen\, Ringgatan 6\, Motala\, Östergötland.\, 591 60
CATEGORIES:Utställning
ATTACH;FMTTYPE=image/jpeg:https://motalasjostad.se/wp-content/uploads/2025/02/fb-25-02-15-ramad.jpeg
ORGANIZER;CN="Galleri K-ringen":MAILTO:info@k-ringenmotala.se
END:VEVENT
BEGIN:VEVENT
DTSTART;TZID=Europe/Paris:20250304T093000
DTEND;TZID=Europe/Paris:20250304T100000
DTSTAMP:20260423T172944
CREATED:20250225T074157Z
LAST-MODIFIED:20250225T074157Z
UID:10004299-1741080600-1741082400@motalasjostad.se
SUMMARY:Minibio - Vem är var?
DESCRIPTION:Barntillåten. Vem är var  är en kortfilm baserad på en bilderbok av Stina Wirsén  Nalle letar efter sina kompisar\, hon ringer på hos alla… Speltid: 30 minuter. Begränsat antal platser\, därför erbjuder vi två tillfällen att välja på. Anmäl dig på biblioteket eller på 0141-22 58 75.
URL:https://motalasjostad.se/ec-event/minibio-vem-ar-var-3/
LOCATION:Borensbergs Bibliotek\, Husbyvägen 13\, Borensberg\, 59175
CATEGORIES:Barn/ungdom
ATTACH;FMTTYPE=image/png:https://motalasjostad.se/wp-content/uploads/2025/02/Minibio-2024-1.png
END:VEVENT
BEGIN:VEVENT
DTSTART;TZID=Europe/Paris:20250304T103000
DTEND;TZID=Europe/Paris:20250304T120000
DTSTAMP:20260423T172944
CREATED:20250221T111046Z
LAST-MODIFIED:20250225T092039Z
UID:10004240-1741084200-1741089600@motalasjostad.se
SUMMARY:Digitala första hjälpen
DESCRIPTION:Välkommen till vår drop-in där vi svarar på dina grundläggande frågor om IT. Ta gärna med din telefon\, surfplatta eller laptop. På onsdagar kan du även få hjälp med att hantera Konsumentverkets sida Hallå konsument.
URL:https://motalasjostad.se/ec-event/digitala-forsta-hjalpen-52/2025-03-04/
LOCATION:Motala huvudbibliotek
CATEGORIES:Övriga evenemang
ATTACH;FMTTYPE=image/jpeg:https://motalasjostad.se/wp-content/uploads/2025/02/DFH-HT-24.jpg
END:VEVENT
BEGIN:VEVENT
DTSTART;TZID=Europe/Paris:20250304T153000
DTEND;TZID=Europe/Paris:20250304T163000
DTSTAMP:20260423T172944
CREATED:20250221T102347Z
LAST-MODIFIED:20250221T102432Z
UID:10004270-1741102200-1741105800@motalasjostad.se
SUMMARY:Låt spelet börja! - Välj ditt äventyr
DESCRIPTION:Från 7 år. En gång i månaden testar vi tillsammans några av alla spel vi har på biblioteket. Denna gång provar vi tillsammans att läsa soloäventyrsboken\nDinosauriernas tid av Ævar Þór Benediktsson. Det är en bok där vi tillsammans bestämmer hur äventyret ska fortsätta och vi försöker ta de rätta besluten som leder oss oskadda igenom det. Klarar vi det? Det får vi hoppas…Ingen anmälan.
URL:https://motalasjostad.se/ec-event/lat-spelet-borja-valj-ditt-aventyr/
LOCATION:Motala huvudbibliotek
CATEGORIES:Barn/ungdom
ATTACH;FMTTYPE=image/png:https://motalasjostad.se/wp-content/uploads/2025/02/Lat-spelet-borja-Valj-ditt-aventyr-e1740133418205.png
END:VEVENT
BEGIN:VEVENT
DTSTART;TZID=Europe/Paris:20250304T170000
DTEND;TZID=Europe/Paris:20250304T190000
DTSTAMP:20260423T172944
CREATED:20250221T110710Z
LAST-MODIFIED:20250221T110710Z
UID:10004250-1741107600-1741114800@motalasjostad.se
SUMMARY:Språkträning
DESCRIPTION:På Motala huvudbibliotek finns möjligheten att få hjälp med att träna på det svenska språket\, tyda krångliga brev\, skriva jobbansökningar med mera.\nI samarbete med Folkuniversitetet \n 
URL:https://motalasjostad.se/ec-event/spraktraning-33/2025-03-04/
LOCATION:Motala huvudbibliotek
CATEGORIES:Övriga evenemang
ATTACH;FMTTYPE=image/png:https://motalasjostad.se/wp-content/uploads/2025/02/Spraktraning.png
END:VEVENT
BEGIN:VEVENT
DTSTART;TZID=Europe/Paris:20250304T183000
DTEND;TZID=Europe/Paris:20250304T220000
DTSTAMP:20260423T172944
CREATED:20250225T073031Z
LAST-MODIFIED:20250225T073500Z
UID:10004310-1741113000-1741125600@motalasjostad.se
SUMMARY:Motal Big Bands tisdagsdans
DESCRIPTION:Motala Big Band bjuder upp till dans \nKom och dansa eller bara sitt och njut av traditionell storbandsjazz \nMusiken börjar ca kl. 19:30
URL:https://motalasjostad.se/ec-event/motal-big-bands-tisdagsdans/2025-03-04/
LOCATION:Folkets hus\, Restaurang Sjöbris\, Sjögatan 5\, Motala\, 591 30\, Sweden
CATEGORIES:Musik
ATTACH;FMTTYPE=image/jpeg:https://motalasjostad.se/wp-content/uploads/2025/02/480146168_1095906638999919_7383493737811585476_n-e1740468615730.jpg
END:VEVENT
BEGIN:VEVENT
DTSTART;TZID=Europe/Paris:20250305T140000
DTEND;TZID=Europe/Paris:20250305T153000
DTSTAMP:20260423T172944
CREATED:20250221T110959Z
LAST-MODIFIED:20250221T110959Z
UID:10004244-1741183200-1741188600@motalasjostad.se
SUMMARY:Digitala första hjälpen
DESCRIPTION:Välkommen till vår drop-in där vi svarar på dina grundläggande frågor om IT. Ta gärna med din telefon\, surfplatta eller laptop. På onsdagar kan du även få hjälp med att hantera Konsumentverkets sida Hallå konsument.
URL:https://motalasjostad.se/ec-event/digitala-forsta-hjalpen-51/2025-03-05/
LOCATION:Motala huvudbibliotek
CATEGORIES:Övriga evenemang
ATTACH;FMTTYPE=image/jpeg:https://motalasjostad.se/wp-content/uploads/2025/02/DFH-HT-24-1.jpg
END:VEVENT
BEGIN:VEVENT
DTSTART;TZID=Europe/Paris:20250305T180000
DTEND;TZID=Europe/Paris:20250305T190000
DTSTAMP:20260423T172944
CREATED:20250221T110603Z
LAST-MODIFIED:20250221T110603Z
UID:10004258-1741197600-1741201200@motalasjostad.se
SUMMARY:Lättläst bokcirkel på Ekön
DESCRIPTION:Vi läser och pratar om en lättläst bok. För dig som vill träna på att läsa och prata svenska. \n 
URL:https://motalasjostad.se/ec-event/lattlast-bokcirkel-pa-ekon-17/2025-03-05/
LOCATION:Platens gemensamhetslokal\, Ekön\, Styvingevägen 14\, Motala
CATEGORIES:Övriga evenemang
ATTACH;FMTTYPE=image/png:https://motalasjostad.se/wp-content/uploads/2025/02/Lattlast-bokcirkle-pa-Ekon-2024.png
END:VEVENT
BEGIN:VEVENT
DTSTART;TZID=Europe/Paris:20250305T183000
DTEND;TZID=Europe/Paris:20250305T183000
DTSTAMP:20260423T172944
CREATED:20250211T092529Z
LAST-MODIFIED:20250213T103632Z
UID:10004147-1741199400-1741199400@motalasjostad.se
SUMMARY:Poseikväll med Tommy Larsson
DESCRIPTION:Boksignering av debutsamlingen”Tiden går kaffet kallnar\,” dikter som tar upp tankar om det son händer och det som har hänt ur ett sjuttioårigt perspektiv. \nBegränsat antal platser\, förboka gärna din biljett: kultur@motala.se \nSlottet är öppet från kl 16 på onsdagskvällar. \nVälkomna!
URL:https://motalasjostad.se/ec-event/poseikvall-med-tommy-larsson/
LOCATION:Charlottenborgs slott\, Strandvägen 71\, Motala\, 591 46\, Sweden
ATTACH;FMTTYPE=image/jpeg:https://motalasjostad.se/wp-content/uploads/2025/02/Slottet-baksidan-fotograf-Pia-Axelsson-e1739265909172.jpg
ORGANIZER;CN="Kultur och Fritid-Motala Kommun":MAILTO:kultur@motala.se
END:VEVENT
BEGIN:VEVENT
DTSTART;TZID=Europe/Paris:20250306T100000
DTEND;TZID=Europe/Paris:20250306T113000
DTSTAMP:20260423T172944
CREATED:20250221T110920Z
LAST-MODIFIED:20250221T110920Z
UID:10004248-1741255200-1741260600@motalasjostad.se
SUMMARY:Lättläst bokcirkel i Charlottenborg
DESCRIPTION:Vi läser och pratar om en lättläst bok. För dig som vill träna på att läsa och prata svenska.
URL:https://motalasjostad.se/ec-event/lattlast-bokcirkel-i-charlottenborg-8/
LOCATION:Platens gemensamhetslokal\, Charlottotenborg\, Lustigkullevägen 44 B\, Motala
CATEGORIES:Övriga evenemang
ATTACH;FMTTYPE=image/png:https://motalasjostad.se/wp-content/uploads/2025/02/Lattlast-bokcirkel-for-vuxna-25.png
END:VEVENT
BEGIN:VEVENT
DTSTART;TZID=Europe/Paris:20250306T140000
DTEND;TZID=Europe/Paris:20250306T160000
DTSTAMP:20260423T172944
CREATED:20250225T073901Z
LAST-MODIFIED:20250225T073901Z
UID:10004303-1741269600-1741276800@motalasjostad.se
SUMMARY:Handarbeta på bibblan
DESCRIPTION:Ta med ditt handarbete och kom till biblioteket för en trevlig stund. Ta gärna med eget fika. Biblioteket bjuder på kaffe och te. Ingen anmälan.
URL:https://motalasjostad.se/ec-event/handarbeta-pa-bibblan-20/2025-03-06/
LOCATION:Tjällmo bibliotek\, Länsvägen\, Tjällmo\, 59190\, Sverige
CATEGORIES:Övriga evenemang
ATTACH;FMTTYPE=image/png:https://motalasjostad.se/wp-content/uploads/2025/02/Handarbetscafe.png
END:VEVENT
BEGIN:VEVENT
DTSTART;TZID=Europe/Paris:20250306T150000
DTEND;TZID=Europe/Paris:20250306T153000
DTSTAMP:20260423T172944
CREATED:20250225T074237Z
LAST-MODIFIED:20250225T074237Z
UID:10004295-1741273200-1741275000@motalasjostad.se
SUMMARY:Saga och sång
DESCRIPTION:För barn 2-5 år. Vi läser sagor och sjunger tillsammans. Välkommen
URL:https://motalasjostad.se/ec-event/saga-och-sang-11/2025-03-06/
LOCATION:Borensbergs Bibliotek\, Husbyvägen 13\, Borensberg\, 59175
CATEGORIES:Barn/ungdom
ATTACH;FMTTYPE=image/png:https://motalasjostad.se/wp-content/uploads/2025/02/Tre-kaniner-som-spelar-gitarr.png
END:VEVENT
BEGIN:VEVENT
DTSTART;TZID=Europe/Paris:20250306T160000
DTEND;TZID=Europe/Paris:20250306T170000
DTSTAMP:20260423T172944
CREATED:20250221T105838Z
LAST-MODIFIED:20250221T105838Z
UID:10004271-1741276800-1741280400@motalasjostad.se
SUMMARY:Klubben
DESCRIPTION:För 10–13 år. Vad gillar du att läsa? Vi träffas\, fikar och pratar om böcker vi har gillat. Den här gången pratar vi extra om månadens bok Vår trädkoja med 13 våningar. Den första boken i Andy Griffiths och Terry Dentons fantasifulla serie som blivit världssuccé. Till varje träff väljer vi sedan en ny bok att läsa till nästa tillfälle. Ingen anmälan.
URL:https://motalasjostad.se/ec-event/klubben-10/
LOCATION:Motala huvudbibliotek
CATEGORIES:Barn/ungdom
ATTACH;FMTTYPE=image/png:https://motalasjostad.se/wp-content/uploads/2025/02/Klubben-var-tradkoja.png
END:VEVENT
BEGIN:VEVENT
DTSTART;TZID=Europe/Paris:20250306T170000
DTEND;TZID=Europe/Paris:20250306T190000
DTSTAMP:20260423T172944
CREATED:20250221T110710Z
LAST-MODIFIED:20250221T110710Z
UID:10004251-1741280400-1741287600@motalasjostad.se
SUMMARY:Språkträning
DESCRIPTION:På Motala huvudbibliotek finns möjligheten att få hjälp med att träna på det svenska språket\, tyda krångliga brev\, skriva jobbansökningar med mera.\nI samarbete med Folkuniversitetet \n 
URL:https://motalasjostad.se/ec-event/spraktraning-33/2025-03-06/
LOCATION:Motala huvudbibliotek
CATEGORIES:Övriga evenemang
ATTACH;FMTTYPE=image/png:https://motalasjostad.se/wp-content/uploads/2025/02/Spraktraning.png
END:VEVENT
BEGIN:VEVENT
DTSTART;TZID=Europe/Paris:20250307T093000
DTEND;TZID=Europe/Paris:20250307T100000
DTSTAMP:20260423T172945
CREATED:20250225T074119Z
LAST-MODIFIED:20250225T074119Z
UID:10004300-1741339800-1741341600@motalasjostad.se
SUMMARY:Minibio - Vem är var?
DESCRIPTION:Barntillåten. Vem är var  är en kortfilm baserad på en bilderbok av Stina Wirsén  Nalle letar efter sina kompisar\, hon ringer på hos alla… Speltid: 30 minuter. Begränsat antal platser\, därför erbjuder vi två tillfällen att välja på. Anmäl dig på biblioteket eller på 0141-22 58 75.
URL:https://motalasjostad.se/ec-event/minibio-vem-ar-var-2/
LOCATION:Borensbergs Bibliotek\, Husbyvägen 13\, Borensberg\, 59175
CATEGORIES:Barn/ungdom
ATTACH;FMTTYPE=image/png:https://motalasjostad.se/wp-content/uploads/2025/02/Minibio-2024-2.png
END:VEVENT
BEGIN:VEVENT
DTSTART;TZID=Europe/Paris:20250307T103000
DTEND;TZID=Europe/Paris:20250307T113000
DTSTAMP:20260423T172945
CREATED:20250221T103845Z
LAST-MODIFIED:20250221T103845Z
UID:10004282-1741343400-1741347000@motalasjostad.se
SUMMARY:Digitala första hjälpen
DESCRIPTION:Välkommen till vår drop-in där vi svarar på dina grundläggande frågor om IT. Ta gärna med din telefon\, surfplatta eller laptop. \n 
URL:https://motalasjostad.se/ec-event/digitala-forsta-hjalpen-49/2025-03-07/
LOCATION:Borensbergs Bibliotek\, Husbyvägen 13\, Borensberg\, 59175
CATEGORIES:Övriga evenemang
ATTACH;FMTTYPE=image/png:https://motalasjostad.se/wp-content/uploads/2025/02/DFH-BBG-e1740134303397.png
END:VEVENT
BEGIN:VEVENT
DTSTART;TZID=Europe/Paris:20250308T080000
DTEND;TZID=Europe/Paris:20250308T170000
DTSTAMP:20260423T172945
CREATED:20250213T125326Z
LAST-MODIFIED:20250220T130629Z
UID:10004175-1741420800-1741453200@motalasjostad.se
SUMMARY:Konstutställning
DESCRIPTION:Maria Wallin\, fotografi\nHoppas att några av fotografierna kan intressera\, överraska\, förvirra eller pigga upp säger Maria. Fotograferandet är ett sätt att titta närmare på sin omgivning och ibland upptäcka något nytt. Bilderna är tagna både med vanliga kamera och med drönare. Ibland nära\, ibland på längre håll.
URL:https://motalasjostad.se/ec-event/konstutstallning-4/2025-03-08/
LOCATION:Galleri K-ringen\, Ringgatan 6\, Motala\, Östergötland.\, 591 60
CATEGORIES:Utställning
ATTACH;FMTTYPE=image/jpeg:https://motalasjostad.se/wp-content/uploads/2025/02/fb-25-02-15-ramad.jpeg
ORGANIZER;CN="Galleri K-ringen":MAILTO:info@k-ringenmotala.se
END:VEVENT
BEGIN:VEVENT
DTSTART;TZID=Europe/Paris:20250308T110000
DTEND;TZID=Europe/Paris:20250308T170000
DTSTAMP:20260423T172945
CREATED:20241127T100804Z
LAST-MODIFIED:20241127T100804Z
UID:10003948-1741431600-1741453200@motalasjostad.se
SUMMARY:Moveat Motala
DESCRIPTION:Ät\, drick och umgås med nära och kära. I Moveatbiljetten ingår ett antal smakportioner från noga utvalda smakstopp. Besök restauranger\, delis och bagerier i valfri takt och ordning. Du och ditt sällskap tar er mellan de utvalda smakstoppen i ert eget tempo genom att följa appens karta och menyer. Moveat är en fullmatad smakupplevelse att njuta av tillsammans!
URL:https://motalasjostad.se/ec-event/moveat-motala-3/
LOCATION:Restaurang Sjöbris\, Sjögatan 1\, Motala
ATTACH;FMTTYPE=image/jpeg:https://motalasjostad.se/wp-content/uploads/2024/11/Moveat_evenemangsbild-e1732702072867.jpg
ORGANIZER;CN="Moveat":MAILTO:hello@moveat.co
END:VEVENT
BEGIN:VEVENT
DTSTART;TZID=Europe/Paris:20250308T130000
DTEND;TZID=Europe/Paris:20250308T140000
DTSTAMP:20260423T172945
CREATED:20250221T102613Z
LAST-MODIFIED:20250221T102613Z
UID:10004272-1741438800-1741442400@motalasjostad.se
SUMMARY:Sagolördag – Julian är en sjöjungfru
DESCRIPTION:För dig mellan 3–5 år som älskar berättelser och pyssel. Vi uppmärksammar den Internationella kvinnodagen genom att läsa den normkritiska boken Julian är en sjöjungfru av Jessica Love. En berättelse om drömmar och om vikten att få vara sig själv. En dag när Julian är med sin mormor ser han tre fascinerande personer\, de ser ut som sjöjungfrur med fantastiskt hår och klänningar med släp. De sprider en magisk stämning runt sig. När Julian kommer hem kan han inte sluta tänka på mötet. Efteråt pysslar vi tillsammans. Ingen anmälan.
URL:https://motalasjostad.se/ec-event/sagolordag-julian-ar-en-sjojungfru/
LOCATION:Motala huvudbibliotek
CATEGORIES:Barn/ungdom
ATTACH;FMTTYPE=image/png:https://motalasjostad.se/wp-content/uploads/2025/02/Sagolordag-VT25-e1740133565198.png
END:VEVENT
BEGIN:VEVENT
DTSTART;TZID=Europe/Paris:20250308T130000
DTEND;TZID=Europe/Paris:20250308T150000
DTSTAMP:20260423T172945
CREATED:20250221T110429Z
LAST-MODIFIED:20250221T110429Z
UID:10004263-1741438800-1741446000@motalasjostad.se
SUMMARY:Internationella kvinnodagen - Tema Syrien
DESCRIPTION:Ola Husamou\, skådespelare\, barnboksförfattare\, poet\, konstnär och kulturaktivist\, berättar om kvinnornas situation i Syrien och sjunger. Renée Frangeur berättar om Internationella kvinnodagen. Gratisbiljett finns att hämta på biblioteket. \n 
URL:https://motalasjostad.se/ec-event/internationella-kvinnodagen-tema-syrien/
LOCATION:Motala huvudbibliotek
CATEGORIES:Övriga evenemang
ATTACH;FMTTYPE=image/png:https://motalasjostad.se/wp-content/uploads/2025/02/Internationella-kvinnodagen.png
END:VEVENT
BEGIN:VEVENT
DTSTART;TZID=Europe/Paris:20250308T190000
DTEND;TZID=Europe/Paris:20250308T213000
DTSTAMP:20260423T172945
CREATED:20241118T104105Z
LAST-MODIFIED:20241118T104315Z
UID:10003877-1741460400-1741469400@motalasjostad.se
SUMMARY:Eagles Tribute Turné
DESCRIPTION:En musikalisk resa med en låtskatt av ett av världens största band\, ni får höra Eagles största hits samt berättelser och historier kring bandet\, samt berättelser och historier om bandet som gör denna show. \nAustin Band Sweden som bandet heter består av ett gäng medelålders fd proffsmusiker som åker runt i landet och spelar denna Eagles Tribute. Det är en show som fått fina recensioner. \nEagles Showen är för alla åldrar.\nLängd: ca 2\,5 timme\, inklusive paus. \nEntrédörrarna öppnas kl.18.00. Vänligen kom i god tid för att hänga av era ytterkläder i garderoben\, 30kr/jacka\, och passa på att boka in pausfika och ta något gott att äta/dricka innan event start. Biljettförsäljningen startar inom kort. Håll er uppdaterade på vår hemsida för mer info. Pris från 450:- \nÖnskar ni äta innan arrangemangsstart är ni varmt välkomna med er bokning till Restaurang Sjöbris\, som ligger placerat i samma hus som Teatersalongen. Så mycket enklare kan det inte bli! \nRing oss direkt på 0141-480 50 .
URL:https://motalasjostad.se/ec-event/eagles-tribute-turne/
LOCATION:Teater salongen Folkets hus Motala\, Sjögatan 5\, Motala
ATTACH;FMTTYPE=image/jpeg:https://motalasjostad.se/wp-content/uploads/2024/11/Austin-Band-8.3-2025-e1731926458149.jpg
ORGANIZER;CN="Folkets Hus":MAILTO:konferens@motalafolketshus.se
END:VEVENT
BEGIN:VEVENT
DTSTART;TZID=Europe/Paris:20250310T140000
DTEND;TZID=Europe/Paris:20250310T150000
DTSTAMP:20260423T172945
CREATED:20250221T103138Z
LAST-MODIFIED:20250221T103138Z
UID:10004273-1741615200-1741618800@motalasjostad.se
SUMMARY:Barnens bokklubb
DESCRIPTION:För dig mellan 7–9 år. Välkommen till en klubb för dig som gillar att dyka ner i böckernas värld. Vi delar med oss av berättelser om vad vi har läst och älskat samt att vi läser tillsammans. Oavsett om du gillar fantasy\, mysterier\, fakta eller roliga historier – vi pratar om alla böcker! Ingen anmälan.  \n 
URL:https://motalasjostad.se/ec-event/barnens-bokklubb-7/
LOCATION:Motala huvudbibliotek
CATEGORIES:Barn/ungdom
ATTACH;FMTTYPE=image/png:https://motalasjostad.se/wp-content/uploads/2025/02/Barnens-bokklubb-e1740133888761.png
END:VEVENT
BEGIN:VEVENT
DTSTART;TZID=Europe/Paris:20250311T093000
DTEND;TZID=Europe/Paris:20250311T100000
DTSTAMP:20260423T172945
CREATED:20250225T074045Z
LAST-MODIFIED:20250225T074045Z
UID:10004301-1741685400-1741687200@motalasjostad.se
SUMMARY:Bokstund
DESCRIPTION:För barn 0-2 år och deras vuxna. Vi läser\, sjunger och ramsar tillsammans. Vi ger dig boktips för att stötta barnets språkutveckling med hjälp av böcker tidigt i livet. Ingen föranmälan behövs. Ta gärna med egen matsäck om du vill fika efteråt. \n 
URL:https://motalasjostad.se/ec-event/bokstund-5/
LOCATION:Borensbergs Bibliotek\, Husbyvägen 13\, Borensberg\, 59175
CATEGORIES:Barn/ungdom
ATTACH;FMTTYPE=image/png:https://motalasjostad.se/wp-content/uploads/2025/02/Bokstund-BBG.png
END:VEVENT
BEGIN:VEVENT
DTSTART;TZID=Europe/Paris:20250311T103000
DTEND;TZID=Europe/Paris:20250311T120000
DTSTAMP:20260423T172945
CREATED:20250221T111046Z
LAST-MODIFIED:20250225T092039Z
UID:10004241-1741689000-1741694400@motalasjostad.se
SUMMARY:Digitala första hjälpen
DESCRIPTION:Välkommen till vår drop-in där vi svarar på dina grundläggande frågor om IT. Ta gärna med din telefon\, surfplatta eller laptop. På onsdagar kan du även få hjälp med att hantera Konsumentverkets sida Hallå konsument.
URL:https://motalasjostad.se/ec-event/digitala-forsta-hjalpen-52/2025-03-11/
LOCATION:Motala huvudbibliotek
CATEGORIES:Övriga evenemang
ATTACH;FMTTYPE=image/jpeg:https://motalasjostad.se/wp-content/uploads/2025/02/DFH-HT-24.jpg
END:VEVENT
BEGIN:VEVENT
DTSTART;TZID=Europe/Paris:20250311T153000
DTEND;TZID=Europe/Paris:20250311T163000
DTSTAMP:20260423T172945
CREATED:20250221T105742Z
LAST-MODIFIED:20250221T105742Z
UID:10004274-1741707000-1741710600@motalasjostad.se
SUMMARY:MangaMania - Superhjältar
DESCRIPTION:Från ca 10 år. Gillar du att läsa manga eller titta på anime? Gillar du att ge och få bok- och filmtips? Då är MangaMania något för dig! Denna gång pratar vi om allt kring superhjältetema\, så som My Hero Academia\, One-Punch Man och My hero academia : Vigilantes. Ingen anmälan.
URL:https://motalasjostad.se/ec-event/mangamania-superhjaltar/
LOCATION:Motala huvudbibliotek
CATEGORIES:Barn/ungdom
ATTACH;FMTTYPE=image/png:https://motalasjostad.se/wp-content/uploads/2025/02/Mangamania-Superhjaltar.png
END:VEVENT
BEGIN:VEVENT
DTSTART;TZID=Europe/Paris:20250311T170000
DTEND;TZID=Europe/Paris:20250311T190000
DTSTAMP:20260423T172945
CREATED:20250221T110710Z
LAST-MODIFIED:20250221T110710Z
UID:10004252-1741712400-1741719600@motalasjostad.se
SUMMARY:Språkträning
DESCRIPTION:På Motala huvudbibliotek finns möjligheten att få hjälp med att träna på det svenska språket\, tyda krångliga brev\, skriva jobbansökningar med mera.\nI samarbete med Folkuniversitetet \n 
URL:https://motalasjostad.se/ec-event/spraktraning-33/2025-03-11/
LOCATION:Motala huvudbibliotek
CATEGORIES:Övriga evenemang
ATTACH;FMTTYPE=image/png:https://motalasjostad.se/wp-content/uploads/2025/02/Spraktraning.png
END:VEVENT
BEGIN:VEVENT
DTSTART;TZID=Europe/Paris:20250311T183000
DTEND;TZID=Europe/Paris:20250311T220000
DTSTAMP:20260423T172945
CREATED:20250225T073031Z
LAST-MODIFIED:20250225T073500Z
UID:10004312-1741717800-1741730400@motalasjostad.se
SUMMARY:Motal Big Bands tisdagsdans
DESCRIPTION:Motala Big Band bjuder upp till dans \nKom och dansa eller bara sitt och njut av traditionell storbandsjazz \nMusiken börjar ca kl. 19:30
URL:https://motalasjostad.se/ec-event/motal-big-bands-tisdagsdans/2025-03-11/
LOCATION:Folkets hus\, Restaurang Sjöbris\, Sjögatan 5\, Motala\, 591 30\, Sweden
CATEGORIES:Musik
ATTACH;FMTTYPE=image/jpeg:https://motalasjostad.se/wp-content/uploads/2025/02/480146168_1095906638999919_7383493737811585476_n-e1740468615730.jpg
END:VEVENT
BEGIN:VEVENT
DTSTART;TZID=Europe/Paris:20250312T140000
DTEND;TZID=Europe/Paris:20250312T150000
DTSTAMP:20260423T172945
CREATED:20250221T110336Z
LAST-MODIFIED:20250221T110336Z
UID:10004264-1741788000-1741791600@motalasjostad.se
SUMMARY:Ser du dåligt - glaukom?
DESCRIPTION:Välkommen på Världsglaukomdagen. Lyssna på Faher Kafa från KAFA Optik. Han berättar om hur han som optiker kan hjälpa till att upptäcka och kontrollera de risker och skador som kan uppstå på grund av ögonsjukdomen glaukom (grön starr). För detta fordras kvalificerad utbildning och\nutrustning. Ingen föranmälan. Glaukomföreningen bjuder på fika. \n 
URL:https://motalasjostad.se/ec-event/ser-du-daligt-glaukom/
LOCATION:Motala huvudbibliotek
CATEGORIES:Övriga evenemang
ATTACH;FMTTYPE=image/png:https://motalasjostad.se/wp-content/uploads/2025/02/Ser-du-daligt-glaukom.png
END:VEVENT
END:VCALENDAR