BEGIN:VCALENDAR
VERSION:2.0
PRODID:-//Motala Sjöstad - ECPv6.13.2.1//NONSGML v1.0//EN
CALSCALE:GREGORIAN
METHOD:PUBLISH
X-WR-CALNAME:Motala Sjöstad
X-ORIGINAL-URL:https://motalasjostad.se
X-WR-CALDESC:Händelser för Motala Sjöstad
REFRESH-INTERVAL;VALUE=DURATION:PT1H
X-Robots-Tag:noindex
X-PUBLISHED-TTL:PT1H
BEGIN:VTIMEZONE
TZID:Europe/Paris
BEGIN:DAYLIGHT
TZOFFSETFROM:+0100
TZOFFSETTO:+0200
TZNAME:CEST
DTSTART:20250330T010000
END:DAYLIGHT
BEGIN:STANDARD
TZOFFSETFROM:+0200
TZOFFSETTO:+0100
TZNAME:CET
DTSTART:20251026T010000
END:STANDARD
END:VTIMEZONE
BEGIN:VEVENT
DTSTART;TZID=Europe/Paris:20250317T130000
DTEND;TZID=Europe/Paris:20250317T170000
DTSTAMP:20260424T010432
CREATED:20250221T104201Z
LAST-MODIFIED:20250221T104658Z
UID:10004288-1742216400-1742230800@motalasjostad.se
SUMMARY:Poesiverkstad
DESCRIPTION:Från 13 år och uppåt. Vi uppmärksammar poesiveckan med lite pyssel. Kom och gör bokpoesi. Drop in.
URL:https://motalasjostad.se/ec-event/poesiverkstad/
LOCATION:Borensbergs Bibliotek\, Husbyvägen 13\, Borensberg\, 59175
CATEGORIES:Barn/ungdom
ATTACH;FMTTYPE=image/png:https://motalasjostad.se/wp-content/uploads/2025/02/Poesiverkstad-BBG-e1740134511625.png
END:VEVENT
BEGIN:VEVENT
DTSTART;TZID=Europe/Paris:20250317T140000
DTEND;TZID=Europe/Paris:20250317T160000
DTSTAMP:20260424T010432
CREATED:20250225T073716Z
LAST-MODIFIED:20250225T073716Z
UID:10004308-1742220000-1742227200@motalasjostad.se
SUMMARY:Bokcirkel för vuxna
DESCRIPTION:Vi träffas och samtalar kring en gemensam bok som alla läst. För mer information kontakta personalen på Tjällmo bibliotek på 0141-22 25 46. Ta gärna med eget fika. Biblioteket bjuder på kaffe och te. \n 
URL:https://motalasjostad.se/ec-event/bokcirkel-for-vuxna-8/
LOCATION:Tjällmo bibliotek\, Länsvägen\, Tjällmo\, 59190\, Sverige
CATEGORIES:Övriga evenemang
ATTACH;FMTTYPE=image/png:https://motalasjostad.se/wp-content/uploads/2025/02/Bokcirkel-Tjallmo.png
END:VEVENT
BEGIN:VEVENT
DTSTART;TZID=Europe/Paris:20250317T160000
DTEND;TZID=Europe/Paris:20250317T180000
DTSTAMP:20260424T010432
CREATED:20250221T105627Z
LAST-MODIFIED:20250221T105627Z
UID:10004275-1742227200-1742234400@motalasjostad.se
SUMMARY:Prova på schack
DESCRIPTION:Från 8 år. Vill du prova på schack och spela tillsammans med andra? Eller så är du redan väldigt bra på schack och är sugen på att lära andra? Drop-in. \n 
URL:https://motalasjostad.se/ec-event/prova-pa-schack-6/
LOCATION:Motala huvudbibliotek
CATEGORIES:Barn/ungdom
ATTACH;FMTTYPE=image/jpeg:https://motalasjostad.se/wp-content/uploads/2025/02/Prova-pa-schack-HT24.jpg
END:VEVENT
BEGIN:VEVENT
DTSTART;TZID=Europe/Paris:20250317T170000
DTEND;TZID=Europe/Paris:20250317T180000
DTSTAMP:20260424T010432
CREATED:20250221T105159Z
LAST-MODIFIED:20250221T105159Z
UID:10004289-1742230800-1742234400@motalasjostad.se
SUMMARY:Måndagsbokcirkel
DESCRIPTION:Vi läser boken Dit floden för dig av Shelley Read och diskuterar den. Biblioteket bjuder på kaffe och te. Ta gärna med eget fikabröd.
URL:https://motalasjostad.se/ec-event/mandagsbokcirkel-8/
LOCATION:Borensbergs Bibliotek\, Husbyvägen 13\, Borensberg\, 59175
CATEGORIES:Övriga evenemang
ATTACH;FMTTYPE=image/png:https://motalasjostad.se/wp-content/uploads/2025/02/Mandagsbokcirkel-VT-25.png
END:VEVENT
BEGIN:VEVENT
DTSTART;TZID=Europe/Paris:20250318T170000
DTEND;TZID=Europe/Paris:20250318T190000
DTSTAMP:20260424T010432
CREATED:20250221T110710Z
LAST-MODIFIED:20250221T110710Z
UID:10004254-1742317200-1742324400@motalasjostad.se
SUMMARY:Språkträning
DESCRIPTION:På Motala huvudbibliotek finns möjligheten att få hjälp med att träna på det svenska språket\, tyda krångliga brev\, skriva jobbansökningar med mera.\nI samarbete med Folkuniversitetet \n 
URL:https://motalasjostad.se/ec-event/spraktraning-33/2025-03-18/
LOCATION:Motala huvudbibliotek
CATEGORIES:Övriga evenemang
ATTACH;FMTTYPE=image/png:https://motalasjostad.se/wp-content/uploads/2025/02/Spraktraning.png
END:VEVENT
BEGIN:VEVENT
DTSTART;TZID=Europe/Paris:20250318T183000
DTEND;TZID=Europe/Paris:20250318T193000
DTSTAMP:20260424T010432
CREATED:20250221T110204Z
LAST-MODIFIED:20250221T110204Z
UID:10004266-1742322600-1742326200@motalasjostad.se
SUMMARY:Hoppfulla platser - om tro\, hopp och jävlar anamma på landsbygden
DESCRIPTION:Föreläsning med Josefina Syssner\, professor i kulturgeografi på Centrumför kommunstrategiska studier\, (CKS) vid Linköpings universitet. Vad finns det för hopp i ett samhälle som inte växer – i en tid styrd av idéer om att utveckling är liktydigt med tillväxt och expansion? Hennes senaste bok handlar om hopp och hoppfullhet i samhällen som präglas av en långvarig befolkningsminskning. Fri entré.\nArrangörer: Folkuniversitetet och Motala bibliotek
URL:https://motalasjostad.se/ec-event/hoppfulla-platser-om-tro-hopp-och-javlar-anamma-pa-landsbygden/
LOCATION:Motala huvudbibliotek
CATEGORIES:Övriga evenemang
ATTACH;FMTTYPE=image/png:https://motalasjostad.se/wp-content/uploads/2025/02/Josefina-Syssner.png
END:VEVENT
BEGIN:VEVENT
DTSTART;TZID=Europe/Paris:20250318T183000
DTEND;TZID=Europe/Paris:20250318T220000
DTSTAMP:20260424T010432
CREATED:20250225T073031Z
LAST-MODIFIED:20250225T073500Z
UID:10004314-1742322600-1742335200@motalasjostad.se
SUMMARY:Motal Big Bands tisdagsdans
DESCRIPTION:Motala Big Band bjuder upp till dans \nKom och dansa eller bara sitt och njut av traditionell storbandsjazz \nMusiken börjar ca kl. 19:30
URL:https://motalasjostad.se/ec-event/motal-big-bands-tisdagsdans/2025-03-18/
LOCATION:Folkets hus\, Restaurang Sjöbris\, Sjögatan 5\, Motala\, 591 30\, Sweden
CATEGORIES:Musik
ATTACH;FMTTYPE=image/jpeg:https://motalasjostad.se/wp-content/uploads/2025/02/480146168_1095906638999919_7383493737811585476_n-e1740468615730.jpg
END:VEVENT
BEGIN:VEVENT
DTSTART;TZID=Europe/Paris:20250319T140000
DTEND;TZID=Europe/Paris:20250319T143000
DTSTAMP:20260424T010432
CREATED:20250225T073606Z
LAST-MODIFIED:20250225T073606Z
UID:10004309-1742392800-1742394600@motalasjostad.se
SUMMARY:Sagostund - Vi är monsterbarn
DESCRIPTION:Från 3 år. I boken Vi är monsterbarn av Eva Whitebrook möter vi sex små monster\, i varsin dikt\, som är mycket olika varandra både till temperament och personlighet. Men några saker har de gemensamt – alla bär på unika drömmar och alla vill följa sin egen vilja. Alla längtar också efter att få höra till utan att behöva kompromissa om den de innerst inne är. Ingen anmälan. \n 
URL:https://motalasjostad.se/ec-event/sagostund-vi-ar-monsterbarn/
LOCATION:Motala huvudbibliotek
CATEGORIES:Barn/ungdom
ATTACH;FMTTYPE=image/png:https://motalasjostad.se/wp-content/uploads/2025/02/Sagostund-Vi-ar-monsterbarn.png
END:VEVENT
BEGIN:VEVENT
DTSTART;TZID=Europe/Paris:20250319T140000
DTEND;TZID=Europe/Paris:20250319T153000
DTSTAMP:20260424T010432
CREATED:20250221T110959Z
LAST-MODIFIED:20250221T110959Z
UID:10004246-1742392800-1742398200@motalasjostad.se
SUMMARY:Digitala första hjälpen
DESCRIPTION:Välkommen till vår drop-in där vi svarar på dina grundläggande frågor om IT. Ta gärna med din telefon\, surfplatta eller laptop. På onsdagar kan du även få hjälp med att hantera Konsumentverkets sida Hallå konsument.
URL:https://motalasjostad.se/ec-event/digitala-forsta-hjalpen-51/2025-03-19/
LOCATION:Motala huvudbibliotek
CATEGORIES:Övriga evenemang
ATTACH;FMTTYPE=image/jpeg:https://motalasjostad.se/wp-content/uploads/2025/02/DFH-HT-24-1.jpg
END:VEVENT
BEGIN:VEVENT
DTSTART;TZID=Europe/Paris:20250319T180000
DTEND;TZID=Europe/Paris:20250319T190000
DTSTAMP:20260424T010432
CREATED:20250221T110603Z
LAST-MODIFIED:20250221T110603Z
UID:10004260-1742407200-1742410800@motalasjostad.se
SUMMARY:Lättläst bokcirkel på Ekön
DESCRIPTION:Vi läser och pratar om en lättläst bok. För dig som vill träna på att läsa och prata svenska. \n 
URL:https://motalasjostad.se/ec-event/lattlast-bokcirkel-pa-ekon-17/2025-03-19/
LOCATION:Platens gemensamhetslokal\, Ekön\, Styvingevägen 14\, Motala
CATEGORIES:Övriga evenemang
ATTACH;FMTTYPE=image/png:https://motalasjostad.se/wp-content/uploads/2025/02/Lattlast-bokcirkle-pa-Ekon-2024.png
END:VEVENT
BEGIN:VEVENT
DTSTART;TZID=Europe/Paris:20250319T183000
DTEND;TZID=Europe/Paris:20250319T183000
DTSTAMP:20260424T010432
CREATED:20250213T103207Z
LAST-MODIFIED:20250213T103207Z
UID:10004153-1742409000-1742409000@motalasjostad.se
SUMMARY:Föreläsning med P-G Andersson
DESCRIPTION:Föreläsning om Motala Hembygdsförening. \nBegränsat antal platser\, förboka gärna din biljett: kultur@motala.se \nSlottet är öppet från kl 16 onsdagskvällar. \nVälkomna!
URL:https://motalasjostad.se/ec-event/forelasning-med-p-g-andersson/
LOCATION:Charlottenborgs slott\, Strandvägen 71\, Motala\, 591 46\, Sweden
ATTACH;FMTTYPE=image/jpeg:https://motalasjostad.se/wp-content/uploads/2025/02/Slottet-baksidan-fotograf-Pia-Axelsson-2.jpg
ORGANIZER;CN="Motala kommun":MAILTO:kultur@motala.se
END:VEVENT
BEGIN:VEVENT
DTSTART;TZID=Europe/Paris:20250320T100000
DTEND;TZID=Europe/Paris:20250320T113000
DTSTAMP:20260424T010432
CREATED:20250221T110834Z
LAST-MODIFIED:20250221T110834Z
UID:10004249-1742464800-1742470200@motalasjostad.se
SUMMARY:Lättläst bokcirkel i Charlottenborg
DESCRIPTION:Vi läser och pratar om en lättläst bok. För dig som vill träna på att läsa och prata svenska.
URL:https://motalasjostad.se/ec-event/lattlast-bokcirkel-i-charlottenborg-7/
LOCATION:Platens gemensametslokal\, Lustigkullevägen 44 B\, Motala
CATEGORIES:Övriga evenemang
ATTACH;FMTTYPE=image/png:https://motalasjostad.se/wp-content/uploads/2025/02/Lattlast-bokcirkel-for-vuxna-25-1.png
END:VEVENT
BEGIN:VEVENT
DTSTART;TZID=Europe/Paris:20250320T140000
DTEND;TZID=Europe/Paris:20250320T160000
DTSTAMP:20260424T010432
CREATED:20250225T073901Z
LAST-MODIFIED:20250225T073901Z
UID:10004305-1742479200-1742486400@motalasjostad.se
SUMMARY:Handarbeta på bibblan
DESCRIPTION:Ta med ditt handarbete och kom till biblioteket för en trevlig stund. Ta gärna med eget fika. Biblioteket bjuder på kaffe och te. Ingen anmälan.
URL:https://motalasjostad.se/ec-event/handarbeta-pa-bibblan-20/2025-03-20/
LOCATION:Tjällmo bibliotek\, Länsvägen\, Tjällmo\, 59190\, Sverige
CATEGORIES:Övriga evenemang
ATTACH;FMTTYPE=image/png:https://motalasjostad.se/wp-content/uploads/2025/02/Handarbetscafe.png
END:VEVENT
BEGIN:VEVENT
DTSTART;TZID=Europe/Paris:20250320T150000
DTEND;TZID=Europe/Paris:20250320T153000
DTSTAMP:20260424T010432
CREATED:20250225T074237Z
LAST-MODIFIED:20250225T074237Z
UID:10004297-1742482800-1742484600@motalasjostad.se
SUMMARY:Saga och sång
DESCRIPTION:För barn 2-5 år. Vi läser sagor och sjunger tillsammans. Välkommen
URL:https://motalasjostad.se/ec-event/saga-och-sang-11/2025-03-20/
LOCATION:Borensbergs Bibliotek\, Husbyvägen 13\, Borensberg\, 59175
CATEGORIES:Barn/ungdom
ATTACH;FMTTYPE=image/png:https://motalasjostad.se/wp-content/uploads/2025/02/Tre-kaniner-som-spelar-gitarr.png
END:VEVENT
BEGIN:VEVENT
DTSTART;TZID=Europe/Paris:20250320T160000
DTEND;TZID=Europe/Paris:20250320T170000
DTSTAMP:20260424T010432
CREATED:20250221T105104Z
LAST-MODIFIED:20250221T105104Z
UID:10004290-1742486400-1742490000@motalasjostad.se
SUMMARY:Torsdagsbokcirkel
DESCRIPTION:Vi läser en bok och diskuterar den. Fråga personalen vilken bok det är. Biblioteket bjuder på kaffe och te. Ta gärna med eget fikabröd. \n 
URL:https://motalasjostad.se/ec-event/torsdagsbokcirkel-6/
LOCATION:Borensbergs Bibliotek\, Husbyvägen 13\, Borensberg\, 59175
CATEGORIES:Övriga evenemang
ATTACH;FMTTYPE=image/png:https://motalasjostad.se/wp-content/uploads/2025/02/Torsdagsbokcirkel-VT-25.png
END:VEVENT
BEGIN:VEVENT
DTSTART;TZID=Europe/Paris:20250320T160000
DTEND;TZID=Europe/Paris:20250320T180000
DTSTAMP:20260424T010432
CREATED:20250311T114030Z
LAST-MODIFIED:20250311T114030Z
UID:10004366-1742486400-1742493600@motalasjostad.se
SUMMARY:Konstutställning
DESCRIPTION:Lunnevads Konstlinje åk 1 ställde ut på Galleri K-ringen 2023 och det blev en succé med många besökare i alla åldrar\, särskilt unga!\nI år erbjuder vi dem utöver galleriet även vårt garage för att visa bl.a. skulptur.\nUtställningen visar elevernas olika tidigare erfarenheter och var elever hittar inspiration i sitt skapande idag. Flera av dem söker sen vidare till högre utbildningar. Flertalet elever är unga och sökande\, det blir en innehållsrik och sprudlande samling konstverk som visas. Det ingår i utbildningen att de producerar utställningen själva\, med affisch\, hängning och ljussättning.
URL:https://motalasjostad.se/ec-event/konstutstallning-5/2025-03-20/
CATEGORIES:Utställning
ATTACH;FMTTYPE=image/jpeg:https://motalasjostad.se/wp-content/uploads/2025/03/branchrad-25-03-15-1.jpg
ORGANIZER;CN="Galleri K-ringen":MAILTO:info@k-ringenmotala.se
END:VEVENT
BEGIN:VEVENT
DTSTART;TZID=Europe/Paris:20250320T170000
DTEND;TZID=Europe/Paris:20250320T190000
DTSTAMP:20260424T010432
CREATED:20250221T110710Z
LAST-MODIFIED:20250221T110710Z
UID:10004255-1742490000-1742497200@motalasjostad.se
SUMMARY:Språkträning
DESCRIPTION:På Motala huvudbibliotek finns möjligheten att få hjälp med att träna på det svenska språket\, tyda krångliga brev\, skriva jobbansökningar med mera.\nI samarbete med Folkuniversitetet \n 
URL:https://motalasjostad.se/ec-event/spraktraning-33/2025-03-20/
LOCATION:Motala huvudbibliotek
CATEGORIES:Övriga evenemang
ATTACH;FMTTYPE=image/png:https://motalasjostad.se/wp-content/uploads/2025/02/Spraktraning.png
END:VEVENT
BEGIN:VEVENT
DTSTART;TZID=Europe/Paris:20250320T180000
DTEND;TZID=Europe/Paris:20250320T193000
DTSTAMP:20260424T010432
CREATED:20250131T095153Z
LAST-MODIFIED:20250131T095153Z
UID:10004124-1742493600-1742499000@motalasjostad.se
SUMMARY:Värdträff
DESCRIPTION:I samband med Vätternrundans årliga Cykelvecka i juni öppnar många Motalabor upp sina hem och hyr ut villor\, hus\, lägenheter\, stugor och rum till cyklister och i år har vi extrastort behov av nya värdar.\nMen vad innebär det egentligen att vara boendevärd\, och vad ska man tänka lite extra på?\nDen här typen av frågor kommer du kunna få besvarade torsdagen den 20 mars\, då vi på Svecia Travels bjuder in till en informationsträff för nya (och gamla) boendevärdar.\nVi kommer att berätta om hur det går till när du hyr ut sin bostad via oss\, och Vätternrundan kommer att finnas på plats för att informera om 2025-års cykellopp.\nOch i vanlig ordning – när det handlar om cykling – så kommer det bjudas på fika! \nVänligen anmäl ditt deltagande till Svecia Travels senast den 19 april. Ring 0141-20 99 00 eller skicka ett mail till info@sveciatravels.se
URL:https://motalasjostad.se/ec-event/vardtraff/
LOCATION:Svecia Travels kontor\, Poppelgatan 8\, Motala
ATTACH;FMTTYPE=image/jpeg:https://motalasjostad.se/wp-content/uploads/2025/01/Vardtraff.jpg
ORGANIZER;CN="Svecia Travels":MAILTO:info@sveciatravels.se
END:VEVENT
BEGIN:VEVENT
DTSTART;TZID=Europe/Paris:20250321T103000
DTEND;TZID=Europe/Paris:20250321T113000
DTSTAMP:20260424T010432
CREATED:20250221T103845Z
LAST-MODIFIED:20250221T103845Z
UID:10004284-1742553000-1742556600@motalasjostad.se
SUMMARY:Digitala första hjälpen
DESCRIPTION:Välkommen till vår drop-in där vi svarar på dina grundläggande frågor om IT. Ta gärna med din telefon\, surfplatta eller laptop. \n 
URL:https://motalasjostad.se/ec-event/digitala-forsta-hjalpen-49/2025-03-21/
LOCATION:Borensbergs Bibliotek\, Husbyvägen 13\, Borensberg\, 59175
CATEGORIES:Övriga evenemang
ATTACH;FMTTYPE=image/png:https://motalasjostad.se/wp-content/uploads/2025/02/DFH-BBG-e1740134303397.png
END:VEVENT
BEGIN:VEVENT
DTSTART;TZID=Europe/Paris:20250321T130000
DTEND;TZID=Europe/Paris:20250321T140000
DTSTAMP:20260424T010432
CREATED:20250225T074000Z
LAST-MODIFIED:20250225T074000Z
UID:10004302-1742562000-1742565600@motalasjostad.se
SUMMARY:Diktverkstad
DESCRIPTION:För alla från 6 år. Vi uppmärksammar poesiveckan genom att läsa några dikter och det finns möjlighet att skapa egna dikter. Skriv- och ritmaterial finns. Ingen anmälan. Välkommen! \n 
URL:https://motalasjostad.se/ec-event/diktverkstad/
LOCATION:Borensbergs Bibliotek\, Husbyvägen 13\, Borensberg\, 59175
CATEGORIES:Barn/ungdom
ATTACH;FMTTYPE=image/png:https://motalasjostad.se/wp-content/uploads/2025/02/Diktverkstad-BBG.png
END:VEVENT
BEGIN:VEVENT
DTSTART;TZID=Europe/Paris:20250321T150000
DTEND;TZID=Europe/Paris:20250321T153000
DTSTAMP:20260424T010432
CREATED:20250221T105548Z
LAST-MODIFIED:20250221T105548Z
UID:10004276-1742569200-1742571000@motalasjostad.se
SUMMARY:Minibio - Tänk om...
DESCRIPTION:Rekommenderad ålder från ca 3 år. Följ med i berättelserna om djurliv\, busliv och om att få vara ära. En kärleksförklaring till relationen mellan liten och stor och till lusten att ge sig ut på fantasifulla\, fantastiska äventyr. En film baserad på Lena Sjöbergs barnbok med samma titel.\nSpeltid: 30 minuter. Anmäl dig på biblioteket eller på 0141-22 51 00. \n 
URL:https://motalasjostad.se/ec-event/minibio-tank-om-2/
LOCATION:Motala huvudbibliotek
CATEGORIES:Barn/ungdom
ATTACH;FMTTYPE=image/png:https://motalasjostad.se/wp-content/uploads/2025/02/Minibio-2024.png
END:VEVENT
BEGIN:VEVENT
DTSTART;TZID=Europe/Paris:20250321T190000
DTEND;TZID=Europe/Paris:20250321T190000
DTSTAMP:20260424T010432
CREATED:20250304T082829Z
LAST-MODIFIED:20250304T082829Z
UID:10004335-1742583600-1742583600@motalasjostad.se
SUMMARY:Quiz!
DESCRIPTION: Sjövik med schlagertema! Det blir Aw-buffé för 149:- med aw-priser i baren 16-19!\n\n\nVi är så glada att våra senaste quiz alla varit utsålda\, Wow\, och stort tack till er alla som kommer \n\n\nHar du inte provat ett quiz på Sjövik med Elofsson så kan vi berätta att det är mer än bara ett quiz\, svårt att förklara\, det behöver upplevas \n\n\nFör bordsbokning\, ring 073 558 33 41 eller gå in på www.restaurangsjovik.se
URL:https://motalasjostad.se/ec-event/quiz-4/
LOCATION:Restaurang Sjövik\, Solskensvägen 8\, Motala\, 59172
CATEGORIES:Övriga evenemang
ATTACH;FMTTYPE=image/jpeg:https://motalasjostad.se/wp-content/uploads/2025/03/quiz-21-sjovik-e1741076903327.jpg
ORGANIZER;CN="Rezstaurang Sj%C3%B6viik":MAILTO:bokningar@restaurangsjovik.se
END:VEVENT
BEGIN:VEVENT
DTSTART;TZID=Europe/Paris:20250321T193000
DTEND;TZID=Europe/Paris:20250321T213000
DTSTAMP:20260424T010432
CREATED:20250310T130345Z
LAST-MODIFIED:20250310T130631Z
UID:10004361-1742585400-1742592600@motalasjostad.se
SUMMARY:MusikQuiz på Bispo
DESCRIPTION:Vi är tillbaka med ännu en fantastisk säsong av Quiz!\nDen 21 mars slår vi upp dörrarna ner till oss redan vid 17:00 för att dryck eller mat ska hinnas avnjutas i lugn och ro innan vi sätter på och partyhatten och vässar våra pennor inför årets första Musik-Quiz! \nTill varje Quiz erbjuder vi en grym deal med både mat och dryck. \nDeltagaravgiften går direkt till vinstpotten! \nBoka redan nu på mail\, telefon eller hemsidan. \nQuizet utförs av Anna & Mattias från Fest & Event. \n 
URL:https://motalasjostad.se/ec-event/musikquiz-pa-bispo-2/
LOCATION:Bispo\, Bispmotalagatan 5-7\, Motala\, Östergötland\, 59130\, Sweden
CATEGORIES:Övriga evenemang
ATTACH;FMTTYPE=image/jpeg:https://motalasjostad.se/wp-content/uploads/2025/03/MUSIK-QUIZ-e1741611818638.jpg
ORGANIZER;CN="Bispo":MAILTO:info@bispo.se
END:VEVENT
BEGIN:VEVENT
DTSTART;TZID=Europe/Paris:20250321T203000
DTEND;TZID=Europe/Paris:20250321T203000
DTSTAMP:20260424T010432
CREATED:20250228T103809Z
LAST-MODIFIED:20250228T103809Z
UID:10004327-1742589000-1742589000@motalasjostad.se
SUMMARY:WOLVES OF SATURN
DESCRIPTION:WOLVES OF SATURN från Dresden\, Tyskland tar med sig sina ökenrockiga vibbar och utsuddade ljudlandskap till Bomber Bar med detta att säga om det ” Garanterat inga rena gitarrer. Luddiga\, muffy\, bluesiga och ofta använda Pogs\, Whammys\, Wahs och Plasma Coils tar dig med på en oförglömlig resa genom öknen.” – W.O.S.De tre medlemmarna i Wolves Of Saturn bildades under en världsomspännande pandemi och klippte av alla förbindelser till utsidan och befinner sig tillsammans i en bunker från andra världskriget i en liten tysk by. Djupt under ytan\, mellan jordens massiva tystnad\, skapar och spelar de själva in låtarna till sin första LP. Rummets trånghet sätter sina spår\, längtan efter frihet och att utveckla sig blir en grundläggande del av låtarna. Ljudet banar sig väg genom underjorden till toppen. I öknens oändliga vidder lär den sig att flyga och tar dig med på en speciell resa!
URL:https://motalasjostad.se/ec-event/wolves-of-saturn/
LOCATION:Bomber Bar\, Prästgatan 3\, Motala\, 591 30\, Sweden
CATEGORIES:Musik
ATTACH;FMTTYPE=image/jpeg:https://motalasjostad.se/wp-content/uploads/2025/02/wolves-of-saturn.jpg
ORGANIZER;CN="Bomber Bar/Spacewolf Booking/ Wolves Of Saturn":MAILTO:bomberbarmotala@gmail.com
END:VEVENT
BEGIN:VEVENT
DTSTART;TZID=Europe/Paris:20250322T080000
DTEND;TZID=Europe/Paris:20250322T170000
DTSTAMP:20260424T010432
CREATED:20250311T114030Z
LAST-MODIFIED:20250311T114030Z
UID:10004376-1742630400-1742662800@motalasjostad.se
SUMMARY:Konstutställning
DESCRIPTION:Lunnevads Konstlinje åk 1 ställde ut på Galleri K-ringen 2023 och det blev en succé med många besökare i alla åldrar\, särskilt unga!\nI år erbjuder vi dem utöver galleriet även vårt garage för att visa bl.a. skulptur.\nUtställningen visar elevernas olika tidigare erfarenheter och var elever hittar inspiration i sitt skapande idag. Flera av dem söker sen vidare till högre utbildningar. Flertalet elever är unga och sökande\, det blir en innehållsrik och sprudlande samling konstverk som visas. Det ingår i utbildningen att de producerar utställningen själva\, med affisch\, hängning och ljussättning.
URL:https://motalasjostad.se/ec-event/konstutstallning-5/2025-03-22/
CATEGORIES:Utställning
ATTACH;FMTTYPE=image/jpeg:https://motalasjostad.se/wp-content/uploads/2025/03/branchrad-25-03-15-1.jpg
ORGANIZER;CN="Galleri K-ringen":MAILTO:info@k-ringenmotala.se
END:VEVENT
BEGIN:VEVENT
DTSTART;TZID=Europe/Paris:20250322T110000
DTEND;TZID=Europe/Paris:20250322T120000
DTSTAMP:20260424T010432
CREATED:20250205T121706Z
LAST-MODIFIED:20250205T121706Z
UID:10004137-1742641200-1742644800@motalasjostad.se
SUMMARY:Runt Vättern-dagen - Historier kring Vättern
DESCRIPTION:Lördagen den 22 mars kl. 11.00 firar vi Runt Vättern-dagen med en föreläsning om Motalas vattenvägar. \nRunt Vättern-dagen sker den 22 mars i samband med Världsvattendagen med målet att lyfta fram vattenfrågor i alla dess former.\nVi berättar om Vätterns betydelse för Motala genom historien\, spännande levnadsöden så som enslingen på Fjuk och båtar som Per Brahe. Vi pratar också om Vätternförfattare som Folke Dahlberg och Verner von Heidenstam. \nDatum: Lördag 22 mars\nTid: 11.00-12.00\nVi bjuder på förmiddagskaffe från kl 10.30!\nPlats: Svecia Travels kontor på Poppelgatan 8 i Motala\nPris: 140 kr per person\nFöreläsare: Lotta Holmberg
URL:https://motalasjostad.se/ec-event/runt-vattern-dagen-historier-kring-vattern/
LOCATION:Svecia Travels kontor\, Poppelgatan 8\, Motala
ATTACH;FMTTYPE=image/jpeg:https://motalasjostad.se/wp-content/uploads/2025/02/motala-hamn-och-vaetternpromenaden.jpg
ORGANIZER;CN="Svecia Travels":MAILTO:info@sveciatravels.se
END:VEVENT
BEGIN:VEVENT
DTSTART;TZID=Europe/Paris:20250322T120000
DTEND;TZID=Europe/Paris:20250322T123000
DTSTAMP:20260424T010433
CREATED:20250221T105458Z
LAST-MODIFIED:20250221T105458Z
UID:10004277-1742644800-1742646600@motalasjostad.se
SUMMARY:Sagor på somaliska
DESCRIPTION:För dig som är ca 3–8 år. Vi träffas en lördag i månaden för att lyssna på berättelser på somaliska. Ingen anmälan.
URL:https://motalasjostad.se/ec-event/sagor-pa-somaliska-11/
LOCATION:Motala huvudbibliotek
CATEGORIES:Barn/ungdom
ATTACH;FMTTYPE=image/png:https://motalasjostad.se/wp-content/uploads/2025/02/Sagor-pa-somaliska-VT-25.png
END:VEVENT
BEGIN:VEVENT
DTSTART;TZID=Europe/Paris:20250322T120000
DTEND;TZID=Europe/Paris:20250322T160000
DTSTAMP:20260424T010433
CREATED:20250317T112008Z
LAST-MODIFIED:20250317T112008Z
UID:10004386-1742644800-1742659200@motalasjostad.se
SUMMARY:Något blev trots allt gjort...
DESCRIPTION:En retrospektiv utställning med Magnus Engbergs bilder och böcker ur hans rikhaltiga produktion av konstverk\, essäer\, radio- och TV-produktioner\, offentliga utsmyckningar mm.\, från 1975 till 2025.
URL:https://motalasjostad.se/ec-event/nagot-blev-trots-allt-gjort/2025-03-22/
LOCATION:Duberska gården\, Bispmotalagatan 34\, Motala\, 59130
CATEGORIES:Utställning
ATTACH;FMTTYPE=image/jpeg:https://motalasjostad.se/wp-content/uploads/2025/03/Engberg-Bok-och-konstverk-e1742210393724.jpg
ORGANIZER;CN="Motala Konstf%C3%B6rening":MAILTO:info@motalakonstforening.se
END:VEVENT
BEGIN:VEVENT
DTSTART;TZID=Europe/Paris:20250322T130000
DTEND;TZID=Europe/Paris:20250322T133000
DTSTAMP:20260424T010433
CREATED:20250221T103355Z
LAST-MODIFIED:20250221T103355Z
UID:10004278-1742648400-1742650200@motalasjostad.se
SUMMARY:Sagor på arabiska
DESCRIPTION:För dig som är ca 3–8 år. Vi träffas en lördag i månaden för att lyssna på berättelser på arabiska. Ingen anmälan.
URL:https://motalasjostad.se/ec-event/sagor-pa-arabiska-12/
LOCATION:Motala huvudbibliotek
CATEGORIES:Barn/ungdom
ATTACH;FMTTYPE=image/png:https://motalasjostad.se/wp-content/uploads/2025/02/Arabisk-sagostund-VT25-e1740134022922.png
END:VEVENT
BEGIN:VEVENT
DTSTART;TZID=Europe/Paris:20250322T140000
DTEND;TZID=Europe/Paris:20250322T140000
DTSTAMP:20260424T010433
CREATED:20250128T111016Z
LAST-MODIFIED:20250128T111016Z
UID:10004122-1742652000-1742652000@motalasjostad.se
SUMMARY:Pettson & Findus -Kackel i grönsakslandet
DESCRIPTION:På våren gör Pettson i ordning grönsakslandet och sår och planterar grönsaker och potatis. Findus gillar det där med att få saker att växa och försöker få en köttbulle att gro. Men det är inte så lätt att odla när hönsen kommer och krafsar upp allting igen. Och när hönsen är i säkert förvar är det någon annan som kommer och förstör. \nLämplig ålder 2-11 år. Efter föreställningen finns det möjlighet till fotografering med Pettson och Findus.
URL:https://motalasjostad.se/ec-event/pettson-findus-kackel-i-gronsakslandet/
LOCATION:Folkets Hus\, Teatersalongen\, Sjögatan 5\, Motala\, 591 50\, Sweden
CATEGORIES:Barn/ungdom
ATTACH;FMTTYPE=image/jpeg:https://motalasjostad.se/wp-content/uploads/2025/01/pettson-findus.jpg
ORGANIZER;CN="Folket Hus":MAILTO:info@motalafolketshus.se
END:VEVENT
END:VCALENDAR