BEGIN:VCALENDAR
VERSION:2.0
PRODID:-//Motala Sjöstad - ECPv6.13.2.1//NONSGML v1.0//EN
CALSCALE:GREGORIAN
METHOD:PUBLISH
X-ORIGINAL-URL:https://motalasjostad.se
X-WR-CALDESC:Händelser för Motala Sjöstad
REFRESH-INTERVAL;VALUE=DURATION:PT1H
X-Robots-Tag:noindex
X-PUBLISHED-TTL:PT1H
BEGIN:VTIMEZONE
TZID:Europe/Paris
BEGIN:DAYLIGHT
TZOFFSETFROM:+0100
TZOFFSETTO:+0200
TZNAME:CEST
DTSTART:20250330T010000
END:DAYLIGHT
BEGIN:STANDARD
TZOFFSETFROM:+0200
TZOFFSETTO:+0100
TZNAME:CET
DTSTART:20251026T010000
END:STANDARD
END:VTIMEZONE
BEGIN:VEVENT
DTSTART;TZID=Europe/Paris:20250322T080000
DTEND;TZID=Europe/Paris:20250322T170000
DTSTAMP:20260424T051349
CREATED:20250311T114030Z
LAST-MODIFIED:20250311T114030Z
UID:10004376-1742630400-1742662800@motalasjostad.se
SUMMARY:Konstutställning
DESCRIPTION:Lunnevads Konstlinje åk 1 ställde ut på Galleri K-ringen 2023 och det blev en succé med många besökare i alla åldrar\, särskilt unga!\nI år erbjuder vi dem utöver galleriet även vårt garage för att visa bl.a. skulptur.\nUtställningen visar elevernas olika tidigare erfarenheter och var elever hittar inspiration i sitt skapande idag. Flera av dem söker sen vidare till högre utbildningar. Flertalet elever är unga och sökande\, det blir en innehållsrik och sprudlande samling konstverk som visas. Det ingår i utbildningen att de producerar utställningen själva\, med affisch\, hängning och ljussättning.
URL:https://motalasjostad.se/ec-event/konstutstallning-5/2025-03-22/
CATEGORIES:Utställning
ATTACH;FMTTYPE=image/jpeg:https://motalasjostad.se/wp-content/uploads/2025/03/branchrad-25-03-15-1.jpg
ORGANIZER;CN="Galleri K-ringen":MAILTO:info@k-ringenmotala.se
END:VEVENT
BEGIN:VEVENT
DTSTART;TZID=Europe/Paris:20250322T110000
DTEND;TZID=Europe/Paris:20250322T120000
DTSTAMP:20260424T051349
CREATED:20250205T121706Z
LAST-MODIFIED:20250205T121706Z
UID:10004137-1742641200-1742644800@motalasjostad.se
SUMMARY:Runt Vättern-dagen - Historier kring Vättern
DESCRIPTION:Lördagen den 22 mars kl. 11.00 firar vi Runt Vättern-dagen med en föreläsning om Motalas vattenvägar. \nRunt Vättern-dagen sker den 22 mars i samband med Världsvattendagen med målet att lyfta fram vattenfrågor i alla dess former.\nVi berättar om Vätterns betydelse för Motala genom historien\, spännande levnadsöden så som enslingen på Fjuk och båtar som Per Brahe. Vi pratar också om Vätternförfattare som Folke Dahlberg och Verner von Heidenstam. \nDatum: Lördag 22 mars\nTid: 11.00-12.00\nVi bjuder på förmiddagskaffe från kl 10.30!\nPlats: Svecia Travels kontor på Poppelgatan 8 i Motala\nPris: 140 kr per person\nFöreläsare: Lotta Holmberg
URL:https://motalasjostad.se/ec-event/runt-vattern-dagen-historier-kring-vattern/
LOCATION:Svecia Travels kontor\, Poppelgatan 8\, Motala
ATTACH;FMTTYPE=image/jpeg:https://motalasjostad.se/wp-content/uploads/2025/02/motala-hamn-och-vaetternpromenaden.jpg
ORGANIZER;CN="Svecia Travels":MAILTO:info@sveciatravels.se
END:VEVENT
BEGIN:VEVENT
DTSTART;TZID=Europe/Paris:20250322T120000
DTEND;TZID=Europe/Paris:20250322T123000
DTSTAMP:20260424T051349
CREATED:20250221T105458Z
LAST-MODIFIED:20250221T105458Z
UID:10004277-1742644800-1742646600@motalasjostad.se
SUMMARY:Sagor på somaliska
DESCRIPTION:För dig som är ca 3–8 år. Vi träffas en lördag i månaden för att lyssna på berättelser på somaliska. Ingen anmälan.
URL:https://motalasjostad.se/ec-event/sagor-pa-somaliska-11/
LOCATION:Motala huvudbibliotek
CATEGORIES:Barn/ungdom
ATTACH;FMTTYPE=image/png:https://motalasjostad.se/wp-content/uploads/2025/02/Sagor-pa-somaliska-VT-25.png
END:VEVENT
BEGIN:VEVENT
DTSTART;TZID=Europe/Paris:20250322T120000
DTEND;TZID=Europe/Paris:20250322T160000
DTSTAMP:20260424T051349
CREATED:20250317T112008Z
LAST-MODIFIED:20250317T112008Z
UID:10004386-1742644800-1742659200@motalasjostad.se
SUMMARY:Något blev trots allt gjort...
DESCRIPTION:En retrospektiv utställning med Magnus Engbergs bilder och böcker ur hans rikhaltiga produktion av konstverk\, essäer\, radio- och TV-produktioner\, offentliga utsmyckningar mm.\, från 1975 till 2025.
URL:https://motalasjostad.se/ec-event/nagot-blev-trots-allt-gjort/2025-03-22/
LOCATION:Duberska gården\, Bispmotalagatan 34\, Motala\, 59130
CATEGORIES:Utställning
ATTACH;FMTTYPE=image/jpeg:https://motalasjostad.se/wp-content/uploads/2025/03/Engberg-Bok-och-konstverk-e1742210393724.jpg
ORGANIZER;CN="Motala Konstf%C3%B6rening":MAILTO:info@motalakonstforening.se
END:VEVENT
BEGIN:VEVENT
DTSTART;TZID=Europe/Paris:20250322T130000
DTEND;TZID=Europe/Paris:20250322T133000
DTSTAMP:20260424T051349
CREATED:20250221T103355Z
LAST-MODIFIED:20250221T103355Z
UID:10004278-1742648400-1742650200@motalasjostad.se
SUMMARY:Sagor på arabiska
DESCRIPTION:För dig som är ca 3–8 år. Vi träffas en lördag i månaden för att lyssna på berättelser på arabiska. Ingen anmälan.
URL:https://motalasjostad.se/ec-event/sagor-pa-arabiska-12/
LOCATION:Motala huvudbibliotek
CATEGORIES:Barn/ungdom
ATTACH;FMTTYPE=image/png:https://motalasjostad.se/wp-content/uploads/2025/02/Arabisk-sagostund-VT25-e1740134022922.png
END:VEVENT
BEGIN:VEVENT
DTSTART;TZID=Europe/Paris:20250322T140000
DTEND;TZID=Europe/Paris:20250322T140000
DTSTAMP:20260424T051349
CREATED:20250128T111016Z
LAST-MODIFIED:20250128T111016Z
UID:10004122-1742652000-1742652000@motalasjostad.se
SUMMARY:Pettson & Findus -Kackel i grönsakslandet
DESCRIPTION:På våren gör Pettson i ordning grönsakslandet och sår och planterar grönsaker och potatis. Findus gillar det där med att få saker att växa och försöker få en köttbulle att gro. Men det är inte så lätt att odla när hönsen kommer och krafsar upp allting igen. Och när hönsen är i säkert förvar är det någon annan som kommer och förstör. \nLämplig ålder 2-11 år. Efter föreställningen finns det möjlighet till fotografering med Pettson och Findus.
URL:https://motalasjostad.se/ec-event/pettson-findus-kackel-i-gronsakslandet/
LOCATION:Folkets Hus\, Teatersalongen\, Sjögatan 5\, Motala\, 591 50\, Sweden
CATEGORIES:Barn/ungdom
ATTACH;FMTTYPE=image/jpeg:https://motalasjostad.se/wp-content/uploads/2025/01/pettson-findus.jpg
ORGANIZER;CN="Folket Hus":MAILTO:info@motalafolketshus.se
END:VEVENT
BEGIN:VEVENT
DTSTART;TZID=Europe/Paris:20250322T140000
DTEND;TZID=Europe/Paris:20250322T143000
DTSTAMP:20260424T051349
CREATED:20250221T105355Z
LAST-MODIFIED:20250221T105355Z
UID:10004279-1742652000-1742653800@motalasjostad.se
SUMMARY:Sagor på tigrinska
DESCRIPTION:För dig som är ca 3–8 år. Vi träffas en lördag i månaden för att lyssna på berättelser på tigrinska. Ingen anmälan.
URL:https://motalasjostad.se/ec-event/sagor-pa-tigrinska-9/
LOCATION:Motala huvudbibliotek
CATEGORIES:Barn/ungdom
ATTACH;FMTTYPE=image/png:https://motalasjostad.se/wp-content/uploads/2025/02/Sagostund-pa-tigrinska.png
END:VEVENT
BEGIN:VEVENT
DTSTART;TZID=Europe/Paris:20250322T210000
DTEND;TZID=Europe/Paris:20250322T210000
DTSTAMP:20260424T051349
CREATED:20250203T090854Z
LAST-MODIFIED:20250203T091656Z
UID:10004134-1742677200-1742677200@motalasjostad.se
SUMMARY:Transport League
DESCRIPTION:Transport League är ett svenskt heavy metal-band från Partille\, bildat 1994 av sångaren och gitarristen Tony Jelencovich. Bandets musik blandar element av stoner metal och groove metal\, och levererar aggresiva och rytmiska framträdanden.
URL:https://motalasjostad.se/ec-event/transport-league/
LOCATION:Bomber Bar\, Prästgatan 3\, Motala\, 591 30\, Sweden
ATTACH;FMTTYPE=image/jpeg:https://motalasjostad.se/wp-content/uploads/2025/02/transport-league.jpg
ORGANIZER;CN="Transport League%2C Bomber Bar":MAILTO:bomberbarmotala@gmail.com
END:VEVENT
BEGIN:VEVENT
DTSTART;TZID=Europe/Paris:20250323T080000
DTEND;TZID=Europe/Paris:20250323T170000
DTSTAMP:20260424T051349
CREATED:20250311T114030Z
LAST-MODIFIED:20250311T114030Z
UID:10004377-1742716800-1742749200@motalasjostad.se
SUMMARY:Konstutställning
DESCRIPTION:Lunnevads Konstlinje åk 1 ställde ut på Galleri K-ringen 2023 och det blev en succé med många besökare i alla åldrar\, särskilt unga!\nI år erbjuder vi dem utöver galleriet även vårt garage för att visa bl.a. skulptur.\nUtställningen visar elevernas olika tidigare erfarenheter och var elever hittar inspiration i sitt skapande idag. Flera av dem söker sen vidare till högre utbildningar. Flertalet elever är unga och sökande\, det blir en innehållsrik och sprudlande samling konstverk som visas. Det ingår i utbildningen att de producerar utställningen själva\, med affisch\, hängning och ljussättning.
URL:https://motalasjostad.se/ec-event/konstutstallning-5/2025-03-23/
CATEGORIES:Utställning
ATTACH;FMTTYPE=image/jpeg:https://motalasjostad.se/wp-content/uploads/2025/03/branchrad-25-03-15-1.jpg
ORGANIZER;CN="Galleri K-ringen":MAILTO:info@k-ringenmotala.se
END:VEVENT
BEGIN:VEVENT
DTSTART;TZID=Europe/Paris:20250323T130000
DTEND;TZID=Europe/Paris:20250323T160000
DTSTAMP:20260424T051349
CREATED:20250317T112008Z
LAST-MODIFIED:20250317T112008Z
UID:10004387-1742734800-1742745600@motalasjostad.se
SUMMARY:Något blev trots allt gjort...
DESCRIPTION:En retrospektiv utställning med Magnus Engbergs bilder och böcker ur hans rikhaltiga produktion av konstverk\, essäer\, radio- och TV-produktioner\, offentliga utsmyckningar mm.\, från 1975 till 2025.
URL:https://motalasjostad.se/ec-event/nagot-blev-trots-allt-gjort/2025-03-23/
LOCATION:Duberska gården\, Bispmotalagatan 34\, Motala\, 59130
CATEGORIES:Utställning
ATTACH;FMTTYPE=image/jpeg:https://motalasjostad.se/wp-content/uploads/2025/03/Engberg-Bok-och-konstverk-e1742210393724.jpg
ORGANIZER;CN="Motala Konstf%C3%B6rening":MAILTO:info@motalakonstforening.se
END:VEVENT
BEGIN:VEVENT
DTSTART;TZID=Europe/Paris:20250323T180000
DTEND;TZID=Europe/Paris:20250323T200000
DTSTAMP:20260424T051349
CREATED:20250305T123439Z
LAST-MODIFIED:20250305T123752Z
UID:10004339-1742752800-1742760000@motalasjostad.se
SUMMARY:Musikcafé
DESCRIPTION:En kväll i countryns tecken med Anders Forsell och på temat ”Whenever you come around”
URL:https://motalasjostad.se/ec-event/musikcafe-7/
LOCATION:Equmeniakyrkan Furulid\, Badstrandsvägen 8\, Motala\, 59170\, Sweden
CATEGORIES:Musik
ATTACH;FMTTYPE=image/jpeg:https://motalasjostad.se/wp-content/uploads/2025/03/Musikcafe-Anders-Forsell-250323-staende-e1741178263881.jpg
ORGANIZER;CN="equmeniakyrkan Furulid":MAILTO:info@furulid.se
END:VEVENT
BEGIN:VEVENT
DTSTART;TZID=Europe/Paris:20250323T190000
DTEND;TZID=Europe/Paris:20250323T203000
DTSTAMP:20260424T051349
CREATED:20250114T114211Z
LAST-MODIFIED:20250114T114211Z
UID:10004091-1742756400-1742761800@motalasjostad.se
SUMMARY:Nattjägare
DESCRIPTION:En nyskriven opera om livets skuggsidor och hoppets envishet.\nEtt gammalt sommarställe ska säljas\, och med det väcks minnen till liv som länge legat begravda i den norrländska myren. Nattjägare drar oss in i ett gripande familjedrama där vi får möta olika personer i skuggan av en ofattbar tragedi. \nVad gör man när marken under fötterna plötsligt försvinner? När en anhörig väljer att lämna livet\, och de som blir kvar tvingas navigera i en värld som för alltid är förändrad? Genom fyra karaktärer – sonen som ung\, sonen som vuxen\, farfar\, och älgjägaren som en gång fann den döde ute på myren – utforskar Nattjägare olika sätt att uppleva\, undvika eller närma sig livets mörkaste stunder. I sökandet framkommer bortträngda känslor av skuld och ursinne\, men också en komplex kärlek mellan far och son. \nDen internationellt hyllade barytonsångaren Fredrik Zetterström ger liv åt samtliga roller i ett intimt samspel med Love Derwinger\, en av Sveriges främsta pianister. Tillsammans skapar de en musikalisk upplevelse som både tröstar och utmanar. \nNattjägare är en nyskriven opera i litet format\, skapad av tonsättaren Catharina Backman Kaarle och librettisten och dramatikern Kerstin Perski\, i nära samarbete med de medverkande artisterna. Tillsammans bjuder de in oss till en försonande berättelse om människans litenhet inför naturens överväldigande kraft\, men också om vår inneboende styrka att finna mening och skönhet även i mörkrets djup. En påminnelse om den betydelse vi alla har\, både i livet och bortom det\, och hur våra handlingar kan komma att eka genom generationer. \nBiljetter säljes via Tickster samt vid biljettkassa i timma innan.
URL:https://motalasjostad.se/ec-event/nattjagare/
LOCATION:Folkets hus\, Teater salongen\, Sjögatan 5\, Motala\, 591 30
ATTACH;FMTTYPE=image/jpeg:https://motalasjostad.se/wp-content/uploads/2025/01/Nattjagare.jpg
ORGANIZER;CN="Motala Teaterf%C3%B6rening":MAILTO:motala.tf@gmail.com
END:VEVENT
BEGIN:VEVENT
DTSTART;TZID=Europe/Paris:20250324T160000
DTEND;TZID=Europe/Paris:20250324T170000
DTSTAMP:20260424T051349
CREATED:20250221T105012Z
LAST-MODIFIED:20250221T105012Z
UID:10004291-1742832000-1742835600@motalasjostad.se
SUMMARY:Trädgårdsbokcirkel
DESCRIPTION:Vi läser en bok och diskuterar den samt ger varandra tips och trix om trädgården. Fråga personalen om vilken bok vi läser. Biblioteket bjuder på kaffe och te. Ta gärna med eget fikabröd.
URL:https://motalasjostad.se/ec-event/tradgardsbokcirkel-8/
LOCATION:Borensbergs Bibliotek\, Husbyvägen 13\, Borensberg\, 59175
CATEGORIES:Övriga evenemang
ATTACH;FMTTYPE=image/png:https://motalasjostad.se/wp-content/uploads/2025/02/Tradgardsbokcirkel-VT-25.png
END:VEVENT
BEGIN:VEVENT
DTSTART;TZID=Europe/Paris:20250325T103000
DTEND;TZID=Europe/Paris:20250325T120000
DTSTAMP:20260424T051349
CREATED:20250221T111046Z
LAST-MODIFIED:20250225T092039Z
UID:10004243-1742898600-1742904000@motalasjostad.se
SUMMARY:Digitala första hjälpen
DESCRIPTION:Välkommen till vår drop-in där vi svarar på dina grundläggande frågor om IT. Ta gärna med din telefon\, surfplatta eller laptop. På onsdagar kan du även få hjälp med att hantera Konsumentverkets sida Hallå konsument.
URL:https://motalasjostad.se/ec-event/digitala-forsta-hjalpen-52/2025-03-25/
LOCATION:Motala huvudbibliotek
CATEGORIES:Övriga evenemang
ATTACH;FMTTYPE=image/jpeg:https://motalasjostad.se/wp-content/uploads/2025/02/DFH-HT-24.jpg
END:VEVENT
BEGIN:VEVENT
DTSTART;TZID=Europe/Paris:20250325T130000
DTEND;TZID=Europe/Paris:20250325T140000
DTSTAMP:20260424T051349
CREATED:20250221T104908Z
LAST-MODIFIED:20250221T104908Z
UID:10004292-1742907600-1742911200@motalasjostad.se
SUMMARY:Bokcafé
DESCRIPTION:Vi fikar och pratar om böcker. Bibliotekarien tipsar bl.a. om nya böcker. Biblioteket bjuder på fika. \n 
URL:https://motalasjostad.se/ec-event/bokcafe-7/
LOCATION:Borensbergs Bibliotek\, Husbyvägen 13\, Borensberg\, 59175
CATEGORIES:Övriga evenemang
ATTACH;FMTTYPE=image/png:https://motalasjostad.se/wp-content/uploads/2025/02/BBG-Bokcafe.png
END:VEVENT
BEGIN:VEVENT
DTSTART;TZID=Europe/Paris:20250325T150000
DTEND;TZID=Europe/Paris:20250325T163000
DTSTAMP:20260424T051349
CREATED:20250221T110123Z
LAST-MODIFIED:20250221T110123Z
UID:10004267-1742914800-1742920200@motalasjostad.se
SUMMARY:Öppen bokcirkel
DESCRIPTION:Välkommen till bibliotekets bokcirkel. Vi träffas\, fikar och pratar om en bok vi har läst. Bokcirkeln är öppen\, du behöver alltså inte ha deltagit vid tidigare tillfällen. Anmälan till Motala huvudbibliotek på 0141-22 51 00 eller på bibl.info@motala.se senast dagen innan träffen ska äga rum. Vid detta tillfälle pratar vi om Skuggan över Innsmouth av H.P. Lovecraft. OBS! Begränsat antal platser. \n 
URL:https://motalasjostad.se/ec-event/oppen-bokcirkel-8/
LOCATION:Motala huvudbibliotek
CATEGORIES:Övriga evenemang
ATTACH;FMTTYPE=image/jpeg:https://motalasjostad.se/wp-content/uploads/2025/02/Oppen-bokcirkel-HT24.jpg
END:VEVENT
BEGIN:VEVENT
DTSTART;TZID=Europe/Paris:20250325T170000
DTEND;TZID=Europe/Paris:20250325T190000
DTSTAMP:20260424T051349
CREATED:20250221T110710Z
LAST-MODIFIED:20250221T110710Z
UID:10004256-1742922000-1742929200@motalasjostad.se
SUMMARY:Språkträning
DESCRIPTION:På Motala huvudbibliotek finns möjligheten att få hjälp med att träna på det svenska språket\, tyda krångliga brev\, skriva jobbansökningar med mera.\nI samarbete med Folkuniversitetet \n 
URL:https://motalasjostad.se/ec-event/spraktraning-33/2025-03-25/
LOCATION:Motala huvudbibliotek
CATEGORIES:Övriga evenemang
ATTACH;FMTTYPE=image/png:https://motalasjostad.se/wp-content/uploads/2025/02/Spraktraning.png
END:VEVENT
BEGIN:VEVENT
DTSTART;TZID=Europe/Paris:20250325T170000
DTEND;TZID=Europe/Paris:20250325T190000
DTSTAMP:20260424T051349
CREATED:20250317T112008Z
LAST-MODIFIED:20250317T112008Z
UID:10004388-1742922000-1742929200@motalasjostad.se
SUMMARY:Något blev trots allt gjort...
DESCRIPTION:En retrospektiv utställning med Magnus Engbergs bilder och böcker ur hans rikhaltiga produktion av konstverk\, essäer\, radio- och TV-produktioner\, offentliga utsmyckningar mm.\, från 1975 till 2025.
URL:https://motalasjostad.se/ec-event/nagot-blev-trots-allt-gjort/2025-03-25/
LOCATION:Duberska gården\, Bispmotalagatan 34\, Motala\, 59130
CATEGORIES:Utställning
ATTACH;FMTTYPE=image/jpeg:https://motalasjostad.se/wp-content/uploads/2025/03/Engberg-Bok-och-konstverk-e1742210393724.jpg
ORGANIZER;CN="Motala Konstf%C3%B6rening":MAILTO:info@motalakonstforening.se
END:VEVENT
BEGIN:VEVENT
DTSTART;TZID=Europe/Paris:20250325T183000
DTEND;TZID=Europe/Paris:20250325T220000
DTSTAMP:20260424T051349
CREATED:20250225T073031Z
LAST-MODIFIED:20250225T073500Z
UID:10004316-1742927400-1742940000@motalasjostad.se
SUMMARY:Motal Big Bands tisdagsdans
DESCRIPTION:Motala Big Band bjuder upp till dans \nKom och dansa eller bara sitt och njut av traditionell storbandsjazz \nMusiken börjar ca kl. 19:30
URL:https://motalasjostad.se/ec-event/motal-big-bands-tisdagsdans/2025-03-25/
LOCATION:Folkets hus\, Restaurang Sjöbris\, Sjögatan 5\, Motala\, 591 30\, Sweden
CATEGORIES:Musik
ATTACH;FMTTYPE=image/jpeg:https://motalasjostad.se/wp-content/uploads/2025/02/480146168_1095906638999919_7383493737811585476_n-e1740468615730.jpg
END:VEVENT
BEGIN:VEVENT
DTSTART;TZID=Europe/Paris:20250326T140000
DTEND;TZID=Europe/Paris:20250326T153000
DTSTAMP:20260424T051349
CREATED:20250221T110959Z
LAST-MODIFIED:20250221T110959Z
UID:10004247-1742997600-1743003000@motalasjostad.se
SUMMARY:Digitala första hjälpen
DESCRIPTION:Välkommen till vår drop-in där vi svarar på dina grundläggande frågor om IT. Ta gärna med din telefon\, surfplatta eller laptop. På onsdagar kan du även få hjälp med att hantera Konsumentverkets sida Hallå konsument.
URL:https://motalasjostad.se/ec-event/digitala-forsta-hjalpen-51/2025-03-26/
LOCATION:Motala huvudbibliotek
CATEGORIES:Övriga evenemang
ATTACH;FMTTYPE=image/jpeg:https://motalasjostad.se/wp-content/uploads/2025/02/DFH-HT-24-1.jpg
END:VEVENT
BEGIN:VEVENT
DTSTART;TZID=Europe/Paris:20250326T163000
DTEND;TZID=Europe/Paris:20250326T190000
DTSTAMP:20260424T051349
CREATED:20250221T104032Z
LAST-MODIFIED:20250221T104032Z
UID:10004287-1743006600-1743015600@motalasjostad.se
SUMMARY:Släktforskning
DESCRIPTION:Kom och släktforska med andra släktforskare. Ta med din dator eller ditt material. DIS-Filbyter finns på plats för att ge tips och råd. OBS! Träffarna är under meröppettid. För mer information kontakta bibliotekets personal på 0141-22 58 75. Drop in.
URL:https://motalasjostad.se/ec-event/slaktforskning-14/
LOCATION:Borensbergs Bibliotek\, Husbyvägen 13\, Borensberg\, 59175
CATEGORIES:Övriga evenemang
ATTACH;FMTTYPE=image/png:https://motalasjostad.se/wp-content/uploads/2025/02/Slaktforskning-1-e1740134416947.png
END:VEVENT
BEGIN:VEVENT
DTSTART;TZID=Europe/Paris:20250326T170000
DTEND;TZID=Europe/Paris:20250326T190000
DTSTAMP:20260424T051349
CREATED:20250317T112008Z
LAST-MODIFIED:20250317T112008Z
UID:10004389-1743008400-1743015600@motalasjostad.se
SUMMARY:Något blev trots allt gjort...
DESCRIPTION:En retrospektiv utställning med Magnus Engbergs bilder och böcker ur hans rikhaltiga produktion av konstverk\, essäer\, radio- och TV-produktioner\, offentliga utsmyckningar mm.\, från 1975 till 2025.
URL:https://motalasjostad.se/ec-event/nagot-blev-trots-allt-gjort/2025-03-26/
LOCATION:Duberska gården\, Bispmotalagatan 34\, Motala\, 59130
CATEGORIES:Utställning
ATTACH;FMTTYPE=image/jpeg:https://motalasjostad.se/wp-content/uploads/2025/03/Engberg-Bok-och-konstverk-e1742210393724.jpg
ORGANIZER;CN="Motala Konstf%C3%B6rening":MAILTO:info@motalakonstforening.se
END:VEVENT
BEGIN:VEVENT
DTSTART;TZID=Europe/Paris:20250326T180000
DTEND;TZID=Europe/Paris:20250326T190000
DTSTAMP:20260424T051349
CREATED:20250221T110603Z
LAST-MODIFIED:20250221T110603Z
UID:10004261-1743012000-1743015600@motalasjostad.se
SUMMARY:Lättläst bokcirkel på Ekön
DESCRIPTION:Vi läser och pratar om en lättläst bok. För dig som vill träna på att läsa och prata svenska. \n 
URL:https://motalasjostad.se/ec-event/lattlast-bokcirkel-pa-ekon-17/2025-03-26/
LOCATION:Platens gemensamhetslokal\, Ekön\, Styvingevägen 14\, Motala
CATEGORIES:Övriga evenemang
ATTACH;FMTTYPE=image/png:https://motalasjostad.se/wp-content/uploads/2025/02/Lattlast-bokcirkle-pa-Ekon-2024.png
END:VEVENT
BEGIN:VEVENT
DTSTART;TZID=Europe/Paris:20250326T183000
DTEND;TZID=Europe/Paris:20250326T183000
DTSTAMP:20260424T051349
CREATED:20250213T102954Z
LAST-MODIFIED:20250213T102954Z
UID:10004154-1743013800-1743013800@motalasjostad.se
SUMMARY:"Del av samma värld"
DESCRIPTION:En konsert med Kulturskolans barnkörer Novastars och Voxstarz\, med musik om vänskap\, vår gemensamma värld och en och annan tussilago! Under ledning av Christina ”Fiffi” Olsson och Lisa Andersson. \nFörbokning och övriga frågor :kultur@motala.se. Begränsat antal platser\, förboka gärna din biljett. \nSlottet är öppet från 16 på onsdagskvällar. \nVälkomna!
URL:https://motalasjostad.se/ec-event/del-av-samma-varld/
LOCATION:Charlottenborgs slott\, Strandvägen 71\, Motala\, 591 46\, Sweden
ATTACH;FMTTYPE=image/jpeg:https://motalasjostad.se/wp-content/uploads/2025/02/Slottet-baksidan-fotograf-Pia-Axelsson-3.jpg
ORGANIZER;CN="Motala kommun":MAILTO:kultur@motala.se
END:VEVENT
BEGIN:VEVENT
DTSTART;TZID=Europe/Paris:20250327T140000
DTEND;TZID=Europe/Paris:20250327T150000
DTSTAMP:20260424T051349
CREATED:20250127T112511Z
LAST-MODIFIED:20250127T112511Z
UID:10004117-1743084000-1743087600@motalasjostad.se
SUMMARY:Föredrag-Motalas Bryggerier
DESCRIPTION:Välkomna på vårens föreläsningsserie\, denna gång omMotala hade många bryggerier på slutet av 1800- och 1900-talet\, de allra flesta vid Motala ström. Vi berättar om hur det var att arbeta där och varför Motala blev staden med den låga moralen och de höga popplarna! Vilken roll spelade nykterhets- och kvinnorörelsen?\nFöreläsare: Lotta Holmberg (betalas på plats med swish eller jämna kontanter)Information och bokning: info@sveciatravels.se/0141-20 99 00Boka alltid plats\, det är oftast fullbokat!Går även att boka/betala online på www.sveciatravels.seVälkomna
URL:https://motalasjostad.se/ec-event/foredrag-motalas-bryggerier/2025-03-27/1/
LOCATION:Svecia Travels\, Poppelgatan 8\, Motala\, 591 35\, Sweden
ATTACH;FMTTYPE=image/jpeg:https://motalasjostad.se/wp-content/uploads/2025/01/motalas-bryggerier.jpg
ORGANIZER;CN="Svecia Travels Guidningar":MAILTO:info@sveciatravels.se
END:VEVENT
BEGIN:VEVENT
DTSTART;TZID=Europe/Paris:20250327T140000
DTEND;TZID=Europe/Paris:20250327T160000
DTSTAMP:20260424T051349
CREATED:20250225T073901Z
LAST-MODIFIED:20250225T073901Z
UID:10004306-1743084000-1743091200@motalasjostad.se
SUMMARY:Handarbeta på bibblan
DESCRIPTION:Ta med ditt handarbete och kom till biblioteket för en trevlig stund. Ta gärna med eget fika. Biblioteket bjuder på kaffe och te. Ingen anmälan.
URL:https://motalasjostad.se/ec-event/handarbeta-pa-bibblan-20/2025-03-27/
LOCATION:Tjällmo bibliotek\, Länsvägen\, Tjällmo\, 59190\, Sverige
CATEGORIES:Övriga evenemang
ATTACH;FMTTYPE=image/png:https://motalasjostad.se/wp-content/uploads/2025/02/Handarbetscafe.png
END:VEVENT
BEGIN:VEVENT
DTSTART;TZID=Europe/Paris:20250327T150000
DTEND;TZID=Europe/Paris:20250327T153000
DTSTAMP:20260424T051349
CREATED:20250225T074237Z
LAST-MODIFIED:20250225T074237Z
UID:10004298-1743087600-1743089400@motalasjostad.se
SUMMARY:Saga och sång
DESCRIPTION:För barn 2-5 år. Vi läser sagor och sjunger tillsammans. Välkommen
URL:https://motalasjostad.se/ec-event/saga-och-sang-11/2025-03-27/
LOCATION:Borensbergs Bibliotek\, Husbyvägen 13\, Borensberg\, 59175
CATEGORIES:Barn/ungdom
ATTACH;FMTTYPE=image/png:https://motalasjostad.se/wp-content/uploads/2025/02/Tre-kaniner-som-spelar-gitarr.png
END:VEVENT
BEGIN:VEVENT
DTSTART;TZID=Europe/Paris:20250327T160000
DTEND;TZID=Europe/Paris:20250327T170000
DTSTAMP:20260424T051350
CREATED:20250221T103527Z
LAST-MODIFIED:20250221T103527Z
UID:10004280-1743091200-1743094800@motalasjostad.se
SUMMARY:Barnens bokval
DESCRIPTION:Hjälp oss att välja nya böcker att köpa till biblioteket! Träffa oss som arbetar med barnlitteratur och var med och bestäm vad vi ska köpa. Vi spanar och läser om vilka nya böcker som finns och som kommer att komma ut. Sist men inte minst väljer och säger du vad du tycker – din röst räknas! Tillsammans hittar vi de bästa böckerna för alla barn. Ingen anmälan.
URL:https://motalasjostad.se/ec-event/barnens-bokval-2/
LOCATION:Motala huvudbibliotek
CATEGORIES:Barn/ungdom
ATTACH;FMTTYPE=image/png:https://motalasjostad.se/wp-content/uploads/2025/02/Barnens-bokval-e1740134109948.png
END:VEVENT
BEGIN:VEVENT
DTSTART;TZID=Europe/Paris:20250327T160000
DTEND;TZID=Europe/Paris:20250327T180000
DTSTAMP:20260424T051350
CREATED:20250311T114030Z
LAST-MODIFIED:20250311T114030Z
UID:10004369-1743091200-1743098400@motalasjostad.se
SUMMARY:Konstutställning
DESCRIPTION:Lunnevads Konstlinje åk 1 ställde ut på Galleri K-ringen 2023 och det blev en succé med många besökare i alla åldrar\, särskilt unga!\nI år erbjuder vi dem utöver galleriet även vårt garage för att visa bl.a. skulptur.\nUtställningen visar elevernas olika tidigare erfarenheter och var elever hittar inspiration i sitt skapande idag. Flera av dem söker sen vidare till högre utbildningar. Flertalet elever är unga och sökande\, det blir en innehållsrik och sprudlande samling konstverk som visas. Det ingår i utbildningen att de producerar utställningen själva\, med affisch\, hängning och ljussättning.
URL:https://motalasjostad.se/ec-event/konstutstallning-5/2025-03-27/
CATEGORIES:Utställning
ATTACH;FMTTYPE=image/jpeg:https://motalasjostad.se/wp-content/uploads/2025/03/branchrad-25-03-15-1.jpg
ORGANIZER;CN="Galleri K-ringen":MAILTO:info@k-ringenmotala.se
END:VEVENT
BEGIN:VEVENT
DTSTART;TZID=Europe/Paris:20250327T170000
DTEND;TZID=Europe/Paris:20250327T190000
DTSTAMP:20260424T051350
CREATED:20250221T110710Z
LAST-MODIFIED:20250221T110710Z
UID:10004257-1743094800-1743102000@motalasjostad.se
SUMMARY:Språkträning
DESCRIPTION:På Motala huvudbibliotek finns möjligheten att få hjälp med att träna på det svenska språket\, tyda krångliga brev\, skriva jobbansökningar med mera.\nI samarbete med Folkuniversitetet \n 
URL:https://motalasjostad.se/ec-event/spraktraning-33/2025-03-27/
LOCATION:Motala huvudbibliotek
CATEGORIES:Övriga evenemang
ATTACH;FMTTYPE=image/png:https://motalasjostad.se/wp-content/uploads/2025/02/Spraktraning.png
END:VEVENT
END:VCALENDAR