BEGIN:VCALENDAR
VERSION:2.0
PRODID:-//Motala Sjöstad - ECPv6.13.2.1//NONSGML v1.0//EN
CALSCALE:GREGORIAN
METHOD:PUBLISH
X-ORIGINAL-URL:https://motalasjostad.se
X-WR-CALDESC:Händelser för Motala Sjöstad
REFRESH-INTERVAL;VALUE=DURATION:PT1H
X-Robots-Tag:noindex
X-PUBLISHED-TTL:PT1H
BEGIN:VTIMEZONE
TZID:Europe/Paris
BEGIN:DAYLIGHT
TZOFFSETFROM:+0100
TZOFFSETTO:+0200
TZNAME:CEST
DTSTART:20250330T010000
END:DAYLIGHT
BEGIN:STANDARD
TZOFFSETFROM:+0200
TZOFFSETTO:+0100
TZNAME:CET
DTSTART:20251026T010000
END:STANDARD
END:VTIMEZONE
BEGIN:VEVENT
DTSTART;TZID=Europe/Paris:20250111T113000
DTEND;TZID=Europe/Paris:20250111T123000
DTSTAMP:20260422T230605
CREATED:20241129T093343Z
LAST-MODIFIED:20241218T102550Z
UID:10003987-1736595000-1736598600@motalasjostad.se
SUMMARY:Julgransplundring
DESCRIPTION:Välkommen på sång och dans med folkmusikgruppen Krål. Gå tipspromenad\, fika och prova lyckan i vår fiskdamm. Ingen anmälan.\nI samarbete med Erikshjälpen och Kulturskolan.
URL:https://motalasjostad.se/ec-event/julgransplundring/
LOCATION:Motala huvudbibliotek
CATEGORIES:Barn/ungdom
ATTACH;FMTTYPE=image/png:https://motalasjostad.se/wp-content/uploads/2024/11/Julgransplundring.png
END:VEVENT
BEGIN:VEVENT
DTSTART;TZID=Europe/Paris:20250111T150000
DTEND;TZID=Europe/Paris:20250111T173000
DTSTAMP:20260422T230605
CREATED:20241118T101351Z
LAST-MODIFIED:20241118T102430Z
UID:10003869-1736607600-1736616600@motalasjostad.se
SUMMARY:Nyladdat 43:e Revyn
DESCRIPTION:Ett år har gått och vi alla är väl sugna på lite ny revy! \nVi är laddade och kommunen är laddade att prata om laddade saker så därför är det denna gång Nyladdat som gäller. Revyn med 43 i strömstyrka. \nVI kommer bjuda på laddat material som kommer strömma ut i Folkets Hus Teatersalong. Vi har laddat med nytt och fräscht material i form av sång och musik\, sketcher\, monologer och en jäkla massa spännande påhitt. \nVi hoppas du vill umgås med oss en stund för att få ett skratt i vintermörkret! \nVarmt välkomna!! \n  \nEntrédörrarna öppnas 1timme innan start. Vänligen kom i god tid för att hänga av era ytterkläder i garderoben\, 30kr/jacka\, och passa på att boka in pausfika och ta något gott att äta/dricka innan eventstart. \nBoka gärna in er för att avnjuta vår kommande revymeny på Restaurang Sjöbris.\nTelefon: 0141 – 480 50 alt. restaurang@motalafolketshus.se \nBiljetterna köper ni smidigt och enkelt via Nortic.se alternativt via RAPPS FOTO Motala/Linköping.\nEvenemanget är ca 2h och 30 min\, inklusive paus.
URL:https://motalasjostad.se/ec-event/nyladdat-43e-revyn/2025-01-11/1/
LOCATION:Motala Folkets Hus Teatersalongen\, Folkets Hus Sjögatan 1\, Motala
ATTACH;FMTTYPE=image/jpeg:https://motalasjostad.se/wp-content/uploads/2024/11/Revy-20240-e1731924818869.jpg
ORGANIZER;CN="Motala Folkets Hus":MAILTO:info@motalafolketshus.se
END:VEVENT
BEGIN:VEVENT
DTSTART;TZID=Europe/Paris:20250111T190000
DTEND;TZID=Europe/Paris:20250111T213000
DTSTAMP:20260422T230605
CREATED:20241118T101351Z
LAST-MODIFIED:20241118T102430Z
UID:10003870-1736622000-1736631000@motalasjostad.se
SUMMARY:Nyladdat 43:e Revyn
DESCRIPTION:Ett år har gått och vi alla är väl sugna på lite ny revy! \nVi är laddade och kommunen är laddade att prata om laddade saker så därför är det denna gång Nyladdat som gäller. Revyn med 43 i strömstyrka. \nVI kommer bjuda på laddat material som kommer strömma ut i Folkets Hus Teatersalong. Vi har laddat med nytt och fräscht material i form av sång och musik\, sketcher\, monologer och en jäkla massa spännande påhitt. \nVi hoppas du vill umgås med oss en stund för att få ett skratt i vintermörkret! \nVarmt välkomna!! \n  \nEntrédörrarna öppnas 1timme innan start. Vänligen kom i god tid för att hänga av era ytterkläder i garderoben\, 30kr/jacka\, och passa på att boka in pausfika och ta något gott att äta/dricka innan eventstart. \nBoka gärna in er för att avnjuta vår kommande revymeny på Restaurang Sjöbris.\nTelefon: 0141 – 480 50 alt. restaurang@motalafolketshus.se \nBiljetterna köper ni smidigt och enkelt via Nortic.se alternativt via RAPPS FOTO Motala/Linköping.\nEvenemanget är ca 2h och 30 min\, inklusive paus.
URL:https://motalasjostad.se/ec-event/nyladdat-43e-revyn/2025-01-11/2/
LOCATION:Motala Folkets Hus Teatersalongen\, Folkets Hus Sjögatan 1\, Motala
ATTACH;FMTTYPE=image/jpeg:https://motalasjostad.se/wp-content/uploads/2024/11/Revy-20240-e1731924818869.jpg
ORGANIZER;CN="Motala Folkets Hus":MAILTO:info@motalafolketshus.se
END:VEVENT
BEGIN:VEVENT
DTSTART;TZID=Europe/Paris:20250113T140000
DTEND;TZID=Europe/Paris:20250113T150000
DTSTAMP:20260422T230605
CREATED:20241129T093248Z
LAST-MODIFIED:20241129T093248Z
UID:10003988-1736776800-1736780400@motalasjostad.se
SUMMARY:Barnens bokklubb
DESCRIPTION:För dig mellan 7–9 år. Välkommen till en klubb för dig som gillar att dyka ner i böckernas värld. Vi delar med oss av berättelser om vad vi har läst och älskat samt att vi läser tillsammans. Oavsett om du gillar fantasy\, mysterier\, fakta eller roliga historier – vi pratar om alla böcker! Ingen anmälan.
URL:https://motalasjostad.se/ec-event/barnens-bokklubb-6/
LOCATION:Motala huvudbibliotek
CATEGORIES:Barn/ungdom
ATTACH;FMTTYPE=image/png:https://motalasjostad.se/wp-content/uploads/2024/11/Barnens-bokklubb-1.png
END:VEVENT
BEGIN:VEVENT
DTSTART;TZID=Europe/Paris:20250113T140000
DTEND;TZID=Europe/Paris:20250113T160000
DTSTAMP:20260422T230605
CREATED:20241125T072822Z
LAST-MODIFIED:20241125T072822Z
UID:10003940-1736776800-1736784000@motalasjostad.se
SUMMARY:Bokcirkel för vuxna
DESCRIPTION:Vi träffas och samtalar kring en gemensam bok som alla läst. För mer information kontakta personalen på Tjällmo bibliotek på 0141-22 25 46. Ta gärna med eget fika. Biblioteket bjuder på kaffe och te. \n 
URL:https://motalasjostad.se/ec-event/bokcirkel-for-vuxna-6/
LOCATION:Tjällmo bibliotek\, Länsvägen\, Tjällmo\, 59190\, Sverige
ATTACH;FMTTYPE=image/png:https://motalasjostad.se/wp-content/uploads/2024/11/Bokcirkel-Tjallmo-1-e1732519690334.png
END:VEVENT
BEGIN:VEVENT
DTSTART;TZID=Europe/Paris:20250113T160000
DTEND;TZID=Europe/Paris:20250113T170000
DTSTAMP:20260422T230605
CREATED:20241125T072231Z
LAST-MODIFIED:20241125T072231Z
UID:10003944-1736784000-1736787600@motalasjostad.se
SUMMARY:Bokcafé
DESCRIPTION:Vi fikar och pratar om böcker. Biblioteket bjuder på fika.
URL:https://motalasjostad.se/ec-event/bokcafe-5/
LOCATION:Borensbergs Bibliotek\, Husbyvägen 13\, Borensberg\, 59175
ATTACH;FMTTYPE=image/png:https://motalasjostad.se/wp-content/uploads/2024/11/BBG-Bokcafe-1-e1732519339787.png
END:VEVENT
BEGIN:VEVENT
DTSTART;TZID=Europe/Paris:20250114T093000
DTEND;TZID=Europe/Paris:20250114T100000
DTSTAMP:20260422T230605
CREATED:20241129T092353Z
LAST-MODIFIED:20241129T092353Z
UID:10003995-1736847000-1736848800@motalasjostad.se
SUMMARY:Bokstund
DESCRIPTION:För barn 0-2 år och deras vuxna. Vi läser\, sjunger och ramsar tillsammans. Vi ger dig boktips för att stötta barnets språkutveckling med hjälp av böcker tidigt i livet. Ingen föranmälan behövs. Ta gärna med egen matsäck om du vill fika efteråt.
URL:https://motalasjostad.se/ec-event/bokstund-4/
LOCATION:Borensbergs Bibliotek\, Husbyvägen 13\, Borensberg\, 59175
CATEGORIES:Barn/ungdom
ATTACH;FMTTYPE=image/png:https://motalasjostad.se/wp-content/uploads/2024/11/Bokstund-BBG-1.png
END:VEVENT
BEGIN:VEVENT
DTSTART;TZID=Europe/Paris:20250114T103000
DTEND;TZID=Europe/Paris:20250114T120000
DTSTAMP:20260422T230605
CREATED:20241125T075522Z
LAST-MODIFIED:20241125T075522Z
UID:10003910-1736850600-1736856000@motalasjostad.se
SUMMARY:Digitala första hjälpen
DESCRIPTION:Välkommen till vår drop-in där vi svarar på dina grundläggande frågor om IT. Ta gärna med din telefon\, surfplatta eller laptop. På onsdagar kan du även få hjälp med att hantera Konsumentverkets sida Hallå konsument.
URL:https://motalasjostad.se/ec-event/digitala-forsta-hjalpen-47/2025-01-14/
LOCATION:Motala huvudbibliotek
ATTACH;FMTTYPE=image/jpeg:https://motalasjostad.se/wp-content/uploads/2024/11/DFH-HT-24-1-e1732521310976.jpg
END:VEVENT
BEGIN:VEVENT
DTSTART;TZID=Europe/Paris:20250114T170000
DTEND;TZID=Europe/Paris:20250114T190000
DTSTAMP:20260422T230605
CREATED:20241129T100805Z
LAST-MODIFIED:20241129T100805Z
UID:10003971-1736874000-1736881200@motalasjostad.se
SUMMARY:Språkträning
DESCRIPTION:På Motala huvudbibliotek finns möjligheten att få hjälp med att träna på det svenska språket\, tyda krångliga brev\, skriva jobbansökningar med mera.\nI samarbete med Folkuniversitetet
URL:https://motalasjostad.se/ec-event/spraktraning-31/2025-01-14/
LOCATION:Motala huvudbibliotek
ATTACH;FMTTYPE=image/png:https://motalasjostad.se/wp-content/uploads/2024/11/Spraktraning-1.png
END:VEVENT
BEGIN:VEVENT
DTSTART;TZID=Europe/Paris:20250115T140000
DTEND;TZID=Europe/Paris:20250115T153000
DTSTAMP:20260422T230605
CREATED:20241125T074951Z
LAST-MODIFIED:20241125T074951Z
UID:10003916-1736949600-1736955000@motalasjostad.se
SUMMARY:Digitala första hjälpen
DESCRIPTION:Välkommen till vår drop-in där vi svarar på dina grundläggande frågor om IT. Ta gärna med din telefon\, surfplatta eller laptop. På onsdagar kan du även få hjälp med att hantera Konsumentverkets sida Hallå konsument.
URL:https://motalasjostad.se/ec-event/digitala-forsta-hjalpen-45/2025-01-15/
LOCATION:Motala huvudbibliotek
ATTACH;FMTTYPE=image/jpeg:https://motalasjostad.se/wp-content/uploads/2024/11/DFH-HT-24-3-e1732520979284.jpg
END:VEVENT
BEGIN:VEVENT
DTSTART;TZID=Europe/Paris:20250115T180000
DTEND;TZID=Europe/Paris:20250115T190000
DTSTAMP:20260422T230605
CREATED:20241125T074352Z
LAST-MODIFIED:20241125T074352Z
UID:10003923-1736964000-1736967600@motalasjostad.se
SUMMARY:Lättläst bokcirkel på Ekön
DESCRIPTION:Vi läser och pratar om en lättläst bok. För dig som vill träna på att läsa och prata svenska. OBS! Plats: Gemensamhetslokalen\, Styvingevägen 14.
URL:https://motalasjostad.se/ec-event/lattlast-bokcirkel-pa-ekon-15/2025-01-15/
LOCATION:Gemensamhetslokalen\, Ekön\, Styvingevägen 14\, Motala
ATTACH;FMTTYPE=image/png:https://motalasjostad.se/wp-content/uploads/2024/11/Lattlast-bokcirkle-pa-Ekon-2024-1-e1732520614740.png
END:VEVENT
BEGIN:VEVENT
DTSTART;TZID=Europe/Paris:20250116T140000
DTEND;TZID=Europe/Paris:20250116T153000
DTSTAMP:20260422T230605
CREATED:20241125T075909Z
LAST-MODIFIED:20241125T075909Z
UID:10003906-1737036000-1737041400@motalasjostad.se
SUMMARY:Läsa tillsammans
DESCRIPTION:Välkommen till Läsa tillsammans – högläsning för vuxna där vi läser noveller och dikter högt tillsammans och samtalar om det vi läser. Det krävs inga förberedelser. Vi bjuder på kaffe/te. Anmälan till Motala huvudbibliotek på 0141-22 51 00 eller på e-post till bibl.info@motala.se senast den 9/1.
URL:https://motalasjostad.se/ec-event/lasa-tillsammans-3/
LOCATION:Motala huvudbibliotek
ATTACH;FMTTYPE=image/png:https://motalasjostad.se/wp-content/uploads/2024/11/Lasa-tillsammans-e1732521537218.png
END:VEVENT
BEGIN:VEVENT
DTSTART;TZID=Europe/Paris:20250116T140000
DTEND;TZID=Europe/Paris:20250116T160000
DTSTAMP:20260422T230605
CREATED:20241125T073227Z
LAST-MODIFIED:20241125T073227Z
UID:10003936-1737036000-1737043200@motalasjostad.se
SUMMARY:Handarbeta på bibblan
DESCRIPTION:Ta med ditt handarbete och kom till biblioteket för en trevlig stund. Ta gärna med eget fika. Biblioteket bjuder på kaffe och te. Ingen anmälan.
URL:https://motalasjostad.se/ec-event/handarbeta-pa-bibblan-18/2025-01-16/
LOCATION:Tjällmo bibliotek\, Länsvägen\, Tjällmo\, 59190\, Sverige
ATTACH;FMTTYPE=image/png:https://motalasjostad.se/wp-content/uploads/2024/11/Handarbetscafe-1-e1732519934665.png
END:VEVENT
BEGIN:VEVENT
DTSTART;TZID=Europe/Paris:20250116T160000
DTEND;TZID=Europe/Paris:20250116T163000
DTSTAMP:20260422T230605
CREATED:20241129T091921Z
LAST-MODIFIED:20241129T091921Z
UID:10003996-1737043200-1737045000@motalasjostad.se
SUMMARY:Saga och sång - OBS! Ny tid
DESCRIPTION:För barn 2-5 år. Vi läser sagor och sjunger tillsammans. Välkommen!
URL:https://motalasjostad.se/ec-event/saga-och-sang-obs-ny-tid/2025-01-16/
LOCATION:Borensbergs Bibliotek\, Husbyvägen 13\, Borensberg\, 59175
CATEGORIES:Barn/ungdom
ATTACH;FMTTYPE=image/png:https://motalasjostad.se/wp-content/uploads/2024/11/Tre-kaniner-som-spelar-gitarr.png
END:VEVENT
BEGIN:VEVENT
DTSTART;TZID=Europe/Paris:20250116T170000
DTEND;TZID=Europe/Paris:20250116T190000
DTSTAMP:20260422T230605
CREATED:20241129T100238Z
LAST-MODIFIED:20241129T100238Z
UID:10003976-1737046800-1737054000@motalasjostad.se
SUMMARY:Språkträning
DESCRIPTION:På Motala huvudbibliotek finns möjligheten att få hjälp med att träna på det svenska språket\, tyda krångliga brev\, skriva jobbansökningar med mera.\nI samarbete med Folkuniversitetet
URL:https://motalasjostad.se/ec-event/spraktraning-29/2025-01-16/
LOCATION:Motala huvudbibliotek
ATTACH;FMTTYPE=image/png:https://motalasjostad.se/wp-content/uploads/2024/11/Spraktraning-3.png
END:VEVENT
BEGIN:VEVENT
DTSTART;TZID=Europe/Paris:20250117T103000
DTEND;TZID=Europe/Paris:20250117T113000
DTSTAMP:20260422T230605
CREATED:20241125T073646Z
LAST-MODIFIED:20241125T073646Z
UID:10003930-1737109800-1737113400@motalasjostad.se
SUMMARY:Digitala första hjälpen
DESCRIPTION:Välkommen till vår drop-in där vi svarar på dina grundläggande frågor om IT. Ta gärna med din telefon\, surfplatta eller laptop.
URL:https://motalasjostad.se/ec-event/digitala-forsta-hjalpen-43/2025-01-17/
LOCATION:Borensbergs Bibliotek\, Husbyvägen 13\, Borensberg\, 59175
ATTACH;FMTTYPE=image/png:https://motalasjostad.se/wp-content/uploads/2024/11/DFH-BBG-1-e1732520193182.png
END:VEVENT
BEGIN:VEVENT
DTSTART;TZID=Europe/Paris:20250117T170000
DTEND;TZID=Europe/Paris:20250117T190000
DTSTAMP:20260422T230605
CREATED:20250114T104847Z
LAST-MODIFIED:20250114T105036Z
UID:10004090-1737133200-1737140400@motalasjostad.se
SUMMARY:Tacolov det är fredag
DESCRIPTION:Avsluta veckan med fredagsmys i församlingshemmet med Taco. Öppet för alla\, liten som stor. Välkommen till en stunds gemenskap och smaklig spis!
URL:https://motalasjostad.se/ec-event/tacolov-det-ar-fredag-3/
LOCATION:Svenska kyrkan\, Sjögatan 11\,\, Motala
ATTACH;FMTTYPE=image/jpeg:https://motalasjostad.se/wp-content/uploads/2025/01/Tacolov-e1736851828414.jpg
END:VEVENT
BEGIN:VEVENT
DTSTART;TZID=Europe/Paris:20250118T120000
DTEND;TZID=Europe/Paris:20250118T160000
DTSTAMP:20260422T230605
CREATED:20250108T095831Z
LAST-MODIFIED:20250108T101828Z
UID:10004051-1737201600-1737216000@motalasjostad.se
SUMMARY:Grafiska Rummet
DESCRIPTION:När den framstående grafikern Irene Nordh flyttade till en mindre bostad bestämde hon sig för att skänka sin elektriska grafikpress till Kulturverkstan K-ringen i Motala. Det är en fantastiskt fin press och runt den har vi nu byggt upp en liten grafisk kollektivverkstad. Vi som gjort detta har bildat en grupp som vi kallar ”Grafiska Rummet” och vi har alla grafiken som ett av flera konstnärliga uttryckssätt. På den här utställningen visar vi grafik som utförts i olika tekniker framför allt collografi och koppartryck.
URL:https://motalasjostad.se/ec-event/grafiska-rummet/2025-01-18/
LOCATION:Kulturverkstan K-Ringen
ATTACH;FMTTYPE=image/jpeg:https://motalasjostad.se/wp-content/uploads/2025/01/thumbnail_800x565-jan-25-Sjostad.jpg
ORGANIZER;CN="Kulturverkstan K-Ringen":MAILTO:info@k-ringenmotala.se
END:VEVENT
BEGIN:VEVENT
DTSTART;TZID=Europe/Paris:20250118T150000
DTEND;TZID=Europe/Paris:20250118T173000
DTSTAMP:20260422T230605
CREATED:20241118T101351Z
LAST-MODIFIED:20241118T102430Z
UID:10003871-1737212400-1737221400@motalasjostad.se
SUMMARY:Nyladdat 43:e Revyn
DESCRIPTION:Ett år har gått och vi alla är väl sugna på lite ny revy! \nVi är laddade och kommunen är laddade att prata om laddade saker så därför är det denna gång Nyladdat som gäller. Revyn med 43 i strömstyrka. \nVI kommer bjuda på laddat material som kommer strömma ut i Folkets Hus Teatersalong. Vi har laddat med nytt och fräscht material i form av sång och musik\, sketcher\, monologer och en jäkla massa spännande påhitt. \nVi hoppas du vill umgås med oss en stund för att få ett skratt i vintermörkret! \nVarmt välkomna!! \n  \nEntrédörrarna öppnas 1timme innan start. Vänligen kom i god tid för att hänga av era ytterkläder i garderoben\, 30kr/jacka\, och passa på att boka in pausfika och ta något gott att äta/dricka innan eventstart. \nBoka gärna in er för att avnjuta vår kommande revymeny på Restaurang Sjöbris.\nTelefon: 0141 – 480 50 alt. restaurang@motalafolketshus.se \nBiljetterna köper ni smidigt och enkelt via Nortic.se alternativt via RAPPS FOTO Motala/Linköping.\nEvenemanget är ca 2h och 30 min\, inklusive paus.
URL:https://motalasjostad.se/ec-event/nyladdat-43e-revyn/2025-01-18/1/
LOCATION:Motala Folkets Hus Teatersalongen\, Folkets Hus Sjögatan 1\, Motala
ATTACH;FMTTYPE=image/jpeg:https://motalasjostad.se/wp-content/uploads/2024/11/Revy-20240-e1731924818869.jpg
ORGANIZER;CN="Motala Folkets Hus":MAILTO:info@motalafolketshus.se
END:VEVENT
BEGIN:VEVENT
DTSTART;TZID=Europe/Paris:20250118T190000
DTEND;TZID=Europe/Paris:20250118T213000
DTSTAMP:20260422T230605
CREATED:20241118T101351Z
LAST-MODIFIED:20241118T102430Z
UID:10003872-1737226800-1737235800@motalasjostad.se
SUMMARY:Nyladdat 43:e Revyn
DESCRIPTION:Ett år har gått och vi alla är väl sugna på lite ny revy! \nVi är laddade och kommunen är laddade att prata om laddade saker så därför är det denna gång Nyladdat som gäller. Revyn med 43 i strömstyrka. \nVI kommer bjuda på laddat material som kommer strömma ut i Folkets Hus Teatersalong. Vi har laddat med nytt och fräscht material i form av sång och musik\, sketcher\, monologer och en jäkla massa spännande påhitt. \nVi hoppas du vill umgås med oss en stund för att få ett skratt i vintermörkret! \nVarmt välkomna!! \n  \nEntrédörrarna öppnas 1timme innan start. Vänligen kom i god tid för att hänga av era ytterkläder i garderoben\, 30kr/jacka\, och passa på att boka in pausfika och ta något gott att äta/dricka innan eventstart. \nBoka gärna in er för att avnjuta vår kommande revymeny på Restaurang Sjöbris.\nTelefon: 0141 – 480 50 alt. restaurang@motalafolketshus.se \nBiljetterna köper ni smidigt och enkelt via Nortic.se alternativt via RAPPS FOTO Motala/Linköping.\nEvenemanget är ca 2h och 30 min\, inklusive paus.
URL:https://motalasjostad.se/ec-event/nyladdat-43e-revyn/2025-01-18/2/
LOCATION:Motala Folkets Hus Teatersalongen\, Folkets Hus Sjögatan 1\, Motala
ATTACH;FMTTYPE=image/jpeg:https://motalasjostad.se/wp-content/uploads/2024/11/Revy-20240-e1731924818869.jpg
ORGANIZER;CN="Motala Folkets Hus":MAILTO:info@motalafolketshus.se
END:VEVENT
BEGIN:VEVENT
DTSTART;TZID=Europe/Paris:20250118T200000
DTEND;TZID=Europe/Paris:20250118T200000
DTSTAMP:20260422T230605
CREATED:20241209T095847Z
LAST-MODIFIED:20241209T095847Z
UID:10004027-1737230400-1737230400@motalasjostad.se
SUMMARY:Facebreaker/Vallgrav
DESCRIPTION:FacebreakerAwaken with cravings for human flesh. Facebreaker has risen from its slumber. We will come and spread the infection at Bomber bar\n\nVallgravUr den senaste Pestepidemin föddes en tanke om ett Dödsmetallprojekt. Vallgrav blev bestens namn. Texterna rör sig kring historiska händelser och mänskligt lidande under de århundraden som finns dokumenterade i skrift. Bandet härrör från de djupa barrskogarna i Finspång och består av 3 farbröder som spelat i olika band sedan 90-talet. Gillar du Boomerdöds gillar du Vallgrav – dödsmetall på svenska.
URL:https://motalasjostad.se/ec-event/facebreaker-vallgrav/
LOCATION:Bomber Bar\, Prästgatan 3\, Motala\, 591 30\, Sweden
ATTACH;FMTTYPE=image/jpeg:https://motalasjostad.se/wp-content/uploads/2024/12/Facebreaker-vallgrav.jpg
END:VEVENT
BEGIN:VEVENT
DTSTART;TZID=Europe/Paris:20250119T120000
DTEND;TZID=Europe/Paris:20250119T160000
DTSTAMP:20260422T230605
CREATED:20250108T095831Z
LAST-MODIFIED:20250108T101828Z
UID:10004052-1737288000-1737302400@motalasjostad.se
SUMMARY:Grafiska Rummet
DESCRIPTION:När den framstående grafikern Irene Nordh flyttade till en mindre bostad bestämde hon sig för att skänka sin elektriska grafikpress till Kulturverkstan K-ringen i Motala. Det är en fantastiskt fin press och runt den har vi nu byggt upp en liten grafisk kollektivverkstad. Vi som gjort detta har bildat en grupp som vi kallar ”Grafiska Rummet” och vi har alla grafiken som ett av flera konstnärliga uttryckssätt. På den här utställningen visar vi grafik som utförts i olika tekniker framför allt collografi och koppartryck.
URL:https://motalasjostad.se/ec-event/grafiska-rummet/2025-01-19/
LOCATION:Kulturverkstan K-Ringen
ATTACH;FMTTYPE=image/jpeg:https://motalasjostad.se/wp-content/uploads/2025/01/thumbnail_800x565-jan-25-Sjostad.jpg
ORGANIZER;CN="Kulturverkstan K-Ringen":MAILTO:info@k-ringenmotala.se
END:VEVENT
BEGIN:VEVENT
DTSTART;TZID=Europe/Paris:20250121T103000
DTEND;TZID=Europe/Paris:20250121T120000
DTSTAMP:20260422T230605
CREATED:20241125T075522Z
LAST-MODIFIED:20241125T075522Z
UID:10003911-1737455400-1737460800@motalasjostad.se
SUMMARY:Digitala första hjälpen
DESCRIPTION:Välkommen till vår drop-in där vi svarar på dina grundläggande frågor om IT. Ta gärna med din telefon\, surfplatta eller laptop. På onsdagar kan du även få hjälp med att hantera Konsumentverkets sida Hallå konsument.
URL:https://motalasjostad.se/ec-event/digitala-forsta-hjalpen-47/2025-01-21/
LOCATION:Motala huvudbibliotek
ATTACH;FMTTYPE=image/jpeg:https://motalasjostad.se/wp-content/uploads/2024/11/DFH-HT-24-1-e1732521310976.jpg
END:VEVENT
BEGIN:VEVENT
DTSTART;TZID=Europe/Paris:20250121T153000
DTEND;TZID=Europe/Paris:20250121T163000
DTSTAMP:20260422T230605
CREATED:20241203T103055Z
LAST-MODIFIED:20241203T103055Z
UID:10004014-1737473400-1737477000@motalasjostad.se
SUMMARY:MangaMania - Sport
DESCRIPTION:Från ca 10 år. Gillar du att läsa manga eller titta på anime? Gillar du att ge och få bok- och filmtips? Då är MangaMania något för dig! Denna gång\npratar vi om allt kring sportserierna Blue Lock och Haikyu!! Ingen anmälan.
URL:https://motalasjostad.se/ec-event/mangamania-sport/
LOCATION:Motala huvudbibliotek
CATEGORIES:Barn/ungdom
ATTACH;FMTTYPE=image/png:https://motalasjostad.se/wp-content/uploads/2024/12/MangaMania-sport-e1733221837633.png
END:VEVENT
BEGIN:VEVENT
DTSTART;TZID=Europe/Paris:20250121T170000
DTEND;TZID=Europe/Paris:20250121T190000
DTSTAMP:20260422T230605
CREATED:20241129T100805Z
LAST-MODIFIED:20241129T100805Z
UID:10003972-1737478800-1737486000@motalasjostad.se
SUMMARY:Språkträning
DESCRIPTION:På Motala huvudbibliotek finns möjligheten att få hjälp med att träna på det svenska språket\, tyda krångliga brev\, skriva jobbansökningar med mera.\nI samarbete med Folkuniversitetet
URL:https://motalasjostad.se/ec-event/spraktraning-31/2025-01-21/
LOCATION:Motala huvudbibliotek
ATTACH;FMTTYPE=image/png:https://motalasjostad.se/wp-content/uploads/2024/11/Spraktraning-1.png
END:VEVENT
BEGIN:VEVENT
DTSTART;TZID=Europe/Paris:20250121T183000
DTEND;TZID=Europe/Paris:20250121T193000
DTSTAMP:20260422T230605
CREATED:20241129T091630Z
LAST-MODIFIED:20241129T091630Z
UID:10003999-1737484200-1737487800@motalasjostad.se
SUMMARY:Vad önskar du förändra i ditt liv?
DESCRIPTION:Föreläsning med Johannes Dakermandji\, livscoach och inspiratör. Att vilja göra en förändring inom ett visst område i sitt liv blockeras ofta av mentala hinder som kan dyka upp i form av ursäkter man använder sig av som: vad kommer min omgivning att tycka\, om jag misslyckas? Jag vet inte vilka steg jag ska ta. Förändringen jag vill göra innebär handlingar som jag tidigare inte har gjort\, och det skrämmer mig lite. Välkommen till en inspirerande föreläsning som hjälper dig att identifiera och övervinna mentala hinder för att skapa den förändring du drömmer om.
URL:https://motalasjostad.se/ec-event/vad-onskar-du-forandra-i-ditt-liv/
LOCATION:Motala huvudbibliotek
ATTACH;FMTTYPE=image/png:https://motalasjostad.se/wp-content/uploads/2024/11/Johannes-Dakermandji-e1732871775632.png
END:VEVENT
BEGIN:VEVENT
DTSTART;TZID=Europe/Paris:20250122T140000
DTEND;TZID=Europe/Paris:20250122T153000
DTSTAMP:20260422T230605
CREATED:20241125T074951Z
LAST-MODIFIED:20241125T074951Z
UID:10003917-1737554400-1737559800@motalasjostad.se
SUMMARY:Digitala första hjälpen
DESCRIPTION:Välkommen till vår drop-in där vi svarar på dina grundläggande frågor om IT. Ta gärna med din telefon\, surfplatta eller laptop. På onsdagar kan du även få hjälp med att hantera Konsumentverkets sida Hallå konsument.
URL:https://motalasjostad.se/ec-event/digitala-forsta-hjalpen-45/2025-01-22/
LOCATION:Motala huvudbibliotek
ATTACH;FMTTYPE=image/jpeg:https://motalasjostad.se/wp-content/uploads/2024/11/DFH-HT-24-3-e1732520979284.jpg
END:VEVENT
BEGIN:VEVENT
DTSTART;TZID=Europe/Paris:20250122T180000
DTEND;TZID=Europe/Paris:20250122T190000
DTSTAMP:20260422T230605
CREATED:20241125T074352Z
LAST-MODIFIED:20241125T074352Z
UID:10003924-1737568800-1737572400@motalasjostad.se
SUMMARY:Lättläst bokcirkel på Ekön
DESCRIPTION:Vi läser och pratar om en lättläst bok. För dig som vill träna på att läsa och prata svenska. OBS! Plats: Gemensamhetslokalen\, Styvingevägen 14.
URL:https://motalasjostad.se/ec-event/lattlast-bokcirkel-pa-ekon-15/2025-01-22/
LOCATION:Gemensamhetslokalen\, Ekön\, Styvingevägen 14\, Motala
ATTACH;FMTTYPE=image/png:https://motalasjostad.se/wp-content/uploads/2024/11/Lattlast-bokcirkle-pa-Ekon-2024-1-e1732520614740.png
END:VEVENT
BEGIN:VEVENT
DTSTART;TZID=Europe/Paris:20250123T140000
DTEND;TZID=Europe/Paris:20250123T160000
DTSTAMP:20260422T230605
CREATED:20241125T073227Z
LAST-MODIFIED:20241125T073227Z
UID:10003937-1737640800-1737648000@motalasjostad.se
SUMMARY:Handarbeta på bibblan
DESCRIPTION:Ta med ditt handarbete och kom till biblioteket för en trevlig stund. Ta gärna med eget fika. Biblioteket bjuder på kaffe och te. Ingen anmälan.
URL:https://motalasjostad.se/ec-event/handarbeta-pa-bibblan-18/2025-01-23/
LOCATION:Tjällmo bibliotek\, Länsvägen\, Tjällmo\, 59190\, Sverige
ATTACH;FMTTYPE=image/png:https://motalasjostad.se/wp-content/uploads/2024/11/Handarbetscafe-1-e1732519934665.png
END:VEVENT
BEGIN:VEVENT
DTSTART;TZID=Europe/Paris:20250123T160000
DTEND;TZID=Europe/Paris:20250123T163000
DTSTAMP:20260422T230605
CREATED:20241129T091921Z
LAST-MODIFIED:20241129T091921Z
UID:10003997-1737648000-1737649800@motalasjostad.se
SUMMARY:Saga och sång - OBS! Ny tid
DESCRIPTION:För barn 2-5 år. Vi läser sagor och sjunger tillsammans. Välkommen!
URL:https://motalasjostad.se/ec-event/saga-och-sang-obs-ny-tid/2025-01-23/
LOCATION:Borensbergs Bibliotek\, Husbyvägen 13\, Borensberg\, 59175
CATEGORIES:Barn/ungdom
ATTACH;FMTTYPE=image/png:https://motalasjostad.se/wp-content/uploads/2024/11/Tre-kaniner-som-spelar-gitarr.png
END:VEVENT
END:VCALENDAR