BEGIN:VCALENDAR
VERSION:2.0
PRODID:-//Motala Sjöstad - ECPv6.13.2.1//NONSGML v1.0//EN
CALSCALE:GREGORIAN
METHOD:PUBLISH
X-ORIGINAL-URL:https://motalasjostad.se
X-WR-CALDESC:Händelser för Motala Sjöstad
REFRESH-INTERVAL;VALUE=DURATION:PT1H
X-Robots-Tag:noindex
X-PUBLISHED-TTL:PT1H
BEGIN:VTIMEZONE
TZID:Europe/Paris
BEGIN:DAYLIGHT
TZOFFSETFROM:+0100
TZOFFSETTO:+0200
TZNAME:CEST
DTSTART:20250330T010000
END:DAYLIGHT
BEGIN:STANDARD
TZOFFSETFROM:+0200
TZOFFSETTO:+0100
TZNAME:CET
DTSTART:20251026T010000
END:STANDARD
END:VTIMEZONE
BEGIN:VEVENT
DTSTART;TZID=Europe/Paris:20250327T140000
DTEND;TZID=Europe/Paris:20250327T150000
DTSTAMP:20260424T131655
CREATED:20250127T112511Z
LAST-MODIFIED:20250127T112511Z
UID:10004117-1743084000-1743087600@motalasjostad.se
SUMMARY:Föredrag-Motalas Bryggerier
DESCRIPTION:Välkomna på vårens föreläsningsserie\, denna gång omMotala hade många bryggerier på slutet av 1800- och 1900-talet\, de allra flesta vid Motala ström. Vi berättar om hur det var att arbeta där och varför Motala blev staden med den låga moralen och de höga popplarna! Vilken roll spelade nykterhets- och kvinnorörelsen?\nFöreläsare: Lotta Holmberg (betalas på plats med swish eller jämna kontanter)Information och bokning: info@sveciatravels.se/0141-20 99 00Boka alltid plats\, det är oftast fullbokat!Går även att boka/betala online på www.sveciatravels.seVälkomna
URL:https://motalasjostad.se/ec-event/foredrag-motalas-bryggerier/2025-03-27/1/
LOCATION:Svecia Travels\, Poppelgatan 8\, Motala\, 591 35\, Sweden
ATTACH;FMTTYPE=image/jpeg:https://motalasjostad.se/wp-content/uploads/2025/01/motalas-bryggerier.jpg
ORGANIZER;CN="Svecia Travels Guidningar":MAILTO:info@sveciatravels.se
END:VEVENT
BEGIN:VEVENT
DTSTART;TZID=Europe/Paris:20250327T140000
DTEND;TZID=Europe/Paris:20250327T160000
DTSTAMP:20260424T131655
CREATED:20250225T073901Z
LAST-MODIFIED:20250225T073901Z
UID:10004306-1743084000-1743091200@motalasjostad.se
SUMMARY:Handarbeta på bibblan
DESCRIPTION:Ta med ditt handarbete och kom till biblioteket för en trevlig stund. Ta gärna med eget fika. Biblioteket bjuder på kaffe och te. Ingen anmälan.
URL:https://motalasjostad.se/ec-event/handarbeta-pa-bibblan-20/2025-03-27/
LOCATION:Tjällmo bibliotek\, Länsvägen\, Tjällmo\, 59190\, Sverige
CATEGORIES:Övriga evenemang
ATTACH;FMTTYPE=image/png:https://motalasjostad.se/wp-content/uploads/2025/02/Handarbetscafe.png
END:VEVENT
BEGIN:VEVENT
DTSTART;TZID=Europe/Paris:20250327T150000
DTEND;TZID=Europe/Paris:20250327T153000
DTSTAMP:20260424T131655
CREATED:20250225T074237Z
LAST-MODIFIED:20250225T074237Z
UID:10004298-1743087600-1743089400@motalasjostad.se
SUMMARY:Saga och sång
DESCRIPTION:För barn 2-5 år. Vi läser sagor och sjunger tillsammans. Välkommen
URL:https://motalasjostad.se/ec-event/saga-och-sang-11/2025-03-27/
LOCATION:Borensbergs Bibliotek\, Husbyvägen 13\, Borensberg\, 59175
CATEGORIES:Barn/ungdom
ATTACH;FMTTYPE=image/png:https://motalasjostad.se/wp-content/uploads/2025/02/Tre-kaniner-som-spelar-gitarr.png
END:VEVENT
BEGIN:VEVENT
DTSTART;TZID=Europe/Paris:20250327T160000
DTEND;TZID=Europe/Paris:20250327T170000
DTSTAMP:20260424T131655
CREATED:20250221T103527Z
LAST-MODIFIED:20250221T103527Z
UID:10004280-1743091200-1743094800@motalasjostad.se
SUMMARY:Barnens bokval
DESCRIPTION:Hjälp oss att välja nya böcker att köpa till biblioteket! Träffa oss som arbetar med barnlitteratur och var med och bestäm vad vi ska köpa. Vi spanar och läser om vilka nya böcker som finns och som kommer att komma ut. Sist men inte minst väljer och säger du vad du tycker – din röst räknas! Tillsammans hittar vi de bästa böckerna för alla barn. Ingen anmälan.
URL:https://motalasjostad.se/ec-event/barnens-bokval-2/
LOCATION:Motala huvudbibliotek
CATEGORIES:Barn/ungdom
ATTACH;FMTTYPE=image/png:https://motalasjostad.se/wp-content/uploads/2025/02/Barnens-bokval-e1740134109948.png
END:VEVENT
BEGIN:VEVENT
DTSTART;TZID=Europe/Paris:20250327T160000
DTEND;TZID=Europe/Paris:20250327T180000
DTSTAMP:20260424T131655
CREATED:20250311T114030Z
LAST-MODIFIED:20250311T114030Z
UID:10004369-1743091200-1743098400@motalasjostad.se
SUMMARY:Konstutställning
DESCRIPTION:Lunnevads Konstlinje åk 1 ställde ut på Galleri K-ringen 2023 och det blev en succé med många besökare i alla åldrar\, särskilt unga!\nI år erbjuder vi dem utöver galleriet även vårt garage för att visa bl.a. skulptur.\nUtställningen visar elevernas olika tidigare erfarenheter och var elever hittar inspiration i sitt skapande idag. Flera av dem söker sen vidare till högre utbildningar. Flertalet elever är unga och sökande\, det blir en innehållsrik och sprudlande samling konstverk som visas. Det ingår i utbildningen att de producerar utställningen själva\, med affisch\, hängning och ljussättning.
URL:https://motalasjostad.se/ec-event/konstutstallning-5/2025-03-27/
CATEGORIES:Utställning
ATTACH;FMTTYPE=image/jpeg:https://motalasjostad.se/wp-content/uploads/2025/03/branchrad-25-03-15-1.jpg
ORGANIZER;CN="Galleri K-ringen":MAILTO:info@k-ringenmotala.se
END:VEVENT
BEGIN:VEVENT
DTSTART;TZID=Europe/Paris:20250327T170000
DTEND;TZID=Europe/Paris:20250327T190000
DTSTAMP:20260424T131655
CREATED:20250221T110710Z
LAST-MODIFIED:20250221T110710Z
UID:10004257-1743094800-1743102000@motalasjostad.se
SUMMARY:Språkträning
DESCRIPTION:På Motala huvudbibliotek finns möjligheten att få hjälp med att träna på det svenska språket\, tyda krångliga brev\, skriva jobbansökningar med mera.\nI samarbete med Folkuniversitetet \n 
URL:https://motalasjostad.se/ec-event/spraktraning-33/2025-03-27/
LOCATION:Motala huvudbibliotek
CATEGORIES:Övriga evenemang
ATTACH;FMTTYPE=image/png:https://motalasjostad.se/wp-content/uploads/2025/02/Spraktraning.png
END:VEVENT
BEGIN:VEVENT
DTSTART;TZID=Europe/Paris:20250327T170000
DTEND;TZID=Europe/Paris:20250327T190000
DTSTAMP:20260424T131655
CREATED:20250317T112008Z
LAST-MODIFIED:20250317T112008Z
UID:10004390-1743094800-1743102000@motalasjostad.se
SUMMARY:Något blev trots allt gjort...
DESCRIPTION:En retrospektiv utställning med Magnus Engbergs bilder och böcker ur hans rikhaltiga produktion av konstverk\, essäer\, radio- och TV-produktioner\, offentliga utsmyckningar mm.\, från 1975 till 2025.
URL:https://motalasjostad.se/ec-event/nagot-blev-trots-allt-gjort/2025-03-27/
LOCATION:Duberska gården\, Bispmotalagatan 34\, Motala\, 59130
CATEGORIES:Utställning
ATTACH;FMTTYPE=image/jpeg:https://motalasjostad.se/wp-content/uploads/2025/03/Engberg-Bok-och-konstverk-e1742210393724.jpg
ORGANIZER;CN="Motala Konstf%C3%B6rening":MAILTO:info@motalakonstforening.se
END:VEVENT
BEGIN:VEVENT
DTSTART;TZID=Europe/Paris:20250327T170000
DTEND;TZID=Europe/Paris:20250327T200000
DTSTAMP:20260424T131655
CREATED:20250304T084126Z
LAST-MODIFIED:20250304T084126Z
UID:10004336-1743094800-1743105600@motalasjostad.se
SUMMARY:Shoppingkväll i Motala centrum
DESCRIPTION:Välkommen att kicka igång våren i Motala centrum den 27 mars!Hela kvällen blir det erbjudanden\, after shopping\, modevisning\, underhållning och mycket mycket annat!\nTa med dig familjen\, partnern\, vännerna\, föräldrarna – ja\, alla du känner och ha en underbar vårkväll i Motala centrum!\nFölj evenemanget för mer info om vad som kommer att hända under kvällen!——Evenemanget görs i samarbete mellan Motala centrums nätverk\, Tillväxt Motala\, Försäljnings- och serviceprogrammet på Carlsund samt Gallerian.
URL:https://motalasjostad.se/ec-event/shoppingkvall-i-motala-centrum-2/
LOCATION:Motala centrum\, Motala
CATEGORIES:Övriga evenemang
ATTACH;FMTTYPE=image/jpeg:https://motalasjostad.se/wp-content/uploads/2025/03/shoppingkvall.jpg
END:VEVENT
BEGIN:VEVENT
DTSTART;TZID=Europe/Paris:20250327T180000
DTEND;TZID=Europe/Paris:20250327T190000
DTSTAMP:20260424T131655
CREATED:20250127T112511Z
LAST-MODIFIED:20250127T112511Z
UID:10004118-1743098400-1743102000@motalasjostad.se
SUMMARY:Föredrag-Motalas Bryggerier
DESCRIPTION:Välkomna på vårens föreläsningsserie\, denna gång omMotala hade många bryggerier på slutet av 1800- och 1900-talet\, de allra flesta vid Motala ström. Vi berättar om hur det var att arbeta där och varför Motala blev staden med den låga moralen och de höga popplarna! Vilken roll spelade nykterhets- och kvinnorörelsen?\nFöreläsare: Lotta Holmberg (betalas på plats med swish eller jämna kontanter)Information och bokning: info@sveciatravels.se/0141-20 99 00Boka alltid plats\, det är oftast fullbokat!Går även att boka/betala online på www.sveciatravels.seVälkomna
URL:https://motalasjostad.se/ec-event/foredrag-motalas-bryggerier/2025-03-27/2/
LOCATION:Svecia Travels\, Poppelgatan 8\, Motala\, 591 35\, Sweden
ATTACH;FMTTYPE=image/jpeg:https://motalasjostad.se/wp-content/uploads/2025/01/motalas-bryggerier.jpg
ORGANIZER;CN="Svecia Travels Guidningar":MAILTO:info@sveciatravels.se
END:VEVENT
BEGIN:VEVENT
DTSTART;TZID=Europe/Paris:20250328T103000
DTEND;TZID=Europe/Paris:20250328T113000
DTSTAMP:20260424T131655
CREATED:20250221T103845Z
LAST-MODIFIED:20250221T103845Z
UID:10004285-1743157800-1743161400@motalasjostad.se
SUMMARY:Digitala första hjälpen
DESCRIPTION:Välkommen till vår drop-in där vi svarar på dina grundläggande frågor om IT. Ta gärna med din telefon\, surfplatta eller laptop. \n 
URL:https://motalasjostad.se/ec-event/digitala-forsta-hjalpen-49/2025-03-28/
LOCATION:Borensbergs Bibliotek\, Husbyvägen 13\, Borensberg\, 59175
CATEGORIES:Övriga evenemang
ATTACH;FMTTYPE=image/png:https://motalasjostad.se/wp-content/uploads/2025/02/DFH-BBG-e1740134303397.png
END:VEVENT
BEGIN:VEVENT
DTSTART;TZID=Europe/Paris:20250328T150000
DTEND;TZID=Europe/Paris:20250328T160000
DTSTAMP:20260424T131655
CREATED:20250221T103644Z
LAST-MODIFIED:20250221T103644Z
UID:10004281-1743174000-1743177600@motalasjostad.se
SUMMARY:Småttestund
DESCRIPTION:För dig mellan 1–2 år. En fredag i månaden är alla småttingar extra välkomna till biblioteket. Det blir en stund där vi tillsammans läser\, ramsar och sjunger. Ingen anmälan. \n 
URL:https://motalasjostad.se/ec-event/smattestund-6/
LOCATION:Motala huvudbibliotek
CATEGORIES:Barn/ungdom
ATTACH;FMTTYPE=image/png:https://motalasjostad.se/wp-content/uploads/2025/02/Smattestund-e1740134194554.png
END:VEVENT
BEGIN:VEVENT
DTSTART;TZID=Europe/Paris:20250328T220000
DTEND;TZID=Europe/Paris:20250329T020000
DTSTAMP:20260424T131655
CREATED:20250203T084632Z
LAST-MODIFIED:20250220T125943Z
UID:10004131-1743199200-1743213600@motalasjostad.se
SUMMARY:TIX
DESCRIPTION: LÖNEFREDAG I MARS\, TIX LIVE\, DJ & SH KLUBB – WOW!\n\n\nBakom artistnamnet TIX står 27-åriga Andreas Haukeland från Bærum – en av Norges största artister och personligheter. Karaktären med päls\, solglasögon och pannband fick namnet TIX på grund av en uppväxt där Andreas kände sig annorlunda. Andreas har diagnosen Tourettes syndrom och under högstadiet började han kallas ”TIX” på grund av sina tics. Istället för att låta namnet påverka honom negativt\, tog han det till sig och gjorde det till sitt artistnamn\, med målet att bli Norges största artist.\n\n\n• EARLY BIRD: 149 SEK (Släpps tisdagen 25/2 kl. 10.00 – OBS! Begränsat antal!)\n– Räkna med högt tryck på biljetterna. När Early bird sålt slut säljs fas 1\, sedan fas 2.\n\n\n\n\n\n• ÅLDER: 18+ (Obl. legkontroll)\n\n\nNu kör vi!
URL:https://motalasjostad.se/ec-event/tix/
LOCATION:Saluhallen Motala\, Prästgatan 8\, Motala\, 59130
CATEGORIES:Musik
ATTACH;FMTTYPE=image/jpeg:https://motalasjostad.se/wp-content/uploads/2025/02/Tix-e1738572385337.jpg
ORGANIZER;CN="SH Eventcenter":MAILTO:hej@saluhallenmotala.se
END:VEVENT
BEGIN:VEVENT
DTSTART;TZID=Europe/Paris:20250329T080000
DTEND;TZID=Europe/Paris:20250329T170000
DTSTAMP:20260424T131655
CREATED:20250311T114030Z
LAST-MODIFIED:20250311T114030Z
UID:10004378-1743235200-1743267600@motalasjostad.se
SUMMARY:Konstutställning
DESCRIPTION:Lunnevads Konstlinje åk 1 ställde ut på Galleri K-ringen 2023 och det blev en succé med många besökare i alla åldrar\, särskilt unga!\nI år erbjuder vi dem utöver galleriet även vårt garage för att visa bl.a. skulptur.\nUtställningen visar elevernas olika tidigare erfarenheter och var elever hittar inspiration i sitt skapande idag. Flera av dem söker sen vidare till högre utbildningar. Flertalet elever är unga och sökande\, det blir en innehållsrik och sprudlande samling konstverk som visas. Det ingår i utbildningen att de producerar utställningen själva\, med affisch\, hängning och ljussättning.
URL:https://motalasjostad.se/ec-event/konstutstallning-5/2025-03-29/
CATEGORIES:Utställning
ATTACH;FMTTYPE=image/jpeg:https://motalasjostad.se/wp-content/uploads/2025/03/branchrad-25-03-15-1.jpg
ORGANIZER;CN="Galleri K-ringen":MAILTO:info@k-ringenmotala.se
END:VEVENT
BEGIN:VEVENT
DTSTART;TZID=Europe/Paris:20250329T110000
DTEND;TZID=Europe/Paris:20250329T120000
DTSTAMP:20260424T131655
CREATED:20250221T110023Z
LAST-MODIFIED:20250221T110023Z
UID:10004268-1743246000-1743249600@motalasjostad.se
SUMMARY:Vem är Warren? - Börskrascher\, Riskhantering och Kapital
DESCRIPTION:Föreläsare Cristofer Andersson\, författare till bland annat Börspsykologi och Mentala Modeller\, är aktuell med en ny bok. Denna gång är fokus skiftat från den psykologiska sfären till att istället handla om Warren Buffett\, Charlie Munger och deras byggande av världens idag största investmentbolag\, Berkshire Hathaway.\nArrangörer: Folkuniversitetet och Motala bibliotek \n 
URL:https://motalasjostad.se/ec-event/vem-ar-warren-borskrascher-riskhantering-och-kapital/
LOCATION:Motala huvudbibliotek
CATEGORIES:Övriga evenemang
ATTACH;FMTTYPE=image/png:https://motalasjostad.se/wp-content/uploads/2025/02/Vem-ar-Warren.png
END:VEVENT
BEGIN:VEVENT
DTSTART;TZID=Europe/Paris:20250329T130000
DTEND;TZID=Europe/Paris:20250329T160000
DTSTAMP:20260424T131655
CREATED:20250317T112008Z
LAST-MODIFIED:20250317T112008Z
UID:10004391-1743253200-1743264000@motalasjostad.se
SUMMARY:Något blev trots allt gjort...
DESCRIPTION:En retrospektiv utställning med Magnus Engbergs bilder och böcker ur hans rikhaltiga produktion av konstverk\, essäer\, radio- och TV-produktioner\, offentliga utsmyckningar mm.\, från 1975 till 2025.
URL:https://motalasjostad.se/ec-event/nagot-blev-trots-allt-gjort/2025-03-29/
LOCATION:Duberska gården\, Bispmotalagatan 34\, Motala\, 59130
CATEGORIES:Utställning
ATTACH;FMTTYPE=image/jpeg:https://motalasjostad.se/wp-content/uploads/2025/03/Engberg-Bok-och-konstverk-e1742210393724.jpg
ORGANIZER;CN="Motala Konstf%C3%B6rening":MAILTO:info@motalakonstforening.se
END:VEVENT
BEGIN:VEVENT
DTSTART;TZID=Europe/Paris:20250329T190000
DTEND;TZID=Europe/Paris:20250329T190000
DTSTAMP:20260424T131655
CREATED:20250324T093123Z
LAST-MODIFIED:20250324T093338Z
UID:10004492-1743274800-1743274800@motalasjostad.se
SUMMARY:Trubadurafton med Jesper & Pecka
DESCRIPTION:Trubadurafton med Jesper och Pecka \nFör bordsbokning ring 0141-55565.
URL:https://motalasjostad.se/ec-event/trubadurafton-med-jesper-pecka-2/
LOCATION:Västerkrogen\, Råssnäsvägen 10\, Motala\, Sweden
CATEGORIES:Musik
ATTACH;FMTTYPE=image/jpeg:https://motalasjostad.se/wp-content/uploads/2025/03/trubadeur-afton-Jespper-o-Pecka-e1742808810326.jpg
END:VEVENT
BEGIN:VEVENT
DTSTART;TZID=Europe/Paris:20250329T200000
DTEND;TZID=Europe/Paris:20250329T223000
DTSTAMP:20260424T131655
CREATED:20250131T090428Z
LAST-MODIFIED:20250131T090428Z
UID:10004129-1743278400-1743287400@motalasjostad.se
SUMMARY:Blueskonsert    Mönsterås Blues Band
DESCRIPTION:Mönsterås Blues Band består av några av Sveriges mest rutinerade bluesmusiker. Bandet har 2024 50-årsjubileum och har nu gett ut sitt 16:e fulllängdsalbum. Tre av de fem bandmedlemmarna är kvar sedan starten. Musiken utgörs av bluesklassiker men också av eget material som framförs i den stora bluestraditionen. \nTexterna kretsar kring bluesens eviga ämnen social utsatthet och kärlek – sviken och besvarad. Det är den svenska samtiden\, inte den amerikanska dåtiden\, som speglas. \nMed sina femtio år på nacken har Mönsterås Blues Band blivit en institution i svensk bluesmusik. \nMönsterås Blues Band har turnerat i alla nordiska länder samt Tyskland\, Holland och Belgien samt medverkat i radio och TV. Bandet har också turnerat med och kompat en lång rad bluesartister både från Sverige och andra länder\, främst USA. \n  \n  \nMönsterås Blues Band består av: \nCalle Engström           gitarr\, munspel\, sång \nMats Grönqvist          gitarr och sång \nPeo Fahlström           piano\, hammondorgel och sång \nViktor Johansson      elbas och kontrabas \nTommy Medner         trummor
URL:https://motalasjostad.se/ec-event/blueskonsert-monsteras-blues-band/
LOCATION:KulturAkademin\, Urban Hjärnes väg 6\, Motala\, 591 30
ATTACH;FMTTYPE=image/jpeg:https://motalasjostad.se/wp-content/uploads/2025/01/Taget-gar-Monsteras-Blues-Band-e1738314256640.jpg
ORGANIZER;CN="Motala Jazz &amp%3B Bluesklubb":MAILTO:lindberg.larsake@gmail.com
END:VEVENT
BEGIN:VEVENT
DTSTART;TZID=Europe/Paris:20250329T210000
DTEND;TZID=Europe/Paris:20250329T210000
DTSTAMP:20260424T131655
CREATED:20250210T092417Z
LAST-MODIFIED:20250210T092417Z
UID:10004142-1743282000-1743282000@motalasjostad.se
SUMMARY:EWO/ Yngwie Malmsten tribute
DESCRIPTION:Nu blir det skivad skogaholm och mer av allt medEWO tribute from Göteborg!\nPer-Owe (Ewo) Solvelius – Elgitarrist och klassisk gitarrist. Spelar i Lancer\, Trident\, Opia\, Linda Lampenius\, Robert Wells\, Jablonski\, Classic Goes Rock m.m. Tidigare i Fejd m.m.Linus Johansson – Mareld\, Trial\, Hypnos\, Black CycloneDavid Lecander – HILD\, Bottenhavet\, Opia.Pontus – Trummor i Lancer\, Sacred.Mattias Nordblom – Keyboard\nBiljetter via Tickster:\nhttps://www.tickster.com/se/sv/events/bercxpp8tmab6ej/2025-03-29/ewo-yngwie-malmsteen-tribute?fbclid=IwY2xjawIWpKlleHRuA2FlbQIxMAABHecOq55-jUa83dyDOdI_-oeLw_nfnL4EY22UkLxA1WJEL19nqQRiv1LPhA_aem_C9n0hbWKUbsUcG
URL:https://motalasjostad.se/ec-event/ewo-yngwie-malmsten-tribute/
LOCATION:Bomber Bar\, Prästgatan 3\, Motala\, 591 30\, Sweden
ATTACH;FMTTYPE=image/jpeg:https://motalasjostad.se/wp-content/uploads/2025/02/EWO.jpg
ORGANIZER;CN="Bomber Bar":MAILTO:bomberbarmotala@gmail.com
END:VEVENT
BEGIN:VEVENT
DTSTART;TZID=Europe/Paris:20250329T220000
DTEND;TZID=Europe/Paris:20250330T030000
DTSTAMP:20260424T131655
CREATED:20250306T112437Z
LAST-MODIFIED:20250306T112534Z
UID:10004358-1743285600-1743303600@motalasjostad.se
SUMMARY:Party & Schlager
DESCRIPTION:Det var så kul i helgen som var\, att vi kör samma upplägg nästa lönehelg också! Event med artist på fredagen\, som följs upp med en party & schlagerkväll på lördagen när allt ändå är igång! Billiga biljetter (early birds) ute på Nortic.se per omgående!
URL:https://motalasjostad.se/ec-event/party-schlager-2/
LOCATION:Saluhallen Motala\, Prästgatan 8\, Motala\, 59130
CATEGORIES:Musik
ATTACH;FMTTYPE=image/jpeg:https://motalasjostad.se/wp-content/uploads/2025/03/partyschlager-1-e1741260329171.jpg
ORGANIZER;CN="SH Eventcenter":MAILTO:hej@saluhallenmotala.se
END:VEVENT
BEGIN:VEVENT
DTSTART;TZID=Europe/Paris:20250330T080000
DTEND;TZID=Europe/Paris:20250330T170000
DTSTAMP:20260424T131655
CREATED:20250311T114030Z
LAST-MODIFIED:20250311T114030Z
UID:10004379-1743321600-1743354000@motalasjostad.se
SUMMARY:Konstutställning
DESCRIPTION:Lunnevads Konstlinje åk 1 ställde ut på Galleri K-ringen 2023 och det blev en succé med många besökare i alla åldrar\, särskilt unga!\nI år erbjuder vi dem utöver galleriet även vårt garage för att visa bl.a. skulptur.\nUtställningen visar elevernas olika tidigare erfarenheter och var elever hittar inspiration i sitt skapande idag. Flera av dem söker sen vidare till högre utbildningar. Flertalet elever är unga och sökande\, det blir en innehållsrik och sprudlande samling konstverk som visas. Det ingår i utbildningen att de producerar utställningen själva\, med affisch\, hängning och ljussättning.
URL:https://motalasjostad.se/ec-event/konstutstallning-5/2025-03-30/
CATEGORIES:Utställning
ATTACH;FMTTYPE=image/jpeg:https://motalasjostad.se/wp-content/uploads/2025/03/branchrad-25-03-15-1.jpg
ORGANIZER;CN="Galleri K-ringen":MAILTO:info@k-ringenmotala.se
END:VEVENT
BEGIN:VEVENT
DTSTART;TZID=Europe/Paris:20250330T130000
DTEND;TZID=Europe/Paris:20250330T160000
DTSTAMP:20260424T131655
CREATED:20250317T112008Z
LAST-MODIFIED:20250317T112008Z
UID:10004392-1743339600-1743350400@motalasjostad.se
SUMMARY:Något blev trots allt gjort...
DESCRIPTION:En retrospektiv utställning med Magnus Engbergs bilder och böcker ur hans rikhaltiga produktion av konstverk\, essäer\, radio- och TV-produktioner\, offentliga utsmyckningar mm.\, från 1975 till 2025.
URL:https://motalasjostad.se/ec-event/nagot-blev-trots-allt-gjort/2025-03-30/
LOCATION:Duberska gården\, Bispmotalagatan 34\, Motala\, 59130
CATEGORIES:Utställning
ATTACH;FMTTYPE=image/jpeg:https://motalasjostad.se/wp-content/uploads/2025/03/Engberg-Bok-och-konstverk-e1742210393724.jpg
ORGANIZER;CN="Motala Konstf%C3%B6rening":MAILTO:info@motalakonstforening.se
END:VEVENT
BEGIN:VEVENT
DTSTART;VALUE=DATE:20250331
DTEND;VALUE=DATE:20250412
DTSTAMP:20260424T131655
CREATED:20250401T085829Z
LAST-MODIFIED:20250401T091852Z
UID:10004510-1743379200-1744415999@motalasjostad.se
SUMMARY:Utställning: Romska språket - historia\, nutid och framtid
DESCRIPTION:En utställning gjord av Institutet för språk och folkminnen om det romska språket – en del av vårt gemensamma kulturarv i Sverige. Den 8 april firas internationella Romadagen. Kan ses under bibliotekets öppettider. \n 
URL:https://motalasjostad.se/ec-event/utstallning-romska-spraket-historia-nutid-och-framtid/2025-03-31/
LOCATION:Motala huvudbibliotek
CATEGORIES:Övriga evenemang
ATTACH;FMTTYPE=image/png:https://motalasjostad.se/wp-content/uploads/2025/03/Romska-spraket.png
END:VEVENT
BEGIN:VEVENT
DTSTART;TZID=Europe/Paris:20250401T093000
DTEND;TZID=Europe/Paris:20250401T100000
DTSTAMP:20260424T131655
CREATED:20250324T081817Z
LAST-MODIFIED:20250324T081817Z
UID:10004472-1743499800-1743501600@motalasjostad.se
SUMMARY:Minibio - Jaguaren
DESCRIPTION:Barntillåten. Jaguaren är en kortfilm baserad på bilderboken av Ulf Stark och Anna Höglund. Speltid 23 minuter. Begränsat antal platser\, därför erbjuder vi två tillfällen att välja på. Nästa tillfälle\, fredag 4 april\, klockan 9.30-10.00. Anmäl dig på biblioteket eller på 0141-22 58 75.
URL:https://motalasjostad.se/ec-event/minibio-jaguaren/
LOCATION:Borensbergs Bibliotek\, Husbyvägen 13\, Borensberg\, 59175
CATEGORIES:Barn/ungdom
ATTACH;FMTTYPE=image/png:https://motalasjostad.se/wp-content/uploads/2025/03/Minibio-2024-1.png
END:VEVENT
BEGIN:VEVENT
DTSTART;VALUE=DATE:20250401
DTEND;VALUE=DATE:20250402
DTSTAMP:20260424T131655
CREATED:20250401T085829Z
LAST-MODIFIED:20250401T091852Z
UID:10006418-1743501600-1743534000@motalasjostad.se
SUMMARY:Utställning: Romska språket - historia\, nutid och framtid
DESCRIPTION:En utställning gjord av Institutet för språk och folkminnen om det romska språket – en del av vårt gemensamma kulturarv i Sverige. Den 8 april firas internationella Romadagen. Kan ses under bibliotekets öppettider. \n 
URL:https://motalasjostad.se/ec-event/utstallning-romska-spraket-historia-nutid-och-framtid/2025-04-01/
LOCATION:Motala huvudbibliotek
CATEGORIES:Övriga evenemang
ATTACH;FMTTYPE=image/png:https://motalasjostad.se/wp-content/uploads/2025/03/Romska-spraket.png
END:VEVENT
BEGIN:VEVENT
DTSTART;TZID=Europe/Paris:20250401T103000
DTEND;TZID=Europe/Paris:20250401T120000
DTSTAMP:20260424T131655
CREATED:20250324T085155Z
LAST-MODIFIED:20250324T085155Z
UID:10004419-1743503400-1743508800@motalasjostad.se
SUMMARY:Digitala första hjälpen
DESCRIPTION:Välkommen till vår drop-in där vi svarar på dina grundläggande frågor om IT. Ta gärna med din telefon\, surfplatta eller laptop. På onsdagar kan du även få hjälp med att hantera Konsumentverkets sida Hallå konsument. \n 
URL:https://motalasjostad.se/ec-event/digitala-forsta-hjalpen-56/2025-04-01/
LOCATION:Motala huvudbibliotek
CATEGORIES:Övriga evenemang
ATTACH;FMTTYPE=image/jpeg:https://motalasjostad.se/wp-content/uploads/2025/03/DFH-HT-24.jpg
END:VEVENT
BEGIN:VEVENT
DTSTART;TZID=Europe/Paris:20250401T170000
DTEND;TZID=Europe/Paris:20250401T190000
DTSTAMP:20260424T131655
CREATED:20250324T085030Z
LAST-MODIFIED:20250324T085030Z
UID:10004429-1743526800-1743534000@motalasjostad.se
SUMMARY:Språkträning
DESCRIPTION:På Motala huvudbibliotek finns möjligheten att få hjälp med att träna på det svenska språket\, tyda krångliga brev\, skriva jobbansökningar med mera.\nI samarbete med Folkuniversitetet \n 
URL:https://motalasjostad.se/ec-event/spraktraning-36/2025-04-01/
LOCATION:Motala huvudbibliotek
CATEGORIES:Övriga evenemang
ATTACH;FMTTYPE=image/png:https://motalasjostad.se/wp-content/uploads/2025/03/Spraktraning.png
END:VEVENT
BEGIN:VEVENT
DTSTART;TZID=Europe/Paris:20250401T190000
DTEND;TZID=Europe/Paris:20250401T203000
DTSTAMP:20260424T131655
CREATED:20241204T092723Z
LAST-MODIFIED:20241204T092858Z
UID:10004019-1743534000-1743539400@motalasjostad.se
SUMMARY:Morgan Alling "Besvärliga människor\, en humorshow"
DESCRIPTION:  \nArrangemangsinformation \nUpplev en kväll fylld med skratt\, igenkänning och djup livsvisdom när Morgan\, på sitt unika sätt\, blandar humor och insikt. I denna föreställning tar Morgan oss med på en resa genom vardagens utmaningar och reflekterar med värme och skarp humor över hur vi beter oss – och hur vi hanterar de ”besvärliga” människorna i vår omgivning. \nGenom roliga berättelser och tänkvärda observationer bjuder han på både skratt och eftertanke. Detta är en kväll som inte bara kommer att underhålla\, utan också inspirera och ge dig nya perspektiv på livet. Med sin unika kombination av humor och djupa insikter kommer showen att lämna ett bestående intryck. \nMissar du detta kommer du att ångra dig! Boka dina biljetter idag för att säkra din plats på Morgan Allings mest inspirerande och roliga show hittills. \nBiljetter: www.morganalling.se
URL:https://motalasjostad.se/ec-event/morgan-alling-besvarliga-manniskor-en-humorshow/
LOCATION:Folkets hus\, Teater salongen\, Sjögatan 5\, Motala\, 591 30
ATTACH;FMTTYPE=image/jpeg:https://motalasjostad.se/wp-content/uploads/2024/12/Morgan-Alling-e1733304528755.jpg
END:VEVENT
BEGIN:VEVENT
DTSTART;VALUE=DATE:20250402
DTEND;VALUE=DATE:20250403
DTSTAMP:20260424T131655
CREATED:20250401T085829Z
LAST-MODIFIED:20250401T091852Z
UID:10006419-1743598800-1743620400@motalasjostad.se
SUMMARY:Utställning: Romska språket - historia\, nutid och framtid
DESCRIPTION:En utställning gjord av Institutet för språk och folkminnen om det romska språket – en del av vårt gemensamma kulturarv i Sverige. Den 8 april firas internationella Romadagen. Kan ses under bibliotekets öppettider. \n 
URL:https://motalasjostad.se/ec-event/utstallning-romska-spraket-historia-nutid-och-framtid/2025-04-02/
LOCATION:Motala huvudbibliotek
CATEGORIES:Övriga evenemang
ATTACH;FMTTYPE=image/png:https://motalasjostad.se/wp-content/uploads/2025/03/Romska-spraket.png
END:VEVENT
BEGIN:VEVENT
DTSTART;TZID=Europe/Paris:20250402T140000
DTEND;TZID=Europe/Paris:20250402T153000
DTSTAMP:20260424T131655
CREATED:20250324T085119Z
LAST-MODIFIED:20250324T085119Z
UID:10004424-1743602400-1743607800@motalasjostad.se
SUMMARY:Digitala första hjälpen
DESCRIPTION:Välkommen till vår drop-in där vi svarar på dina grundläggande frågor om IT. Ta gärna med din telefon\, surfplatta eller laptop. På onsdagar kan du även få hjälp med att hantera Konsumentverkets sida Hallå konsument. \n 
URL:https://motalasjostad.se/ec-event/digitala-forsta-hjalpen-55/2025-04-02/
LOCATION:Motala huvudbibliotek
CATEGORIES:Övriga evenemang
ATTACH;FMTTYPE=image/jpeg:https://motalasjostad.se/wp-content/uploads/2025/03/DFH-HT-24-1.jpg
END:VEVENT
BEGIN:VEVENT
DTSTART;TZID=Europe/Paris:20250402T183000
DTEND;TZID=Europe/Paris:20250402T183000
DTSTAMP:20260424T131655
CREATED:20250213T102647Z
LAST-MODIFIED:20250213T102647Z
UID:10004155-1743618600-1743618600@motalasjostad.se
SUMMARY:The Evergrens
DESCRIPTION:The Evergrens uppträder\, namnet skvallrar om takt och ton. \nFöbokning och övriga frågor: kultur@motala.se. Begränsat antal platser\, förboka gärna din biljett. \nPassa gärna på att besöka våra utställningar. \nVälkomna!
URL:https://motalasjostad.se/ec-event/the-evergrens/
LOCATION:Charlottenborgs slott\, Strandvägen 71\, Motala\, 591 46\, Sweden
ATTACH;FMTTYPE=image/jpeg:https://motalasjostad.se/wp-content/uploads/2025/02/Slottet-baksidan-fotograf-Pia-Axelsson-4.jpg
ORGANIZER;CN="Motala kommun":MAILTO:kultur@motala.se
END:VEVENT
END:VCALENDAR