BEGIN:VCALENDAR
VERSION:2.0
PRODID:-//Motala Sjöstad - ECPv6.13.2.1//NONSGML v1.0//EN
CALSCALE:GREGORIAN
METHOD:PUBLISH
X-ORIGINAL-URL:https://motalasjostad.se
X-WR-CALDESC:Händelser för Motala Sjöstad
REFRESH-INTERVAL;VALUE=DURATION:PT1H
X-Robots-Tag:noindex
X-PUBLISHED-TTL:PT1H
BEGIN:VTIMEZONE
TZID:Europe/Paris
BEGIN:DAYLIGHT
TZOFFSETFROM:+0100
TZOFFSETTO:+0200
TZNAME:CEST
DTSTART:20250330T010000
END:DAYLIGHT
BEGIN:STANDARD
TZOFFSETFROM:+0200
TZOFFSETTO:+0100
TZNAME:CET
DTSTART:20251026T010000
END:STANDARD
END:VTIMEZONE
BEGIN:VEVENT
DTSTART;TZID=Europe/Paris:20250401T103000
DTEND;TZID=Europe/Paris:20250401T120000
DTSTAMP:20260424T165002
CREATED:20250324T085155Z
LAST-MODIFIED:20250324T085155Z
UID:10004419-1743503400-1743508800@motalasjostad.se
SUMMARY:Digitala första hjälpen
DESCRIPTION:Välkommen till vår drop-in där vi svarar på dina grundläggande frågor om IT. Ta gärna med din telefon\, surfplatta eller laptop. På onsdagar kan du även få hjälp med att hantera Konsumentverkets sida Hallå konsument. \n 
URL:https://motalasjostad.se/ec-event/digitala-forsta-hjalpen-56/2025-04-01/
LOCATION:Motala huvudbibliotek
CATEGORIES:Övriga evenemang
ATTACH;FMTTYPE=image/jpeg:https://motalasjostad.se/wp-content/uploads/2025/03/DFH-HT-24.jpg
END:VEVENT
BEGIN:VEVENT
DTSTART;TZID=Europe/Paris:20250401T170000
DTEND;TZID=Europe/Paris:20250401T190000
DTSTAMP:20260424T165002
CREATED:20250324T085030Z
LAST-MODIFIED:20250324T085030Z
UID:10004429-1743526800-1743534000@motalasjostad.se
SUMMARY:Språkträning
DESCRIPTION:På Motala huvudbibliotek finns möjligheten att få hjälp med att träna på det svenska språket\, tyda krångliga brev\, skriva jobbansökningar med mera.\nI samarbete med Folkuniversitetet \n 
URL:https://motalasjostad.se/ec-event/spraktraning-36/2025-04-01/
LOCATION:Motala huvudbibliotek
CATEGORIES:Övriga evenemang
ATTACH;FMTTYPE=image/png:https://motalasjostad.se/wp-content/uploads/2025/03/Spraktraning.png
END:VEVENT
BEGIN:VEVENT
DTSTART;TZID=Europe/Paris:20250401T190000
DTEND;TZID=Europe/Paris:20250401T203000
DTSTAMP:20260424T165002
CREATED:20241204T092723Z
LAST-MODIFIED:20241204T092858Z
UID:10004019-1743534000-1743539400@motalasjostad.se
SUMMARY:Morgan Alling "Besvärliga människor\, en humorshow"
DESCRIPTION:  \nArrangemangsinformation \nUpplev en kväll fylld med skratt\, igenkänning och djup livsvisdom när Morgan\, på sitt unika sätt\, blandar humor och insikt. I denna föreställning tar Morgan oss med på en resa genom vardagens utmaningar och reflekterar med värme och skarp humor över hur vi beter oss – och hur vi hanterar de ”besvärliga” människorna i vår omgivning. \nGenom roliga berättelser och tänkvärda observationer bjuder han på både skratt och eftertanke. Detta är en kväll som inte bara kommer att underhålla\, utan också inspirera och ge dig nya perspektiv på livet. Med sin unika kombination av humor och djupa insikter kommer showen att lämna ett bestående intryck. \nMissar du detta kommer du att ångra dig! Boka dina biljetter idag för att säkra din plats på Morgan Allings mest inspirerande och roliga show hittills. \nBiljetter: www.morganalling.se
URL:https://motalasjostad.se/ec-event/morgan-alling-besvarliga-manniskor-en-humorshow/
LOCATION:Folkets hus\, Teater salongen\, Sjögatan 5\, Motala\, 591 30
ATTACH;FMTTYPE=image/jpeg:https://motalasjostad.se/wp-content/uploads/2024/12/Morgan-Alling-e1733304528755.jpg
END:VEVENT
BEGIN:VEVENT
DTSTART;VALUE=DATE:20250402
DTEND;VALUE=DATE:20250403
DTSTAMP:20260424T165002
CREATED:20250401T085829Z
LAST-MODIFIED:20250401T091852Z
UID:10006419-1743598800-1743620400@motalasjostad.se
SUMMARY:Utställning: Romska språket - historia\, nutid och framtid
DESCRIPTION:En utställning gjord av Institutet för språk och folkminnen om det romska språket – en del av vårt gemensamma kulturarv i Sverige. Den 8 april firas internationella Romadagen. Kan ses under bibliotekets öppettider. \n 
URL:https://motalasjostad.se/ec-event/utstallning-romska-spraket-historia-nutid-och-framtid/2025-04-02/
LOCATION:Motala huvudbibliotek
CATEGORIES:Övriga evenemang
ATTACH;FMTTYPE=image/png:https://motalasjostad.se/wp-content/uploads/2025/03/Romska-spraket.png
END:VEVENT
BEGIN:VEVENT
DTSTART;TZID=Europe/Paris:20250402T140000
DTEND;TZID=Europe/Paris:20250402T153000
DTSTAMP:20260424T165002
CREATED:20250324T085119Z
LAST-MODIFIED:20250324T085119Z
UID:10004424-1743602400-1743607800@motalasjostad.se
SUMMARY:Digitala första hjälpen
DESCRIPTION:Välkommen till vår drop-in där vi svarar på dina grundläggande frågor om IT. Ta gärna med din telefon\, surfplatta eller laptop. På onsdagar kan du även få hjälp med att hantera Konsumentverkets sida Hallå konsument. \n 
URL:https://motalasjostad.se/ec-event/digitala-forsta-hjalpen-55/2025-04-02/
LOCATION:Motala huvudbibliotek
CATEGORIES:Övriga evenemang
ATTACH;FMTTYPE=image/jpeg:https://motalasjostad.se/wp-content/uploads/2025/03/DFH-HT-24-1.jpg
END:VEVENT
BEGIN:VEVENT
DTSTART;TZID=Europe/Paris:20250402T183000
DTEND;TZID=Europe/Paris:20250402T183000
DTSTAMP:20260424T165002
CREATED:20250213T102647Z
LAST-MODIFIED:20250213T102647Z
UID:10004155-1743618600-1743618600@motalasjostad.se
SUMMARY:The Evergrens
DESCRIPTION:The Evergrens uppträder\, namnet skvallrar om takt och ton. \nFöbokning och övriga frågor: kultur@motala.se. Begränsat antal platser\, förboka gärna din biljett. \nPassa gärna på att besöka våra utställningar. \nVälkomna!
URL:https://motalasjostad.se/ec-event/the-evergrens/
LOCATION:Charlottenborgs slott\, Strandvägen 71\, Motala\, 591 46\, Sweden
ATTACH;FMTTYPE=image/jpeg:https://motalasjostad.se/wp-content/uploads/2025/02/Slottet-baksidan-fotograf-Pia-Axelsson-4.jpg
ORGANIZER;CN="Motala kommun":MAILTO:kultur@motala.se
END:VEVENT
BEGIN:VEVENT
DTSTART;TZID=Europe/Paris:20250402T183000
DTEND;TZID=Europe/Paris:20250402T193000
DTSTAMP:20260424T165002
CREATED:20250324T084702Z
LAST-MODIFIED:20250324T084702Z
UID:10004441-1743618600-1743622200@motalasjostad.se
SUMMARY:Det våras för poesin
DESCRIPTION:Poetiska utsikter och insikter i ord och ton.\nMedverkande: Per Carlsson aktuell med diktboken Inom utom.  Andreas Ea Johansson\, Tatiana Pushkarova\, Yalila Liazid\, Zeina Pano och Kenneth Carlsson… och du? Musik: Jan-Erik Mattson\, piano och René Jishammar\, violin. \n 
URL:https://motalasjostad.se/ec-event/det-varas-for-poesin/
LOCATION:Motala huvudbibliotek
CATEGORIES:Övriga evenemang
ATTACH;FMTTYPE=image/png:https://motalasjostad.se/wp-content/uploads/2025/03/Det-varas-for-poesin.png
END:VEVENT
BEGIN:VEVENT
DTSTART;TZID=Europe/Paris:20250402T190000
DTEND;TZID=Europe/Paris:20250402T210000
DTSTAMP:20260424T165002
CREATED:20250321T080012Z
LAST-MODIFIED:20250321T080012Z
UID:10004402-1743620400-1743627600@motalasjostad.se
SUMMARY:Från bokstavsbarn till entreprenör
DESCRIPTION:Föreläsning med Mirre Sennehed på Furulid Equmeniakyrkan om att växa upp med ADHD och nå sina drömmar trots att man är annorlunda. Från att vara en stökig unge till att bli en framgångsrik entreprenör och författare. Hon tar också upp frågorna: Hur gör man för att må bra när man har en hjärna som fungerar annorlunda än normen? Vad innebär psykisk hälsa och hur kan omgivningen stötta någon som lever med ADHD?
URL:https://motalasjostad.se/ec-event/fran-bokstavsbarn-till-entreprenor/
LOCATION:Equmeniakyrkan Furulid\, Badstrandsvägen 8\, Motala\, 59170\, Sweden
CATEGORIES:Övriga evenemang
ATTACH;FMTTYPE=image/jpeg:https://motalasjostad.se/wp-content/uploads/2025/03/Mirre-Sennehed-16-9.jpg
ORGANIZER;CN="equmeniakyrkan Furulid":MAILTO:info@furulid.se
END:VEVENT
BEGIN:VEVENT
DTSTART;TZID=Europe/Paris:20250403T100000
DTEND;TZID=Europe/Paris:20250403T113000
DTSTAMP:20260424T165002
CREATED:20250324T084735Z
LAST-MODIFIED:20250324T084735Z
UID:10004440-1743674400-1743679800@motalasjostad.se
SUMMARY:Lättläst bokcirkel i Charlottenborg
DESCRIPTION:Vi läser och pratar om en lättläst bok. För dig som vill träna på att läsa och prata svenska.\nPlats: Platens gemensamhetslokal\, Lustigkullevägen 44 B
URL:https://motalasjostad.se/ec-event/lattlast-bokcirkel-i-charlottenborg-9/
LOCATION:Platens gemensamhetslokal\, Charlottotenborg\, Lustigkullevägen 44 B\, Motala
CATEGORIES:Övriga evenemang
ATTACH;FMTTYPE=image/png:https://motalasjostad.se/wp-content/uploads/2025/03/Lattlast-bokcirkel-for-vuxna-25.png
END:VEVENT
BEGIN:VEVENT
DTSTART;VALUE=DATE:20250403
DTEND;VALUE=DATE:20250404
DTSTAMP:20260424T165002
CREATED:20250401T085829Z
LAST-MODIFIED:20250401T091852Z
UID:10006420-1743674400-1743706800@motalasjostad.se
SUMMARY:Utställning: Romska språket - historia\, nutid och framtid
DESCRIPTION:En utställning gjord av Institutet för språk och folkminnen om det romska språket – en del av vårt gemensamma kulturarv i Sverige. Den 8 april firas internationella Romadagen. Kan ses under bibliotekets öppettider. \n 
URL:https://motalasjostad.se/ec-event/utstallning-romska-spraket-historia-nutid-och-framtid/2025-04-03/
LOCATION:Motala huvudbibliotek
CATEGORIES:Övriga evenemang
ATTACH;FMTTYPE=image/png:https://motalasjostad.se/wp-content/uploads/2025/03/Romska-spraket.png
END:VEVENT
BEGIN:VEVENT
DTSTART;TZID=Europe/Paris:20250403T140000
DTEND;TZID=Europe/Paris:20250403T160000
DTSTAMP:20260424T165002
CREATED:20250324T081603Z
LAST-MODIFIED:20250324T081603Z
UID:10004476-1743688800-1743696000@motalasjostad.se
SUMMARY:Handarbeta på bibblan
DESCRIPTION:Ta med ditt handarbete och kom till biblioteket för en trevlig stund. Ta gärna med eget fika. Biblioteket bjuder på kaffe och te. Ingen anmälan. \n 
URL:https://motalasjostad.se/ec-event/handarbeta-pa-bibblan-21/2025-04-03/
LOCATION:Tjällmo bibliotek\, Länsvägen\, Tjällmo\, 59190\, Sverige
CATEGORIES:Övriga evenemang
ATTACH;FMTTYPE=image/png:https://motalasjostad.se/wp-content/uploads/2025/03/Handarbetscafe.png
END:VEVENT
BEGIN:VEVENT
DTSTART;TZID=Europe/Paris:20250403T160000
DTEND;TZID=Europe/Paris:20250403T163000
DTSTAMP:20260424T165002
CREATED:20250324T081847Z
LAST-MODIFIED:20250324T081847Z
UID:10004470-1743696000-1743697800@motalasjostad.se
SUMMARY:Saga och sång
DESCRIPTION:För barn 2-5 år. Vi läser sagor och sjunger tillsammans. Välkommen. \n 
URL:https://motalasjostad.se/ec-event/saga-och-sang-12/2025-04-03/
LOCATION:Borensbergs Bibliotek\, Husbyvägen 13\, Borensberg\, 59175
CATEGORIES:Barn/ungdom
ATTACH;FMTTYPE=image/png:https://motalasjostad.se/wp-content/uploads/2025/03/Tre-kaniner-som-spelar-gitarr.png
END:VEVENT
BEGIN:VEVENT
DTSTART;TZID=Europe/Paris:20250403T160000
DTEND;TZID=Europe/Paris:20250403T170000
DTSTAMP:20260424T165002
CREATED:20250331T090158Z
LAST-MODIFIED:20250331T090158Z
UID:10004502-1743696000-1743699600@motalasjostad.se
SUMMARY:Klubben
DESCRIPTION:För dig mellan 10–13 år. Vad gillar du att läsa? Vi träffas\, fikar och pratar om böcker vi har gillat. Den här gången pratar vi extra om månadens bok Bättre än på film av Lynn Painter.  Det är en humoristisk och hjärtevärmande romcom. Till varje träff väljer vi sedan en ny bok att läsa till nästa tillfälle. Ingen anmälan.
URL:https://motalasjostad.se/ec-event/klubben-11/
LOCATION:Motala huvudbibliotek
CATEGORIES:Barn/ungdom
ATTACH;FMTTYPE=image/png:https://motalasjostad.se/wp-content/uploads/2025/03/Klubben-april.png
END:VEVENT
BEGIN:VEVENT
DTSTART;TZID=Europe/Paris:20250403T160000
DTEND;TZID=Europe/Paris:20250403T180000
DTSTAMP:20260424T165002
CREATED:20250311T114030Z
LAST-MODIFIED:20250311T114030Z
UID:10004372-1743696000-1743703200@motalasjostad.se
SUMMARY:Konstutställning
DESCRIPTION:Lunnevads Konstlinje åk 1 ställde ut på Galleri K-ringen 2023 och det blev en succé med många besökare i alla åldrar\, särskilt unga!\nI år erbjuder vi dem utöver galleriet även vårt garage för att visa bl.a. skulptur.\nUtställningen visar elevernas olika tidigare erfarenheter och var elever hittar inspiration i sitt skapande idag. Flera av dem söker sen vidare till högre utbildningar. Flertalet elever är unga och sökande\, det blir en innehållsrik och sprudlande samling konstverk som visas. Det ingår i utbildningen att de producerar utställningen själva\, med affisch\, hängning och ljussättning.
URL:https://motalasjostad.se/ec-event/konstutstallning-5/2025-04-03/
CATEGORIES:Utställning
ATTACH;FMTTYPE=image/jpeg:https://motalasjostad.se/wp-content/uploads/2025/03/branchrad-25-03-15-1.jpg
ORGANIZER;CN="Galleri K-ringen":MAILTO:info@k-ringenmotala.se
END:VEVENT
BEGIN:VEVENT
DTSTART;TZID=Europe/Paris:20250403T170000
DTEND;TZID=Europe/Paris:20250403T190000
DTSTAMP:20260424T165002
CREATED:20250324T084935Z
LAST-MODIFIED:20250324T084935Z
UID:10004434-1743699600-1743706800@motalasjostad.se
SUMMARY:Språkträning
DESCRIPTION:På Motala huvudbibliotek finns möjligheten att få hjälp med att träna på det svenska språket\, tyda krångliga brev\, skriva jobbansökningar med mera.\nI samarbete med Folkuniversitetet \n 
URL:https://motalasjostad.se/ec-event/spraktraning-35/2025-04-03/
LOCATION:Motala huvudbibliotek
CATEGORIES:Övriga evenemang
ATTACH;FMTTYPE=image/png:https://motalasjostad.se/wp-content/uploads/2025/03/Spraktraning-1.png
END:VEVENT
BEGIN:VEVENT
DTSTART;TZID=Europe/Paris:20250404T103000
DTEND;TZID=Europe/Paris:20250404T110000
DTSTAMP:20260424T165002
CREATED:20250324T082408Z
LAST-MODIFIED:20250324T082408Z
UID:10004461-1743762600-1743764400@motalasjostad.se
SUMMARY:Digitala första hjälpen
DESCRIPTION:Välkommen till vår drop-in där vi svarar på dina grundläggande frågor om IT. Ta gärna med din telefon\, surfplatta eller laptop. \n 
URL:https://motalasjostad.se/ec-event/digitala-forsta-hjalpen-54/2025-04-04/
LOCATION:Borensbergs Bibliotek\, Husbyvägen 13\, Borensberg\, 59175
CATEGORIES:Övriga evenemang
ATTACH;FMTTYPE=image/png:https://motalasjostad.se/wp-content/uploads/2025/03/DFH-BBG.png
END:VEVENT
BEGIN:VEVENT
DTSTART;VALUE=DATE:20250404
DTEND;VALUE=DATE:20250405
DTSTAMP:20260424T165002
CREATED:20250401T085829Z
LAST-MODIFIED:20250401T091852Z
UID:10006421-1743771600-1743789600@motalasjostad.se
SUMMARY:Utställning: Romska språket - historia\, nutid och framtid
DESCRIPTION:En utställning gjord av Institutet för språk och folkminnen om det romska språket – en del av vårt gemensamma kulturarv i Sverige. Den 8 april firas internationella Romadagen. Kan ses under bibliotekets öppettider. \n 
URL:https://motalasjostad.se/ec-event/utstallning-romska-spraket-historia-nutid-och-framtid/2025-04-04/
LOCATION:Motala huvudbibliotek
CATEGORIES:Övriga evenemang
ATTACH;FMTTYPE=image/png:https://motalasjostad.se/wp-content/uploads/2025/03/Romska-spraket.png
END:VEVENT
BEGIN:VEVENT
DTSTART;TZID=Europe/Paris:20250404T160000
DTEND;TZID=Europe/Paris:20250404T163000
DTSTAMP:20260424T165002
CREATED:20250324T084133Z
LAST-MODIFIED:20250324T084133Z
UID:10004448-1743782400-1743784200@motalasjostad.se
SUMMARY:Sagor på tigrinska
DESCRIPTION:För dig som är ca 3–8 år. Vi träffas en gång i månaden för att lyssna på berättelser på tigrinska. Ingen anmälan. \n 
URL:https://motalasjostad.se/ec-event/sagor-pa-tigrinska-10/
LOCATION:Motala huvudbibliotek
CATEGORIES:Barn/ungdom
ATTACH;FMTTYPE=image/png:https://motalasjostad.se/wp-content/uploads/2025/03/Sagostund-pa-tigrinska.png
END:VEVENT
BEGIN:VEVENT
DTSTART;TZID=Europe/Paris:20250404T190000
DTEND;TZID=Europe/Paris:20250404T190000
DTSTAMP:20260424T165002
CREATED:20250203T084448Z
LAST-MODIFIED:20250403T062343Z
UID:10004132-1743793200-1743793200@motalasjostad.se
SUMMARY:Maja Ivarsson
DESCRIPTION:MAJA IVARSSON TILL MOTALA!\n\n\nMed sin karismatiska scenpersona och kraftfulla röst har Maja Ivarsson en självklar plats som ikon inom svensk rockmusik.\nTillsammans med The Sounds har hon åkt världen runt och delat scen med legendariska band som Foo Fighters\, The Strokes och No Doubt – och uppträtt på några av världens största TV-shower som David Letterman och Jimmy Kimmel.\nMaja’s musik kännetecknas av catchy melodier och rå energi med ärliga texter som berör och inspirerar. Hon är en förebild och symbol för många unga musiker.\nDessutom superaktuell i Melodifestivalen 2025!\n\n\nI vår ger hon sig ut på en klubbturné. Missa inte chansen att se Maja Ivarsson live\, du garanteras en oförglömlig kväll.\nBiljetter släpps Tisdagen 25 februari kl. 10:00!\n\n\n• TIDER:\n– 19.00: Insläpp\n– 20.00: Konsert\, Maja Ivarsson\n– 22.00: Insläpp allmänheten\, efterskiva (Separata biljetter – släpps längre fram)\n\n\n• ÅLDER: 18+ (Obl. legkontroll)\n\n\nVarmt välkomna!
URL:https://motalasjostad.se/ec-event/maja-ivarsson/
LOCATION:Saluhallen Motala\, Prästgatan 8\, Motala\, 59130
CATEGORIES:Musik
ATTACH;FMTTYPE=image/jpeg:https://motalasjostad.se/wp-content/uploads/2025/02/Maja-Ivarsson-e1738572274952.jpg
ORGANIZER;CN="SH Eventcenter":MAILTO:hej@saluhallenmotala.se
END:VEVENT
BEGIN:VEVENT
DTSTART;TZID=Europe/Paris:20250404T190000
DTEND;TZID=Europe/Paris:20250404T190000
DTSTAMP:20260424T165002
CREATED:20250318T110047Z
LAST-MODIFIED:20250318T110047Z
UID:10004399-1743793200-1743793200@motalasjostad.se
SUMMARY:Quiz!
DESCRIPTION: Quiz med Elofsson igen! Påminner att boka i god tid då vi har haft utsålt hela vintern på quizkvällarna! ( Wow alltså\, ni är för goa )\n\n\nFör bordsbokning ring 073 558 33 41 eller gå in på www.restaurangsjovik.se\n\n\nHjärtligt välkomna önskar David & Linn med personal
URL:https://motalasjostad.se/ec-event/quiz-5/
LOCATION:Restaurang Sjövik\, Solskensvägen 8\, Motala\, 59172
CATEGORIES:Övriga evenemang
ATTACH;FMTTYPE=image/jpeg:https://motalasjostad.se/wp-content/uploads/2025/03/Quiz-fjarde-april-e1742295639982.jpg
ORGANIZER;CN="Rezstaurang Sj%C3%B6viik":MAILTO:bokningar@restaurangsjovik.se
END:VEVENT
BEGIN:VEVENT
DTSTART;TZID=Europe/Paris:20250404T190000
DTEND;TZID=Europe/Paris:20250404T200000
DTSTAMP:20260424T165003
CREATED:20250113T073400Z
LAST-MODIFIED:20250113T073459Z
UID:10004084-1743793200-1743796800@motalasjostad.se
SUMMARY:Magnus Betnér - Work In Progress/ Motala
DESCRIPTION:Betnér drar på megaturné!\nPrecis som alltid så har 2024 varit ett intensivt år för Magnus Betnér. Under våren genomförde han mega-turnén »Bränner ner huset« tillsammans med kollegan Nisse Hallberg. Under sommaren var han ankaret i samtliga föreställningar av den rullande humorcirkusen »Revolver Comedy Carnival« och i vinter kan man se honom som en del av en ensemble\, förklädd till en sång- och dansman i scenversionen av »Tomten är far till alla barnen«.\nGott så förstås\, man ska prova nya saker\, men är det något Magnus Betnér är så är han framför allt annat en av Sveriges genom tiderna mest framgångsrika standupkomiker och nu är det dags för honom att ge sig ut på vägarna igen.\n2025 styr Magnus sin husbil till er för att testa sina nya tankar och idéer och samtidigt låta dig vara en del av skapandeprocessen\, som så många gånger förr. För i en Work in Progress-föreställning är det publiken som bestämmer vad som är gott nog för att jobba vidare på och vilken del det är som skickas i papperskorgen.\nMagnus Betnér har i över 25 år varit en av landets mest älskade svenska komiker\, med en produktivitet som ingen annan och med en mängd gig under västen som skulle få vilken vindpinad country-gubbe som helst att bli avundsjuk.\nOch nu är ni alla inbjudna – ännu en gång – för Work in Progress.\n– Rekommenderad åldersgräns (i målsmans sällskap): 13 år
URL:https://motalasjostad.se/ec-event/magnus-betner-work-in-progress-motala/
LOCATION:Folkets Hus\, Repslagargatan 3\, Motala\, 591 30
ATTACH;FMTTYPE=image/jpeg:https://motalasjostad.se/wp-content/uploads/2025/01/Magnus-Betner-e1736753691339.jpg
END:VEVENT
BEGIN:VEVENT
DTSTART;TZID=Europe/Paris:20250404T193000
DTEND;TZID=Europe/Paris:20250404T213000
DTSTAMP:20260424T165003
CREATED:20250310T125905Z
LAST-MODIFIED:20250310T125959Z
UID:10004362-1743795000-1743802200@motalasjostad.se
SUMMARY:MusikQuiz på Bispo!
DESCRIPTION:80-tals Quizet hos oss blev en riktig succé! därför är vi otroligt glada och exalterade på att kunna berätta för er att den 4 April blir det ännu ett Quiz. Denna gång – Svenska Klassiker. \nVi öppnar som vanligt 17:00 för att ni ska hinna äta god mat\, i gott sällskap\, i god tid för en riktigt grym peng! Quizet drar igång 19:30 och deltagaravgiften går direkt till vinstpotten. \nBoka genom mail eller telefon. \n0141-753075 \ninfo@bispo.se
URL:https://motalasjostad.se/ec-event/musikquiz-pa-bispo/
LOCATION:Bispo\, Bispmotalagatan 5-7\, Motala\, Östergötland\, 59130\, Sweden
CATEGORIES:Övriga evenemang
ATTACH;FMTTYPE=image/png:https://motalasjostad.se/wp-content/uploads/2025/03/MUSIK-QUIZ-e1741611591807.png
ORGANIZER;CN="Bispo":MAILTO:info@bispo.se
END:VEVENT
BEGIN:VEVENT
DTSTART;TZID=Europe/Paris:20250405T080000
DTEND;TZID=Europe/Paris:20250405T170000
DTSTAMP:20260424T165003
CREATED:20250311T114030Z
LAST-MODIFIED:20250311T114030Z
UID:10004380-1743840000-1743872400@motalasjostad.se
SUMMARY:Konstutställning
DESCRIPTION:Lunnevads Konstlinje åk 1 ställde ut på Galleri K-ringen 2023 och det blev en succé med många besökare i alla åldrar\, särskilt unga!\nI år erbjuder vi dem utöver galleriet även vårt garage för att visa bl.a. skulptur.\nUtställningen visar elevernas olika tidigare erfarenheter och var elever hittar inspiration i sitt skapande idag. Flera av dem söker sen vidare till högre utbildningar. Flertalet elever är unga och sökande\, det blir en innehållsrik och sprudlande samling konstverk som visas. Det ingår i utbildningen att de producerar utställningen själva\, med affisch\, hängning och ljussättning.
URL:https://motalasjostad.se/ec-event/konstutstallning-5/2025-04-05/
CATEGORIES:Utställning
ATTACH;FMTTYPE=image/jpeg:https://motalasjostad.se/wp-content/uploads/2025/03/branchrad-25-03-15-1.jpg
ORGANIZER;CN="Galleri K-ringen":MAILTO:info@k-ringenmotala.se
END:VEVENT
BEGIN:VEVENT
DTSTART;VALUE=DATE:20250405
DTEND;VALUE=DATE:20250406
DTSTAMP:20260424T165003
CREATED:20250401T085829Z
LAST-MODIFIED:20250401T091852Z
UID:10006422-1743847200-1743865200@motalasjostad.se
SUMMARY:Utställning: Romska språket - historia\, nutid och framtid
DESCRIPTION:En utställning gjord av Institutet för språk och folkminnen om det romska språket – en del av vårt gemensamma kulturarv i Sverige. Den 8 april firas internationella Romadagen. Kan ses under bibliotekets öppettider. \n 
URL:https://motalasjostad.se/ec-event/utstallning-romska-spraket-historia-nutid-och-framtid/2025-04-05/
LOCATION:Motala huvudbibliotek
CATEGORIES:Övriga evenemang
ATTACH;FMTTYPE=image/png:https://motalasjostad.se/wp-content/uploads/2025/03/Romska-spraket.png
END:VEVENT
BEGIN:VEVENT
DTSTART;TZID=Europe/Paris:20250405T110000
DTEND;TZID=Europe/Paris:20250405T113000
DTSTAMP:20260424T165003
CREATED:20250324T084053Z
LAST-MODIFIED:20250324T084053Z
UID:10004449-1743850800-1743852600@motalasjostad.se
SUMMARY:Lilla lördagsmusiken
DESCRIPTION:Kom och lyssna på Kulturskolans cello- och pianoelever.
URL:https://motalasjostad.se/ec-event/lilla-lordagsmusiken-4/
LOCATION:Motala huvudbibliotek
CATEGORIES:Barn/ungdom
ATTACH;FMTTYPE=image/png:https://motalasjostad.se/wp-content/uploads/2025/03/Lilla-lordagsmusiken-november.png
ORGANIZER;CN="Kulturskolan Motala":MAILTO:kulturskolan@motala.se
END:VEVENT
BEGIN:VEVENT
DTSTART;TZID=Europe/Paris:20250405T130000
DTEND;TZID=Europe/Paris:20250405T140000
DTSTAMP:20260424T165003
CREATED:20250324T083951Z
LAST-MODIFIED:20250324T083951Z
UID:10004450-1743858000-1743861600@motalasjostad.se
SUMMARY:Sagolördag - Iggo & Gurkan hittar ett ägg
DESCRIPTION:För dig mellan 3–5 år som älskar berättelser och pyssel. Iggo går ut i skogen för att hitta ett ägg till sin farfar. Där träffar han en luddig varelse som heter Gurkan och som kan allt om ägg! Med Gurkans hjälp hittar Iggo snart ett ägg men det är stort\, tungt\, slätt och rund. Hur ska de två vänner ta ägget tillbaka till farfar? Efteråt pysslar vi tillsammans. Ingen anmälan. \n 
URL:https://motalasjostad.se/ec-event/sagolordag-iggo-gurkan-hittar-ett-agg/
LOCATION:Motala huvudbibliotek
CATEGORIES:Barn/ungdom
ATTACH;FMTTYPE=image/png:https://motalasjostad.se/wp-content/uploads/2025/03/Sagolordag-VT25.png
END:VEVENT
BEGIN:VEVENT
DTSTART;TZID=Europe/Paris:20250405T140000
DTEND;TZID=Europe/Paris:20250405T160000
DTSTAMP:20260424T165003
CREATED:20250331T073737Z
LAST-MODIFIED:20250331T073817Z
UID:10004513-1743861600-1743868800@motalasjostad.se
SUMMARY:Motala AIF FK - IF Haga (Seriem
DESCRIPTION:Motala AIF FK – IF Haga\, Seriepremiär med fri entré \nDiv. 2 Norra Götaland \n 
URL:https://motalasjostad.se/ec-event/motala-aif-fk-if-haga-seriem/
LOCATION:Motala Idrottspark\, Bangårdsgatan 3\, Motala\, Östergötland\, 59135
CATEGORIES:Sportevenemang
ATTACH;FMTTYPE=image/png:https://motalasjostad.se/wp-content/uploads/2025/03/Motala-AIF-FK-IF-Haga.png
END:VEVENT
BEGIN:VEVENT
DTSTART;TZID=Europe/Paris:20250405T200000
DTEND;TZID=Europe/Paris:20250405T230000
DTSTAMP:20260424T165003
CREATED:20250317T111533Z
LAST-MODIFIED:20250317T111611Z
UID:10004394-1743883200-1743894000@motalasjostad.se
SUMMARY:Musikkväll med Indiana Sky & Answer;42
DESCRIPTION:Välkommen till en helkväll med allt från americana till rock.\n \nIndiana Sky Med rötter i Indiana har över ett decennium trollbundit publiken med sin unika mix av amerikansk folkrock och Bluegrass.\nBandet skapar sina egna arrangemang av låtar från några av världens mest älskade låtskrivare. Indiana Sky har tidigare uppträtt i Motala\, då tillsammans med Doug Seegers. \nAnswer;42 Bandet på ständig turné…….\nSvenskt\, Skandinaviskt\, Engelskt\, Irlänskt\, folk\, rock\, country\, indie visa…. Akustiskt med elektricitet\, gitarr\, mandocello\, uke\, banjo\, bas\, minitrummor o cajun. Egna låtar\, stulna och ofta lånade med egna texter. \n 
URL:https://motalasjostad.se/ec-event/musikkvall-med-indiana-sky-answer42/
LOCATION:Kulturakademin Motala\, Urban Hjärnes väg 6\, Motala\, 59130
CATEGORIES:Musik
ATTACH;FMTTYPE=image/jpeg:https://motalasjostad.se/wp-content/uploads/2025/03/Bild1-e1742210107639.jpg
ORGANIZER;CN="Kulturakademin i Motala":MAILTO:leif@kultur-akademin.se
END:VEVENT
BEGIN:VEVENT
DTSTART;TZID=Europe/Paris:20250405T210000
DTEND;TZID=Europe/Paris:20250405T210000
DTSTAMP:20260424T165003
CREATED:20250113T080911Z
LAST-MODIFIED:20250113T080911Z
UID:10004086-1743886800-1743886800@motalasjostad.se
SUMMARY:Zepulturaz
DESCRIPTION:ZepulturazA tribute to the mighty Brazillian Sepultura!\nZepulTuraZ bildades 2024 och är ett Sepultura-tribute band från Göteborg.Bandet kör låtar från både Cavalera eran och Derrick Green eran\, vilket inte många av dagens Sepultura coverband gör.Bandet består av erfarna musiker från band som Shift\, pORq\, Lex Cobra och Devilicious. Missa inte chansen att se detta tributeband när ZepulTuraZ kommer! Garanterat Röj\, Allsång och massa tjöt!\nLine up :Sång: Liam McDBas: Rodolfo MGitarr: Ernesto ZTrummor: Thobias S
URL:https://motalasjostad.se/ec-event/zepulturaz/
LOCATION:Bomber Bar\, Prästgatan 3\, Motala\, 591 30\, Sweden
ATTACH;FMTTYPE=image/jpeg:https://motalasjostad.se/wp-content/uploads/2025/01/Zepulturaz.jpg
ORGANIZER;CN="Bomber Bar":MAILTO:bomberbarmotala@gmail.com
END:VEVENT
BEGIN:VEVENT
DTSTART;TZID=Europe/Paris:20250405T220000
DTEND;TZID=Europe/Paris:20250406T020000
DTSTAMP:20260424T165003
CREATED:20250213T125036Z
LAST-MODIFIED:20250217T075344Z
UID:10004168-1743890400-1743904800@motalasjostad.se
SUMMARY:GREEKAZO
DESCRIPTION: GREEKAZO & SH KLUBB – NU KÖR VI!\n\n\nGreekazo är en av Sveriges mest framstående hiphop-artister. Han fick sitt stora genombrott 2019 med debutsingeln “HotSpot“. Hans låtar “FÖRSENT” och “ICE CREAM” har båda nått #1 på Spotify och blivit stora hits. “ICE CREAM” blev även grammis-nominerad i kategorin ”Årets Låt” 2021. Sedan debuten har Greekazo släppt två album och har över 350 miljoner streams\, samtidigt som han turnerat regelbundet i Sverige\, Norge och Finland.\n\n\nDen 5 april kommer han till Motala och vi följer upp detta gig med efterfest och klubb på natten – vilken skiva!\n\n\n• EARLY BIRD: 149 SEK (Släpps tisdagen 25/2 kl. 10.00 – OBS! Begränsat antal!)\n– Räkna med högt tryck på biljetterna. När Early bird sålt slut säljs fas 1\, sedan fas 2.\n\n\n• TIDER: 22.00-02.00\n\n\n• ÅLDER: 18+ (Obl. legkontroll)\nBiljetter på www.nortic.se\n\n\nLessssss go!
URL:https://motalasjostad.se/ec-event/greekazo/
LOCATION:Saluhallen
CATEGORIES:Musik
ATTACH;FMTTYPE=image/jpeg:https://motalasjostad.se/wp-content/uploads/2025/02/Greekazo-e1739451030343.jpg
ORGANIZER;CN="SH Eventcenter":MAILTO:hej@saluhallenmotala.se
END:VEVENT
END:VCALENDAR