BEGIN:VCALENDAR
VERSION:2.0
PRODID:-//Motala Sjöstad - ECPv6.13.2.1//NONSGML v1.0//EN
CALSCALE:GREGORIAN
METHOD:PUBLISH
X-ORIGINAL-URL:https://motalasjostad.se
X-WR-CALDESC:Händelser för Motala Sjöstad
REFRESH-INTERVAL;VALUE=DURATION:PT1H
X-Robots-Tag:noindex
X-PUBLISHED-TTL:PT1H
BEGIN:VTIMEZONE
TZID:Europe/Paris
BEGIN:DAYLIGHT
TZOFFSETFROM:+0100
TZOFFSETTO:+0200
TZNAME:CEST
DTSTART:20250330T010000
END:DAYLIGHT
BEGIN:STANDARD
TZOFFSETFROM:+0200
TZOFFSETTO:+0100
TZNAME:CET
DTSTART:20251026T010000
END:STANDARD
END:VTIMEZONE
BEGIN:VEVENT
DTSTART;TZID=Europe/Paris:20250408T093000
DTEND;TZID=Europe/Paris:20250408T100000
DTSTAMP:20260424T221712
CREATED:20250324T081745Z
LAST-MODIFIED:20250324T081745Z
UID:10004473-1744104600-1744106400@motalasjostad.se
SUMMARY:Bokstund
DESCRIPTION:För barn 0-2 år och deras vuxna. Vi läser\, sjunger och ramsar tillsammans. Vi ger dig boktips för att stötta barnets språkutveckling med hjälp av böcker tidigt i livet. Ingen föranmälan behövs. Ta gärna med egen matsäck om du vill fika efteråt. \n 
URL:https://motalasjostad.se/ec-event/bokstund-6/
LOCATION:Borensbergs Bibliotek\, Husbyvägen 13\, Borensberg\, 59175
CATEGORIES:Barn/ungdom
ATTACH;FMTTYPE=image/png:https://motalasjostad.se/wp-content/uploads/2025/03/Bokstund-BBG.png
END:VEVENT
BEGIN:VEVENT
DTSTART;VALUE=DATE:20250408
DTEND;VALUE=DATE:20250409
DTSTAMP:20260424T221712
CREATED:20250401T085829Z
LAST-MODIFIED:20250401T091852Z
UID:10006424-1744106400-1744138800@motalasjostad.se
SUMMARY:Utställning: Romska språket - historia\, nutid och framtid
DESCRIPTION:En utställning gjord av Institutet för språk och folkminnen om det romska språket – en del av vårt gemensamma kulturarv i Sverige. Den 8 april firas internationella Romadagen. Kan ses under bibliotekets öppettider. \n 
URL:https://motalasjostad.se/ec-event/utstallning-romska-spraket-historia-nutid-och-framtid/2025-04-08/
LOCATION:Motala huvudbibliotek
CATEGORIES:Övriga evenemang
ATTACH;FMTTYPE=image/png:https://motalasjostad.se/wp-content/uploads/2025/03/Romska-spraket.png
END:VEVENT
BEGIN:VEVENT
DTSTART;TZID=Europe/Paris:20250408T103000
DTEND;TZID=Europe/Paris:20250408T120000
DTSTAMP:20260424T221712
CREATED:20250324T085155Z
LAST-MODIFIED:20250324T085155Z
UID:10004420-1744108200-1744113600@motalasjostad.se
SUMMARY:Digitala första hjälpen
DESCRIPTION:Välkommen till vår drop-in där vi svarar på dina grundläggande frågor om IT. Ta gärna med din telefon\, surfplatta eller laptop. På onsdagar kan du även få hjälp med att hantera Konsumentverkets sida Hallå konsument. \n 
URL:https://motalasjostad.se/ec-event/digitala-forsta-hjalpen-56/2025-04-08/
LOCATION:Motala huvudbibliotek
CATEGORIES:Övriga evenemang
ATTACH;FMTTYPE=image/jpeg:https://motalasjostad.se/wp-content/uploads/2025/03/DFH-HT-24.jpg
END:VEVENT
BEGIN:VEVENT
DTSTART;TZID=Europe/Paris:20250408T140000
DTEND;TZID=Europe/Paris:20250408T150000
DTSTAMP:20260424T221712
CREATED:20250127T113509Z
LAST-MODIFIED:20250127T113509Z
UID:10004119-1744120800-1744124400@motalasjostad.se
SUMMARY:Föredrag - Vätternrundan för 60:e gången
DESCRIPTION:Välkomna på vårens föreläsningsserie\, denna gång om Vätternrundan som hålls för 60:e gången 2025! Vi berättar om Sten-Otto Liljedal\, Evert Rydell och alla de andra pionjärerna vid starten på 60-talet. Utvecklingen av loppet till världens största motionslopp på cykel\, milstolpar under åren och minnesvärda händelser.\nFöreläsare: Andreas Andersson från Vätternrundan och Lotta Holmberg (betalas på plats med swish eller jämna kontanter)Information och bokning: info@sveciatravels.se/0141-20 99 00Boka alltid plats\, det är oftast fullbokat!Går även att boka/betala online på www.sveciatravels.seVälkomna
URL:https://motalasjostad.se/ec-event/foredrag-vatternrundan-for-60e-gangen/2025-04-08/1/
LOCATION:Svecia Travels\, Poppelgatan 8\, Motala\, 591 35\, Sweden
ATTACH;FMTTYPE=image/jpeg:https://motalasjostad.se/wp-content/uploads/2025/01/foredrag-vatternrundan.jpg
ORGANIZER;CN="Svecia Travels":MAILTO:info@sveciatravels.se
END:VEVENT
BEGIN:VEVENT
DTSTART;TZID=Europe/Paris:20250408T153000
DTEND;TZID=Europe/Paris:20250408T163000
DTSTAMP:20260424T221712
CREATED:20250324T083839Z
LAST-MODIFIED:20250324T083839Z
UID:10004452-1744126200-1744129800@motalasjostad.se
SUMMARY:Låt spelet börja! - Plate up!
DESCRIPTION:Från ca 10 år. En gång i månaden testar vi tillsammans några av alla spel vi har på biblioteket. Denna gång provar vi tillsammans spelet PlateUp! på vår PS5:a. Du får tillsammans med tre andra driva en restaurang – laga maten\, servera kunderna och uppgradera din restaurang. Ingen anmälan. \n 
URL:https://motalasjostad.se/ec-event/lat-spelet-borja-plate-up/
LOCATION:Motala huvudbibliotek
CATEGORIES:Barn/ungdom
ATTACH;FMTTYPE=image/jpeg:https://motalasjostad.se/wp-content/uploads/2025/03/Lat-spelet-borja-Plate-up.jpg
END:VEVENT
BEGIN:VEVENT
DTSTART;TZID=Europe/Paris:20250408T170000
DTEND;TZID=Europe/Paris:20250408T190000
DTSTAMP:20260424T221712
CREATED:20250324T085030Z
LAST-MODIFIED:20250324T085030Z
UID:10004430-1744131600-1744138800@motalasjostad.se
SUMMARY:Språkträning
DESCRIPTION:På Motala huvudbibliotek finns möjligheten att få hjälp med att träna på det svenska språket\, tyda krångliga brev\, skriva jobbansökningar med mera.\nI samarbete med Folkuniversitetet \n 
URL:https://motalasjostad.se/ec-event/spraktraning-36/2025-04-08/
LOCATION:Motala huvudbibliotek
CATEGORIES:Övriga evenemang
ATTACH;FMTTYPE=image/png:https://motalasjostad.se/wp-content/uploads/2025/03/Spraktraning.png
END:VEVENT
BEGIN:VEVENT
DTSTART;TZID=Europe/Paris:20250408T180000
DTEND;TZID=Europe/Paris:20250408T190000
DTSTAMP:20260424T221712
CREATED:20250127T113509Z
LAST-MODIFIED:20250127T113509Z
UID:10004120-1744135200-1744138800@motalasjostad.se
SUMMARY:Föredrag - Vätternrundan för 60:e gången
DESCRIPTION:Välkomna på vårens föreläsningsserie\, denna gång om Vätternrundan som hålls för 60:e gången 2025! Vi berättar om Sten-Otto Liljedal\, Evert Rydell och alla de andra pionjärerna vid starten på 60-talet. Utvecklingen av loppet till världens största motionslopp på cykel\, milstolpar under åren och minnesvärda händelser.\nFöreläsare: Andreas Andersson från Vätternrundan och Lotta Holmberg (betalas på plats med swish eller jämna kontanter)Information och bokning: info@sveciatravels.se/0141-20 99 00Boka alltid plats\, det är oftast fullbokat!Går även att boka/betala online på www.sveciatravels.seVälkomna
URL:https://motalasjostad.se/ec-event/foredrag-vatternrundan-for-60e-gangen/2025-04-08/2/
LOCATION:Svecia Travels\, Poppelgatan 8\, Motala\, 591 35\, Sweden
ATTACH;FMTTYPE=image/jpeg:https://motalasjostad.se/wp-content/uploads/2025/01/foredrag-vatternrundan.jpg
ORGANIZER;CN="Svecia Travels":MAILTO:info@sveciatravels.se
END:VEVENT
BEGIN:VEVENT
DTSTART;TZID=Europe/Paris:20250409T080000
DTEND;TZID=Europe/Paris:20250409T203000
DTSTAMP:20260424T221712
CREATED:20250320T110046Z
LAST-MODIFIED:20250320T110046Z
UID:10004400-1744185600-1744230600@motalasjostad.se
SUMMARY:En inspirationskväll till påsk
DESCRIPTION:En trevlig kväll med Thomas Malm\, florist från Linköping som visar hur ni dukar vackert till påsk\, gör påskbukett\, påskris och plantering i kruka. Många bra tips och inspiration! För er som önskar finns det möjlighet att göra en påskkyckling av påskiljelök att ta med hem. Under kvällen berättar vi om påskens traditioner och äter en god påsksmörgås och sött påskgott! Vi lottar också ut Thomas vackra påskbukett! \nDatum: Onsdag 9 april\nTid: 18.00-20.30\nPris: 395 kr per person för hela kvällen\nPlats: Svecia Travels kontor på Poppelgatan 8 i Motala \nEndast förbokning. Boka på www.sveciatravels.se eller 0141-20 99 00 / info@sveciatravels.se
URL:https://motalasjostad.se/ec-event/en-inspirationskvall-till-pask/
LOCATION:Svecia Travels kontor\, Poppelgatan 8\, Motala
CATEGORIES:Övriga evenemang
ATTACH;FMTTYPE=image/jpeg:https://motalasjostad.se/wp-content/uploads/2025/03/thomas-malm-e1742468433406.jpg
ORGANIZER;CN="Svecia Travels":MAILTO:info@sveciatravels.se
END:VEVENT
BEGIN:VEVENT
DTSTART;VALUE=DATE:20250409
DTEND;VALUE=DATE:20250410
DTSTAMP:20260424T221712
CREATED:20250401T085829Z
LAST-MODIFIED:20250401T091852Z
UID:10006425-1744203600-1744225200@motalasjostad.se
SUMMARY:Utställning: Romska språket - historia\, nutid och framtid
DESCRIPTION:En utställning gjord av Institutet för språk och folkminnen om det romska språket – en del av vårt gemensamma kulturarv i Sverige. Den 8 april firas internationella Romadagen. Kan ses under bibliotekets öppettider. \n 
URL:https://motalasjostad.se/ec-event/utstallning-romska-spraket-historia-nutid-och-framtid/2025-04-09/
LOCATION:Motala huvudbibliotek
CATEGORIES:Övriga evenemang
ATTACH;FMTTYPE=image/png:https://motalasjostad.se/wp-content/uploads/2025/03/Romska-spraket.png
END:VEVENT
BEGIN:VEVENT
DTSTART;TZID=Europe/Paris:20250409T140000
DTEND;TZID=Europe/Paris:20250409T153000
DTSTAMP:20260424T221712
CREATED:20250324T085119Z
LAST-MODIFIED:20250324T085119Z
UID:10004425-1744207200-1744212600@motalasjostad.se
SUMMARY:Digitala första hjälpen
DESCRIPTION:Välkommen till vår drop-in där vi svarar på dina grundläggande frågor om IT. Ta gärna med din telefon\, surfplatta eller laptop. På onsdagar kan du även få hjälp med att hantera Konsumentverkets sida Hallå konsument. \n 
URL:https://motalasjostad.se/ec-event/digitala-forsta-hjalpen-55/2025-04-09/
LOCATION:Motala huvudbibliotek
CATEGORIES:Övriga evenemang
ATTACH;FMTTYPE=image/jpeg:https://motalasjostad.se/wp-content/uploads/2025/03/DFH-HT-24-1.jpg
END:VEVENT
BEGIN:VEVENT
DTSTART;TZID=Europe/Paris:20250409T163000
DTEND;TZID=Europe/Paris:20250409T190000
DTSTAMP:20260424T221712
CREATED:20250324T082300Z
LAST-MODIFIED:20250324T082300Z
UID:10004464-1744216200-1744225200@motalasjostad.se
SUMMARY:Släktforskning
DESCRIPTION:Kom och släktforska med andra släktforskare. Ta med din dator eller ditt material. DIS-Filbyter finns på plats för att ge tips och råd. OBS! Träffarna är under meröppettid. För mer information kontakta bibliotekets personal på 0141-22 58 75. Drop in.
URL:https://motalasjostad.se/ec-event/slaktforskning-17/
LOCATION:Borensbergs Bibliotek\, Husbyvägen 13\, Borensberg\, 59175
CATEGORIES:Övriga evenemang
ATTACH;FMTTYPE=image/png:https://motalasjostad.se/wp-content/uploads/2025/03/Slaktforskning.png
END:VEVENT
BEGIN:VEVENT
DTSTART;TZID=Europe/Paris:20250409T180000
DTEND;TZID=Europe/Paris:20250409T190000
DTSTAMP:20260424T221712
CREATED:20250324T084810Z
LAST-MODIFIED:20250324T084810Z
UID:10004437-1744221600-1744225200@motalasjostad.se
SUMMARY:Lättläst bokcirkel på Ekön
DESCRIPTION:Vi läser och pratar om en lättläst bok. För dig som vill träna på att läsa och prata svenska.\nPlats: Platens gemensamhetslokal\, Styvingevägen 14.
URL:https://motalasjostad.se/ec-event/lattlast-bokcirkel-pa-ekon-18/2025-04-09/
LOCATION:Platens gemensamhetslokal\, Ekön\, Styvingevägen 14\, Motala
CATEGORIES:Övriga evenemang
ATTACH;FMTTYPE=image/png:https://motalasjostad.se/wp-content/uploads/2025/03/Lattlast-bokcirkle-pa-Ekon-2024.png
END:VEVENT
BEGIN:VEVENT
DTSTART;TZID=Europe/Paris:20250409T183000
DTEND;TZID=Europe/Paris:20250409T183000
DTSTAMP:20260424T221712
CREATED:20250218T090820Z
LAST-MODIFIED:20250218T090820Z
UID:10004223-1744223400-1744223400@motalasjostad.se
SUMMARY:Ungdomskör
DESCRIPTION:Anna Gullmans ungdomskör från Kulturskolan sjunger sånger om våren\, kärleken och naturen.  på Charlottenborgs slott. \nSlottet är öppet från kl 16.00på onsdagskvällar med föreläsningar. \nVälkomna!
URL:https://motalasjostad.se/ec-event/ungdomskor/
LOCATION:Charlottenborgs slott\, Strandvägen 71\, Motala\, 591 46\, Sweden
CATEGORIES:Musik
ATTACH;FMTTYPE=image/jpeg:https://motalasjostad.se/wp-content/uploads/2025/02/Slottet-baksidan-fotograf-Pia-Axelsson-5.jpg
ORGANIZER;CN="Kultur &amp%3B Fritid":MAILTO:kultur@motala.se
END:VEVENT
BEGIN:VEVENT
DTSTART;VALUE=DATE:20250410
DTEND;VALUE=DATE:20250411
DTSTAMP:20260424T221712
CREATED:20250401T085829Z
LAST-MODIFIED:20250401T091852Z
UID:10006426-1744279200-1744311600@motalasjostad.se
SUMMARY:Utställning: Romska språket - historia\, nutid och framtid
DESCRIPTION:En utställning gjord av Institutet för språk och folkminnen om det romska språket – en del av vårt gemensamma kulturarv i Sverige. Den 8 april firas internationella Romadagen. Kan ses under bibliotekets öppettider. \n 
URL:https://motalasjostad.se/ec-event/utstallning-romska-spraket-historia-nutid-och-framtid/2025-04-10/
LOCATION:Motala huvudbibliotek
CATEGORIES:Övriga evenemang
ATTACH;FMTTYPE=image/png:https://motalasjostad.se/wp-content/uploads/2025/03/Romska-spraket.png
END:VEVENT
BEGIN:VEVENT
DTSTART;TZID=Europe/Paris:20250410T130000
DTEND;TZID=Europe/Paris:20250410T140000
DTSTAMP:20260424T221712
CREATED:20250324T081236Z
LAST-MODIFIED:20250324T081236Z
UID:10004483-1744290000-1744293600@motalasjostad.se
SUMMARY:Nyfiken på nya böcker
DESCRIPTION:Välkommen till biblioteket för att titta på vilka böcker som snart kommer att ges ut. Biblioteket bjuder på kaffe/te medtag gärna eget fika.
URL:https://motalasjostad.se/ec-event/nyfiken-pa-nya-bocker-2/
LOCATION:Tjällmo bibliotek\, Länsvägen\, Tjällmo\, 59190\, Sverige
CATEGORIES:Övriga evenemang
ATTACH;FMTTYPE=image/png:https://motalasjostad.se/wp-content/uploads/2025/03/Nyfiken-pa-nya-bocker.png
END:VEVENT
BEGIN:VEVENT
DTSTART;TZID=Europe/Paris:20250410T140000
DTEND;TZID=Europe/Paris:20250410T153000
DTSTAMP:20260424T221712
CREATED:20250324T084554Z
LAST-MODIFIED:20250324T084554Z
UID:10004444-1744293600-1744299000@motalasjostad.se
SUMMARY:Läsa tillsammans
DESCRIPTION:Välkommen till Läsa tillsammans -högläsning för vuxna där vi läser noveller och dikter högt tillsammans och samtalar om det vi läser. Det krävs inga förberedelser. Anmälan till biblioteket  på 0141-22 51 00 eller på e-post till bibl.info@motala.se senast den 7/4. Vi bjuder på kaffe/te. \n 
URL:https://motalasjostad.se/ec-event/lasa-tillsammans-5/
LOCATION:Motala huvudbibliotek
CATEGORIES:Övriga evenemang
ATTACH;FMTTYPE=image/png:https://motalasjostad.se/wp-content/uploads/2025/03/Lasa-tillsammans.png
END:VEVENT
BEGIN:VEVENT
DTSTART;TZID=Europe/Paris:20250410T140000
DTEND;TZID=Europe/Paris:20250410T160000
DTSTAMP:20260424T221712
CREATED:20250324T081603Z
LAST-MODIFIED:20250324T081603Z
UID:10004477-1744293600-1744300800@motalasjostad.se
SUMMARY:Handarbeta på bibblan
DESCRIPTION:Ta med ditt handarbete och kom till biblioteket för en trevlig stund. Ta gärna med eget fika. Biblioteket bjuder på kaffe och te. Ingen anmälan. \n 
URL:https://motalasjostad.se/ec-event/handarbeta-pa-bibblan-21/2025-04-10/
LOCATION:Tjällmo bibliotek\, Länsvägen\, Tjällmo\, 59190\, Sverige
CATEGORIES:Övriga evenemang
ATTACH;FMTTYPE=image/png:https://motalasjostad.se/wp-content/uploads/2025/03/Handarbetscafe.png
END:VEVENT
BEGIN:VEVENT
DTSTART;TZID=Europe/Paris:20250410T160000
DTEND;TZID=Europe/Paris:20250410T163000
DTSTAMP:20260424T221712
CREATED:20250324T081847Z
LAST-MODIFIED:20250324T081847Z
UID:10004471-1744300800-1744302600@motalasjostad.se
SUMMARY:Saga och sång
DESCRIPTION:För barn 2-5 år. Vi läser sagor och sjunger tillsammans. Välkommen. \n 
URL:https://motalasjostad.se/ec-event/saga-och-sang-12/2025-04-10/
LOCATION:Borensbergs Bibliotek\, Husbyvägen 13\, Borensberg\, 59175
CATEGORIES:Barn/ungdom
ATTACH;FMTTYPE=image/png:https://motalasjostad.se/wp-content/uploads/2025/03/Tre-kaniner-som-spelar-gitarr.png
END:VEVENT
BEGIN:VEVENT
DTSTART;TZID=Europe/Paris:20250410T170000
DTEND;TZID=Europe/Paris:20250410T190000
DTSTAMP:20260424T221712
CREATED:20250324T084935Z
LAST-MODIFIED:20250324T084935Z
UID:10004435-1744304400-1744311600@motalasjostad.se
SUMMARY:Språkträning
DESCRIPTION:På Motala huvudbibliotek finns möjligheten att få hjälp med att träna på det svenska språket\, tyda krångliga brev\, skriva jobbansökningar med mera.\nI samarbete med Folkuniversitetet \n 
URL:https://motalasjostad.se/ec-event/spraktraning-35/2025-04-10/
LOCATION:Motala huvudbibliotek
CATEGORIES:Övriga evenemang
ATTACH;FMTTYPE=image/png:https://motalasjostad.se/wp-content/uploads/2025/03/Spraktraning-1.png
END:VEVENT
BEGIN:VEVENT
DTSTART;TZID=Europe/Paris:20250410T183000
DTEND;TZID=Europe/Paris:20250410T193000
DTSTAMP:20260424T221712
CREATED:20250226T103456Z
LAST-MODIFIED:20250226T103456Z
UID:10004324-1744309800-1744313400@motalasjostad.se
SUMMARY:Kvinnorna på Göta kanal
DESCRIPTION:Johan Sievers är journalist\, författare och slussvärd på Göta kanal.I en nyutkommen bok\, Lyckans smala hav\, berättar han om Götakanals 200-åriga historia ur delvis nya perspektiv. Många människor kliver fram ur det förgångna\, däribland alla kvinnor som haft stor betydelse för kanalen.Gratisbiljett finns att hämta på biblioteket fr.o.m. 8/3
URL:https://motalasjostad.se/ec-event/kvinnorna-pa-gota-kanal/
LOCATION:Motala Bibliotek
CATEGORIES:Övriga evenemang
ATTACH;FMTTYPE=image/jpeg:https://motalasjostad.se/wp-content/uploads/2025/02/kvinnorna-pa-gota-kanal-e1740566083752.jpg
ORGANIZER;CN="Motala huvudbibliotek%2C Motala hembygdsf%C3%B6rening":MAILTO:bibl.info@motala.se
END:VEVENT
BEGIN:VEVENT
DTSTART;TZID=Europe/Paris:20250410T190000
DTEND;TZID=Europe/Paris:20250410T204500
DTSTAMP:20260424T221712
CREATED:20250131T095359Z
LAST-MODIFIED:20250131T095359Z
UID:10004127-1744311600-1744317900@motalasjostad.se
SUMMARY:Pueblo
DESCRIPTION:Det här är berättelsen om en regnig dag. En karismatisk berättare\, gestaltad av Özz Nûjen\, riktar strålkastaren på de osynliga\, de marginaliserade. Han fantiserar kring deras liv. Vilka är de? Hur lever de? Hur ser deras förflutna ut\, och vad väntar dem i framtiden? \nMöt bland andra Violetta\, snabbköpskassörskan som låtsas att hon är en drottning och kunderna hennes lojala undersåtar. Said\, lagerarbetaren som lägger all sin tid på jobbet och alla sina pengar på spel och öl. Domenica\, den hemlösa kvinnan som samlar ihop kundvagnar på parkeringen\, men vars tyngsta lass att bära är hennes eget livsöde. \nköp dina biljetter här: PUEBLO – Tickster \n 
URL:https://motalasjostad.se/ec-event/pueblo/
LOCATION:Folkets Hus\, Repslagargatan 3\, Motala\, 591 30
ATTACH;FMTTYPE=image/jpeg:https://motalasjostad.se/wp-content/uploads/2025/01/pueblo-e1738317229407.jpg
ORGANIZER;CN="Riksteatern":MAILTO:info@riksteatern.se
END:VEVENT
BEGIN:VEVENT
DTSTART;VALUE=DATE:20250411
DTEND;VALUE=DATE:20250422
DTSTAMP:20260424T221712
CREATED:20250401T092912Z
LAST-MODIFIED:20250401T094751Z
UID:10004507-1744329600-1745279999@motalasjostad.se
SUMMARY:Digital tipspromenad - Kända barndeckare
DESCRIPTION:Från 6 år. Samla ihop kompisarna eller familjen och undersök hur mycket ni kan om kända barndeckare och om deras mystiska fall. En mobil med internetkoppling behövs. Starta promenaden genom att läsa av QR-koden vid biblioteks entré\, eller surfa\, när du är på plats\, in på webbsidan https://play.gpsquiz.com. \n 
URL:https://motalasjostad.se/ec-event/digital-tipspromenad-kanda-barndeckare/2025-04-11/
LOCATION:Borensbergs Bibliotek\, Husbyvägen 13\, Borensberg\, 59175
CATEGORIES:Barn/ungdom
ATTACH;FMTTYPE=image/jpeg:https://motalasjostad.se/wp-content/uploads/2025/03/Digital-tipspromenad-1.jpg
END:VEVENT
BEGIN:VEVENT
DTSTART;VALUE=DATE:20250411
DTEND;VALUE=DATE:20250422
DTSTAMP:20260424T221712
CREATED:20250401T093457Z
LAST-MODIFIED:20250401T093457Z
UID:10004506-1744329600-1745279999@motalasjostad.se
SUMMARY:Digital tipspromenad - Kända barndeckare
DESCRIPTION:Från 6 år. Samla ihop kompisarna eller familjen och undersök hur mycket\nni kan om kända barndeckare och om deras mystiska fall. En mobil med\ninternetkoppling behövs. Starta promenaden genom att läsa av QR-koden vid biblioteks entré\, eller surfa\, när du är på plats\, in på webbsidan\nhttps://play.gpsquiz.com.\nDu kan också gå tipspromenaden i Charlottenborg med start utanför fritidsgården. \n 
URL:https://motalasjostad.se/ec-event/digital-tipspromenad-kanda-barndeckare-2/2025-04-11/
LOCATION:Motala huvudbibliotek
CATEGORIES:Barn/ungdom
ATTACH;FMTTYPE=image/jpeg:https://motalasjostad.se/wp-content/uploads/2025/03/Digital-tipspromenad.jpg
END:VEVENT
BEGIN:VEVENT
DTSTART;TZID=Europe/Paris:20250411T103000
DTEND;TZID=Europe/Paris:20250411T110000
DTSTAMP:20260424T221712
CREATED:20250324T082408Z
LAST-MODIFIED:20250324T082408Z
UID:10004462-1744367400-1744369200@motalasjostad.se
SUMMARY:Digitala första hjälpen
DESCRIPTION:Välkommen till vår drop-in där vi svarar på dina grundläggande frågor om IT. Ta gärna med din telefon\, surfplatta eller laptop. \n 
URL:https://motalasjostad.se/ec-event/digitala-forsta-hjalpen-54/2025-04-11/
LOCATION:Borensbergs Bibliotek\, Husbyvägen 13\, Borensberg\, 59175
CATEGORIES:Övriga evenemang
ATTACH;FMTTYPE=image/png:https://motalasjostad.se/wp-content/uploads/2025/03/DFH-BBG.png
END:VEVENT
BEGIN:VEVENT
DTSTART;VALUE=DATE:20250411
DTEND;VALUE=DATE:20250412
DTSTAMP:20260424T221712
CREATED:20250401T085829Z
LAST-MODIFIED:20250401T091852Z
UID:10006427-1744376400-1744394400@motalasjostad.se
SUMMARY:Utställning: Romska språket - historia\, nutid och framtid
DESCRIPTION:En utställning gjord av Institutet för språk och folkminnen om det romska språket – en del av vårt gemensamma kulturarv i Sverige. Den 8 april firas internationella Romadagen. Kan ses under bibliotekets öppettider. \n 
URL:https://motalasjostad.se/ec-event/utstallning-romska-spraket-historia-nutid-och-framtid/2025-04-11/
LOCATION:Motala huvudbibliotek
CATEGORIES:Övriga evenemang
ATTACH;FMTTYPE=image/png:https://motalasjostad.se/wp-content/uploads/2025/03/Romska-spraket.png
END:VEVENT
BEGIN:VEVENT
DTSTART;TZID=Europe/Paris:20250411T150000
DTEND;TZID=Europe/Paris:20250411T153000
DTSTAMP:20260424T221712
CREATED:20250324T083523Z
LAST-MODIFIED:20250324T083523Z
UID:10004453-1744383600-1744385400@motalasjostad.se
SUMMARY:Minibio - Bollongexpeditionen
DESCRIPTION:Rekommenderad ålder från ca 3 år. En berättelse om ett antal reslystna myror\, ledda av den äventyrliga ingenjörsmyran Harriet Iver-Larsen som vill utforska världen utanför stacken. Baserad på en bok av Anna Bengtsson. Speltid 20 min. Anmäl dig på biblioteket eller på 0141-22 51 00. \n 
URL:https://motalasjostad.se/ec-event/minibio-bollongexpeditionen/
LOCATION:Motala huvudbibliotek
CATEGORIES:Barn/ungdom
ATTACH;FMTTYPE=image/png:https://motalasjostad.se/wp-content/uploads/2025/03/Minibio-2024.png
END:VEVENT
BEGIN:VEVENT
DTSTART;TZID=Europe/Paris:20250411T190000
DTEND;TZID=Europe/Paris:20250411T213000
DTSTAMP:20260424T221712
CREATED:20250324T112832Z
LAST-MODIFIED:20250324T112832Z
UID:10004495-1744398000-1744407000@motalasjostad.se
SUMMARY:Lilla Ensamma Hjärtat
DESCRIPTION:Lilla ensamma hjärtat drar igång på scenen på Restaurang Sjöbris.\n\n\n\nRestaurang Sjöbris öppnar upp redan från kl.16.00 med after work priser för mat & dryck. Fri entré hela kvällen lång\, så varmt välkomna in! \nBordsbokning\, kan endast bokas in för ätande gäster.\nTelefon: 0141 – 480 50\nE-post: info@motalafolketshus.se
URL:https://motalasjostad.se/ec-event/lilla-ensamma-hjartat/
LOCATION:Foplkets Hus\, restaurang Sjöbris\, Sjögatan 5\, Motala\, 591 30\, Sweden
CATEGORIES:Musik
ATTACH;FMTTYPE=image/jpeg:https://motalasjostad.se/wp-content/uploads/2025/03/lilla-ensamma-hjartat-e1742815703119.jpg
ORGANIZER;CN="Motala Folkets Hus":MAILTO:konferens@motalafolketshus.se
END:VEVENT
BEGIN:VEVENT
DTSTART;TZID=Europe/Paris:20250412T080000
DTEND;TZID=Europe/Paris:20250510T170000
DTSTAMP:20260424T221712
CREATED:20250407T070521Z
LAST-MODIFIED:20250407T070521Z
UID:10007152-1744444800-1746896400@motalasjostad.se
SUMMARY:Andas - konstutställning
DESCRIPTION:Oljemålningar. En konstutställning av Marie Hedeving från Hästholmen. Kan ses under bibliotekets öppettider. \n 
URL:https://motalasjostad.se/ec-event/andas-konstutstallning/
LOCATION:Motala Bibliotek
CATEGORIES:Utställning
ATTACH;FMTTYPE=image/png:https://motalasjostad.se/wp-content/uploads/2025/03/Utstallning-Marie-Hedeving.png
END:VEVENT
BEGIN:VEVENT
DTSTART;TZID=Europe/Paris:20250412T100000
DTEND;TZID=Europe/Paris:20250412T104000
DTSTAMP:20260424T221712
CREATED:20250411T084721Z
LAST-MODIFIED:20250411T084721Z
UID:10007150-1744452000-1744454400@motalasjostad.se
SUMMARY:Sång och språng för busiga barn och föräldrar
DESCRIPTION:En sång- musik och rörelsestund för barn 0-5 år i sällskap med vuxen. \nKaffe\, saft och frukt. \nFörsamlingshemmet Sjögatan 11
URL:https://motalasjostad.se/ec-event/sang-och-sprang-for-busiga-barn-och-foraldrar-3/2025-04-12/
LOCATION:Församlingshemmet\, Sjögatan 9\, Motala
CATEGORIES:Barn/ungdom,Musik
ATTACH;FMTTYPE=image/jpeg:https://motalasjostad.se/wp-content/uploads/2025/04/Sang-och-sprang_2-e1744361232191.jpg
END:VEVENT
BEGIN:VEVENT
DTSTART;VALUE=DATE:20250412
DTEND;VALUE=DATE:20250413
DTSTAMP:20260424T221712
CREATED:20250401T093457Z
LAST-MODIFIED:20250401T093457Z
UID:10006454-1744452000-1744470000@motalasjostad.se
SUMMARY:Digital tipspromenad - Kända barndeckare
DESCRIPTION:Från 6 år. Samla ihop kompisarna eller familjen och undersök hur mycket\nni kan om kända barndeckare och om deras mystiska fall. En mobil med\ninternetkoppling behövs. Starta promenaden genom att läsa av QR-koden vid biblioteks entré\, eller surfa\, när du är på plats\, in på webbsidan\nhttps://play.gpsquiz.com.\nDu kan också gå tipspromenaden i Charlottenborg med start utanför fritidsgården. \n 
URL:https://motalasjostad.se/ec-event/digital-tipspromenad-kanda-barndeckare-2/2025-04-12/
LOCATION:Motala huvudbibliotek
CATEGORIES:Barn/ungdom
ATTACH;FMTTYPE=image/jpeg:https://motalasjostad.se/wp-content/uploads/2025/03/Digital-tipspromenad.jpg
END:VEVENT
END:VCALENDAR