BEGIN:VCALENDAR
VERSION:2.0
PRODID:-//Motala Sjöstad - ECPv6.13.2.1//NONSGML v1.0//EN
CALSCALE:GREGORIAN
METHOD:PUBLISH
X-WR-CALNAME:Motala Sjöstad
X-ORIGINAL-URL:https://motalasjostad.se
X-WR-CALDESC:Händelser för Motala Sjöstad
REFRESH-INTERVAL;VALUE=DURATION:PT1H
X-Robots-Tag:noindex
X-PUBLISHED-TTL:PT1H
BEGIN:VTIMEZONE
TZID:Europe/Paris
BEGIN:DAYLIGHT
TZOFFSETFROM:+0100
TZOFFSETTO:+0200
TZNAME:CEST
DTSTART:20250330T010000
END:DAYLIGHT
BEGIN:STANDARD
TZOFFSETFROM:+0200
TZOFFSETTO:+0100
TZNAME:CET
DTSTART:20251026T010000
END:STANDARD
END:VTIMEZONE
BEGIN:VEVENT
DTSTART;VALUE=DATE:20250414
DTEND;VALUE=DATE:20250415
DTSTAMP:20260425T033337
CREATED:20250401T093457Z
LAST-MODIFIED:20250401T093457Z
UID:10006455-1744624800-1744657200@motalasjostad.se
SUMMARY:Digital tipspromenad - Kända barndeckare
DESCRIPTION:Från 6 år. Samla ihop kompisarna eller familjen och undersök hur mycket\nni kan om kända barndeckare och om deras mystiska fall. En mobil med\ninternetkoppling behövs. Starta promenaden genom att läsa av QR-koden vid biblioteks entré\, eller surfa\, när du är på plats\, in på webbsidan\nhttps://play.gpsquiz.com.\nDu kan också gå tipspromenaden i Charlottenborg med start utanför fritidsgården. \n 
URL:https://motalasjostad.se/ec-event/digital-tipspromenad-kanda-barndeckare-2/2025-04-14/
LOCATION:Motala huvudbibliotek
CATEGORIES:Barn/ungdom
ATTACH;FMTTYPE=image/jpeg:https://motalasjostad.se/wp-content/uploads/2025/03/Digital-tipspromenad.jpg
END:VEVENT
BEGIN:VEVENT
DTSTART;TZID=Europe/Paris:20250414T130000
DTEND;TZID=Europe/Paris:20250414T150000
DTSTAMP:20260425T033337
CREATED:20250324T081022Z
LAST-MODIFIED:20250324T081022Z
UID:10004486-1744635600-1744642800@motalasjostad.se
SUMMARY:Digitalkul
DESCRIPTION:Från ca 6 år med Osmo och ca 10 år med 3D-pennor. Kom testa bibliotekets digitala aktiviteter. Programmera och spela med Osmo eller tillverka en liten nyckelring med 3D-penna. Biblioteket är stängt men personal finns på plats och öppnar för de som vill delta. \n 
URL:https://motalasjostad.se/ec-event/digitalkul/
LOCATION:Tjällmo bibliotek\, Länsvägen\, Tjällmo\, 59190\, Sverige
CATEGORIES:Barn/ungdom
ATTACH;FMTTYPE=image/png:https://motalasjostad.se/wp-content/uploads/2025/03/Digitalkul.png
END:VEVENT
BEGIN:VEVENT
DTSTART;VALUE=DATE:20250414
DTEND;VALUE=DATE:20250415
DTSTAMP:20260425T033337
CREATED:20250401T092912Z
LAST-MODIFIED:20250401T094751Z
UID:10006803-1744635600-1744653600@motalasjostad.se
SUMMARY:Digital tipspromenad - Kända barndeckare
DESCRIPTION:Från 6 år. Samla ihop kompisarna eller familjen och undersök hur mycket ni kan om kända barndeckare och om deras mystiska fall. En mobil med internetkoppling behövs. Starta promenaden genom att läsa av QR-koden vid biblioteks entré\, eller surfa\, när du är på plats\, in på webbsidan https://play.gpsquiz.com. \n 
URL:https://motalasjostad.se/ec-event/digital-tipspromenad-kanda-barndeckare/2025-04-14/
LOCATION:Borensbergs Bibliotek\, Husbyvägen 13\, Borensberg\, 59175
CATEGORIES:Barn/ungdom
ATTACH;FMTTYPE=image/jpeg:https://motalasjostad.se/wp-content/uploads/2025/03/Digital-tipspromenad-1.jpg
END:VEVENT
BEGIN:VEVENT
DTSTART;TZID=Europe/Paris:20250414T140000
DTEND;TZID=Europe/Paris:20250414T153000
DTSTAMP:20260425T033337
CREATED:20250324T080933Z
LAST-MODIFIED:20250324T080933Z
UID:10004487-1744639200-1744644600@motalasjostad.se
SUMMARY:Bio på bibblan - LasseMajas detektivbyrå - Maskoten som försvann
DESCRIPTION:Rekommenderad ålder från 7 år. Inför den årliga Vallebyspelen skadas en efter en av de tävlande. Spåren leder Lasse och Maja till en mörk hemlighet och en gammal myt och spelens maskot som sägs hemsöka hallen. Kommer Lasse och Maja finns lösningen innan någon mer råkar illa ut och kommer deras vänskap överleva prövningarna? Speltid: 90 minuter. Anmäl dig på biblioteket eller på 0141-22 51 00. \n 
URL:https://motalasjostad.se/ec-event/bio-pa-bibblan-lassemajas-detektivbyra-maskoten-som-forsvann/
LOCATION:Motala huvudbibliotek
CATEGORIES:Barn/ungdom
ATTACH;FMTTYPE=image/png:https://motalasjostad.se/wp-content/uploads/2025/03/Bio-pa-bibblan-2024-1.png
END:VEVENT
BEGIN:VEVENT
DTSTART;VALUE=DATE:20250415
DTEND;VALUE=DATE:20250416
DTSTAMP:20260425T033337
CREATED:20250401T092912Z
LAST-MODIFIED:20250401T094751Z
UID:10006804-1744707600-1744725600@motalasjostad.se
SUMMARY:Digital tipspromenad - Kända barndeckare
DESCRIPTION:Från 6 år. Samla ihop kompisarna eller familjen och undersök hur mycket ni kan om kända barndeckare och om deras mystiska fall. En mobil med internetkoppling behövs. Starta promenaden genom att läsa av QR-koden vid biblioteks entré\, eller surfa\, när du är på plats\, in på webbsidan https://play.gpsquiz.com. \n 
URL:https://motalasjostad.se/ec-event/digital-tipspromenad-kanda-barndeckare/2025-04-15/
LOCATION:Borensbergs Bibliotek\, Husbyvägen 13\, Borensberg\, 59175
CATEGORIES:Barn/ungdom
ATTACH;FMTTYPE=image/jpeg:https://motalasjostad.se/wp-content/uploads/2025/03/Digital-tipspromenad-1.jpg
END:VEVENT
BEGIN:VEVENT
DTSTART;VALUE=DATE:20250415
DTEND;VALUE=DATE:20250416
DTSTAMP:20260425T033337
CREATED:20250401T093457Z
LAST-MODIFIED:20250401T093457Z
UID:10006456-1744711200-1744743600@motalasjostad.se
SUMMARY:Digital tipspromenad - Kända barndeckare
DESCRIPTION:Från 6 år. Samla ihop kompisarna eller familjen och undersök hur mycket\nni kan om kända barndeckare och om deras mystiska fall. En mobil med\ninternetkoppling behövs. Starta promenaden genom att läsa av QR-koden vid biblioteks entré\, eller surfa\, när du är på plats\, in på webbsidan\nhttps://play.gpsquiz.com.\nDu kan också gå tipspromenaden i Charlottenborg med start utanför fritidsgården. \n 
URL:https://motalasjostad.se/ec-event/digital-tipspromenad-kanda-barndeckare-2/2025-04-15/
LOCATION:Motala huvudbibliotek
CATEGORIES:Barn/ungdom
ATTACH;FMTTYPE=image/jpeg:https://motalasjostad.se/wp-content/uploads/2025/03/Digital-tipspromenad.jpg
END:VEVENT
BEGIN:VEVENT
DTSTART;TZID=Europe/Paris:20250415T103000
DTEND;TZID=Europe/Paris:20250415T120000
DTSTAMP:20260425T033337
CREATED:20250324T085155Z
LAST-MODIFIED:20250324T085155Z
UID:10004421-1744713000-1744718400@motalasjostad.se
SUMMARY:Digitala första hjälpen
DESCRIPTION:Välkommen till vår drop-in där vi svarar på dina grundläggande frågor om IT. Ta gärna med din telefon\, surfplatta eller laptop. På onsdagar kan du även få hjälp med att hantera Konsumentverkets sida Hallå konsument. \n 
URL:https://motalasjostad.se/ec-event/digitala-forsta-hjalpen-56/2025-04-15/
LOCATION:Motala huvudbibliotek
CATEGORIES:Övriga evenemang
ATTACH;FMTTYPE=image/jpeg:https://motalasjostad.se/wp-content/uploads/2025/03/DFH-HT-24.jpg
END:VEVENT
BEGIN:VEVENT
DTSTART;TZID=Europe/Paris:20250415T120000
DTEND;TZID=Europe/Paris:20250415T170000
DTSTAMP:20260425T033337
CREATED:20250303T081112Z
LAST-MODIFIED:20250303T081855Z
UID:10004326-1744718400-1744736400@motalasjostad.se
SUMMARY:Konstutställning
DESCRIPTION:Välkommen in på Duberska gården till Konstutställningen  \n15 -20 april 2025 \nAkvarell &  Akryl målningar \nVi är fyra konstnärer:  Christina Svärd\, Kristina Kull \, Pernilla Kornhed och Miljana Olsson \n  \n 
URL:https://motalasjostad.se/ec-event/konstutstallning-6/2025-04-15/
LOCATION:Dubergska gården\, Bispmotalagatan 34\, Motala\, 59130
CATEGORIES:Utställning
ATTACH;FMTTYPE=image/jpeg:https://motalasjostad.se/wp-content/uploads/2025/02/bild-1-scaled-e1740989799529.jpg
END:VEVENT
BEGIN:VEVENT
DTSTART;TZID=Europe/Paris:20250415T130000
DTEND;TZID=Europe/Paris:20250415T150000
DTSTAMP:20260425T033337
CREATED:20250324T080833Z
LAST-MODIFIED:20250324T080833Z
UID:10004488-1744722000-1744729200@motalasjostad.se
SUMMARY:Skapa påskkort med GreenScreen
DESCRIPTION:Testa att ta en påskbild med bibliotekets Green Screen. Kom gärna utklädd men undvik gröna kläder. Medan du väntar kan du gå på påskjakt då det\nligger påskägg gömda i biblioteket. Lös ledtrådarna och se hur många du kan hitta. Drop-in. \n 
URL:https://motalasjostad.se/ec-event/skapa-paskkort-med-greenscreen/
LOCATION:Motala huvudbibliotek
CATEGORIES:Barn/ungdom
ATTACH;FMTTYPE=image/jpeg:https://motalasjostad.se/wp-content/uploads/2025/03/GreenScreen-Pasklov.jpg
END:VEVENT
BEGIN:VEVENT
DTSTART;TZID=Europe/Paris:20250415T130000
DTEND;TZID=Europe/Paris:20250415T150000
DTSTAMP:20260425T033337
CREATED:20250324T081141Z
LAST-MODIFIED:20250324T081141Z
UID:10004484-1744722000-1744729200@motalasjostad.se
SUMMARY:Bio på bibblan - Sylvanian families - Den stora gåvojakten
DESCRIPTION:Barntillåten. Den stora festivalen kommer till Sylvanian-byn. Freyas mamma fyller år på samma dag\, och Freya är nervös för hon kan inte komma på vilken present hon ska ge\, och på festivalen ska hon utse Årets träd. Speltid: 110 minuter. Filmen pågår ett par minuter efter stängning men personal finns på plats hela tiden. Ta gärna med egen fika. Anmäl dig på biblioteket eller på  0141-22 58 75. \n 
URL:https://motalasjostad.se/ec-event/bio-pa-bibblan-sylvanian-families-den-stora-gavojakten/
LOCATION:Borensbergs Bibliotek\, Husbyvägen 13\, Borensberg\, 59175
CATEGORIES:Barn/ungdom
ATTACH;FMTTYPE=image/png:https://motalasjostad.se/wp-content/uploads/2025/03/Bio-pa-bibblan-2024.png
END:VEVENT
BEGIN:VEVENT
DTSTART;TZID=Europe/Paris:20250415T130000
DTEND;TZID=Europe/Paris:20250415T160000
DTSTAMP:20260425T033337
CREATED:20250411T082643Z
LAST-MODIFIED:20250411T082643Z
UID:10007163-1744722000-1744732800@motalasjostad.se
SUMMARY:Familjeslöjd Gör din egen käpphäst
DESCRIPTION:Gör din egen käpphäst av strumpor\, tyg\, garn och naturmaterial. Drop in.
URL:https://motalasjostad.se/ec-event/familjeslojd-gor-din-egen-kapphast/
LOCATION:Gamla småskolan Nykyrka\, Nykyrka 211\, Motala\, Östergötlands län\, 59197\, Sweden
CATEGORIES:Barn/ungdom
ATTACH;FMTTYPE=image/jpeg:https://motalasjostad.se/wp-content/uploads/2025/04/489922204_991172442724820_1253403032095673832_n-2-e1744359889704.jpg
ORGANIZER;CN="V%C3%A4stra Ny hembygdsf%C3%B6rening":MAILTO:m.oberg@live.se
END:VEVENT
BEGIN:VEVENT
DTSTART;TZID=Europe/Paris:20250415T160000
DTEND;TZID=Europe/Paris:20250415T180000
DTSTAMP:20260425T033337
CREATED:20250324T080713Z
LAST-MODIFIED:20250324T080749Z
UID:10004489-1744732800-1744740000@motalasjostad.se
SUMMARY:Prova på schack
DESCRIPTION:Från 8 år. Vill du testa på schack och spela tillsammans med andra? Eller så är du redan väldigt bra på schack och är sugen på att lära andra? Drop-in. \n 
URL:https://motalasjostad.se/ec-event/prova-pa-schack-7/
LOCATION:Motala huvudbibliotek
CATEGORIES:Barn/ungdom
ATTACH;FMTTYPE=image/jpeg:https://motalasjostad.se/wp-content/uploads/2025/03/Prova-pa-schack-HT24.jpg
END:VEVENT
BEGIN:VEVENT
DTSTART;TZID=Europe/Paris:20250415T170000
DTEND;TZID=Europe/Paris:20250415T190000
DTSTAMP:20260425T033337
CREATED:20250324T085030Z
LAST-MODIFIED:20250324T085030Z
UID:10004431-1744736400-1744743600@motalasjostad.se
SUMMARY:Språkträning
DESCRIPTION:På Motala huvudbibliotek finns möjligheten att få hjälp med att träna på det svenska språket\, tyda krångliga brev\, skriva jobbansökningar med mera.\nI samarbete med Folkuniversitetet \n 
URL:https://motalasjostad.se/ec-event/spraktraning-36/2025-04-15/
LOCATION:Motala huvudbibliotek
CATEGORIES:Övriga evenemang
ATTACH;FMTTYPE=image/png:https://motalasjostad.se/wp-content/uploads/2025/03/Spraktraning.png
END:VEVENT
BEGIN:VEVENT
DTSTART;TZID=Europe/Paris:20250416T080000
DTEND;TZID=Europe/Paris:20250421T170000
DTSTAMP:20260425T033337
CREATED:20250407T094711Z
LAST-MODIFIED:20250407T095101Z
UID:10007149-1744790400-1745254800@motalasjostad.se
SUMMARY:Gå en fallskärmskurs och bli en del av en härlig gemenskap!
DESCRIPTION:Vill du utmana dig själv och prova något nytt?\nGå en fallskärmskurs!\nSvensk Fallskärmsutbildning (SFU) består av teoretiska och praktiska övningar samt 16 utbildningshopp varav 1 tandemhopp med varierande svårighetsgrader och bedömningspunkter. Efter 16 godkända utbildningshopp erhålls A-licens utfärdad av Svenska Fallskärmsförbundet SFF\, och tillåter dig att hoppa både i Sverige och utomlands. Under ett antal dagar är det teorigenomgång samt praktiska övningar. Du kommer du lära dig allt du behöver veta för att göra ditt första fallskärmshopp på ett säkert sätt. \nVi kommer även åka till vindtunnel i Stockholm för att vara väl förberedda för det fria fallet. Ditt första fallskärmshopp kommer vara ett tandemhopp med en erfaren instruktör och därefter kommer du få göra ditt första hopp. Efter det får du komma ut och fullfölja dina utbildningshopp i egen takt. Normalt tar det 1-4 månader att slutföra utbildningen beroende på i vilken takt du väljer att hoppa och väderförhållanden. Krav – Minst 15 år. Är du inte myndig krävs målsmans tillstånd. Det finns ingen övre åldersgräns. – Maxvikt för att hoppa med våra elevutrustningar är 110 kg. – Du måste kunna närvara vid alla schemalagda kursdagar. – Godkänd medicinsk undersökning. Innan första hoppet skall du genomgå en läkarundersökning för att säkerhetsställa att det inte finns några medicinska hinder. Har du några funderingar kring de medicinska kraven så kontakta kursansvarig. \nDetta ingår i kursen -Teorikurs -16 utbildningshopp varav 1 utbildnings-tandemhopp -15 Minuter vindtunnel -Kurslitteratur -Lån av fallskärm\, overall \, hjälm\, etc -Försäkring -Medlemskap i Linköpings Fallskärmsklubb och Svenska Fallskärmsförbundet under ett kalenderår
URL:https://motalasjostad.se/ec-event/ga-en-fallskarmskurs-och-bli-en-del-av-en-harlig-gemenskap/
LOCATION:Skärstad Motala Flygklubb\, Skärstad Nedre Bostället 425
CATEGORIES:Sportevenemang
ATTACH;FMTTYPE=image/gif:https://motalasjostad.se/wp-content/uploads/2025/04/Logga-LFK-e1744019213983.gif
ORGANIZER;CN="Link%C3%B6pings fallsk%C3%A4rmsklubb":MAILTO:tandem@linkopingsfallskarmsklubb.se
END:VEVENT
BEGIN:VEVENT
DTSTART;TZID=Europe/Paris:20250416T120000
DTEND;TZID=Europe/Paris:20250416T170000
DTSTAMP:20260425T033337
CREATED:20250303T081112Z
LAST-MODIFIED:20250303T081855Z
UID:10004328-1744804800-1744822800@motalasjostad.se
SUMMARY:Konstutställning
DESCRIPTION:Välkommen in på Duberska gården till Konstutställningen  \n15 -20 april 2025 \nAkvarell &  Akryl målningar \nVi är fyra konstnärer:  Christina Svärd\, Kristina Kull \, Pernilla Kornhed och Miljana Olsson \n  \n 
URL:https://motalasjostad.se/ec-event/konstutstallning-6/2025-04-16/
LOCATION:Dubergska gården\, Bispmotalagatan 34\, Motala\, 59130
CATEGORIES:Utställning
ATTACH;FMTTYPE=image/jpeg:https://motalasjostad.se/wp-content/uploads/2025/02/bild-1-scaled-e1740989799529.jpg
END:VEVENT
BEGIN:VEVENT
DTSTART;VALUE=DATE:20250416
DTEND;VALUE=DATE:20250417
DTSTAMP:20260425T033337
CREATED:20250401T093457Z
LAST-MODIFIED:20250401T093457Z
UID:10006457-1744808400-1744830000@motalasjostad.se
SUMMARY:Digital tipspromenad - Kända barndeckare
DESCRIPTION:Från 6 år. Samla ihop kompisarna eller familjen och undersök hur mycket\nni kan om kända barndeckare och om deras mystiska fall. En mobil med\ninternetkoppling behövs. Starta promenaden genom att läsa av QR-koden vid biblioteks entré\, eller surfa\, när du är på plats\, in på webbsidan\nhttps://play.gpsquiz.com.\nDu kan också gå tipspromenaden i Charlottenborg med start utanför fritidsgården. \n 
URL:https://motalasjostad.se/ec-event/digital-tipspromenad-kanda-barndeckare-2/2025-04-16/
LOCATION:Motala huvudbibliotek
CATEGORIES:Barn/ungdom
ATTACH;FMTTYPE=image/jpeg:https://motalasjostad.se/wp-content/uploads/2025/03/Digital-tipspromenad.jpg
END:VEVENT
BEGIN:VEVENT
DTSTART;TZID=Europe/Paris:20250416T140000
DTEND;TZID=Europe/Paris:20250416T150000
DTSTAMP:20260425T033337
CREATED:20250331T090111Z
LAST-MODIFIED:20250331T090111Z
UID:10004503-1744812000-1744815600@motalasjostad.se
SUMMARY:Deckarskola
DESCRIPTION:Gillar du att lösa mysterier? Upptäcker du detaljer som ingen annan ser? Då vore deckarskolan något för dig. Kom och testa på olika uppdrag. Drop-in. \n 
URL:https://motalasjostad.se/ec-event/deckarskola/
LOCATION:Motala huvudbibliotek
CATEGORIES:Barn/ungdom
ATTACH;FMTTYPE=image/jpeg:https://motalasjostad.se/wp-content/uploads/2025/03/Deckarskola.jpg
END:VEVENT
BEGIN:VEVENT
DTSTART;TZID=Europe/Paris:20250416T140000
DTEND;TZID=Europe/Paris:20250416T153000
DTSTAMP:20260425T033337
CREATED:20250324T085119Z
LAST-MODIFIED:20250324T085119Z
UID:10004426-1744812000-1744817400@motalasjostad.se
SUMMARY:Digitala första hjälpen
DESCRIPTION:Välkommen till vår drop-in där vi svarar på dina grundläggande frågor om IT. Ta gärna med din telefon\, surfplatta eller laptop. På onsdagar kan du även få hjälp med att hantera Konsumentverkets sida Hallå konsument. \n 
URL:https://motalasjostad.se/ec-event/digitala-forsta-hjalpen-55/2025-04-16/
LOCATION:Motala huvudbibliotek
CATEGORIES:Övriga evenemang
ATTACH;FMTTYPE=image/jpeg:https://motalasjostad.se/wp-content/uploads/2025/03/DFH-HT-24-1.jpg
END:VEVENT
BEGIN:VEVENT
DTSTART;TZID=Europe/Paris:20250416T160000
DTEND;TZID=Europe/Paris:20250416T173000
DTSTAMP:20260425T033337
CREATED:20250321T075520Z
LAST-MODIFIED:20250321T075906Z
UID:10004403-1744819200-1744824600@motalasjostad.se
SUMMARY:Skattjakt med påsktema
DESCRIPTION:Påsklovsaktivitet för barn och unga i Motala kyrka.\nKan du läsa kan du gå själv\, annars ta med en vuxen kompis!
URL:https://motalasjostad.se/ec-event/skattjakt-med-pasktema/
LOCATION:Motala Kyrka\, Sjögatan 9\, Motala
CATEGORIES:Barn/ungdom
ATTACH;FMTTYPE=image/jpeg:https://motalasjostad.se/wp-content/uploads/2025/03/Skattjakt-pask-e1742543938886.jpg
END:VEVENT
BEGIN:VEVENT
DTSTART;TZID=Europe/Paris:20250416T180000
DTEND;TZID=Europe/Paris:20250416T190000
DTSTAMP:20260425T033337
CREATED:20250324T084810Z
LAST-MODIFIED:20250324T084810Z
UID:10004438-1744826400-1744830000@motalasjostad.se
SUMMARY:Lättläst bokcirkel på Ekön
DESCRIPTION:Vi läser och pratar om en lättläst bok. För dig som vill träna på att läsa och prata svenska.\nPlats: Platens gemensamhetslokal\, Styvingevägen 14.
URL:https://motalasjostad.se/ec-event/lattlast-bokcirkel-pa-ekon-18/2025-04-16/
LOCATION:Platens gemensamhetslokal\, Ekön\, Styvingevägen 14\, Motala
CATEGORIES:Övriga evenemang
ATTACH;FMTTYPE=image/png:https://motalasjostad.se/wp-content/uploads/2025/03/Lattlast-bokcirkle-pa-Ekon-2024.png
END:VEVENT
BEGIN:VEVENT
DTSTART;TZID=Europe/Paris:20250416T183000
DTEND;TZID=Europe/Paris:20250416T183000
DTSTAMP:20260425T033338
CREATED:20250218T090739Z
LAST-MODIFIED:20250218T092853Z
UID:10004224-1744828200-1744828200@motalasjostad.se
SUMMARY:Konsert SAX AU FOUR
DESCRIPTION:Konsert med Saxofonkvartetten\, Sax au four\, som bjuder publiken på ett program med stor spännvidd\, alltifrån originalmusik för saxofonkvartett till folkmusik\, musikal och jazz. \nBegränsat antal platser\, förboka gärna din biljett: kultur@motala.se \nVälkomna!
URL:https://motalasjostad.se/ec-event/konsert-sax-au-four/
LOCATION:Charlottenborgs slott\, Strandvägen 71\, Motala\, 591 46\, Sweden
CATEGORIES:Musik
ATTACH;FMTTYPE=image/jpeg:https://motalasjostad.se/wp-content/uploads/2025/02/Slottet-baksidan-fotograf-Pia-Axelsson-6.jpg
ORGANIZER;CN="Kultur &amp%3B Fritid/Motala kommun":MAILTO:kultur@motala.se
END:VEVENT
BEGIN:VEVENT
DTSTART;VALUE=DATE:20250417
DTEND;VALUE=DATE:20250418
DTSTAMP:20260425T033338
CREATED:20250401T093457Z
LAST-MODIFIED:20250401T093457Z
UID:10006458-1744884000-1744916400@motalasjostad.se
SUMMARY:Digital tipspromenad - Kända barndeckare
DESCRIPTION:Från 6 år. Samla ihop kompisarna eller familjen och undersök hur mycket\nni kan om kända barndeckare och om deras mystiska fall. En mobil med\ninternetkoppling behövs. Starta promenaden genom att läsa av QR-koden vid biblioteks entré\, eller surfa\, när du är på plats\, in på webbsidan\nhttps://play.gpsquiz.com.\nDu kan också gå tipspromenaden i Charlottenborg med start utanför fritidsgården. \n 
URL:https://motalasjostad.se/ec-event/digital-tipspromenad-kanda-barndeckare-2/2025-04-17/
LOCATION:Motala huvudbibliotek
CATEGORIES:Barn/ungdom
ATTACH;FMTTYPE=image/jpeg:https://motalasjostad.se/wp-content/uploads/2025/03/Digital-tipspromenad.jpg
END:VEVENT
BEGIN:VEVENT
DTSTART;TZID=Europe/Paris:20250417T120000
DTEND;TZID=Europe/Paris:20250417T143000
DTSTAMP:20260425T033338
CREATED:20250324T081104Z
LAST-MODIFIED:20250324T081104Z
UID:10004485-1744891200-1744900200@motalasjostad.se
SUMMARY:Testa på Dash och GreenScreen
DESCRIPTION:Från 10 år. Drop-in.\nKlockan 12.00-13.00 Kom och testa på att programmera roboten Dash.\nKlockan 13.30-14.30 Kan du ta påskbilder med GreenScreen. Den första tiden är på meröppettid men personal finns på plats och öppnar för de som deltar i aktiviteten. \n 
URL:https://motalasjostad.se/ec-event/testa-pa-dash-och-greenscreen/
LOCATION:Borensbergs Bibliotek\, Husbyvägen 13\, Borensberg\, 59175
CATEGORIES:Barn/ungdom
ATTACH;FMTTYPE=image/png:https://motalasjostad.se/wp-content/uploads/2025/03/Dash-och-Greenscreen-BBG.png
END:VEVENT
BEGIN:VEVENT
DTSTART;TZID=Europe/Paris:20250417T120000
DTEND;TZID=Europe/Paris:20250417T170000
DTSTAMP:20260425T033338
CREATED:20250303T081112Z
LAST-MODIFIED:20250303T081855Z
UID:10004329-1744891200-1744909200@motalasjostad.se
SUMMARY:Konstutställning
DESCRIPTION:Välkommen in på Duberska gården till Konstutställningen  \n15 -20 april 2025 \nAkvarell &  Akryl målningar \nVi är fyra konstnärer:  Christina Svärd\, Kristina Kull \, Pernilla Kornhed och Miljana Olsson \n  \n 
URL:https://motalasjostad.se/ec-event/konstutstallning-6/2025-04-17/
LOCATION:Dubergska gården\, Bispmotalagatan 34\, Motala\, 59130
CATEGORIES:Utställning
ATTACH;FMTTYPE=image/jpeg:https://motalasjostad.se/wp-content/uploads/2025/02/bild-1-scaled-e1740989799529.jpg
END:VEVENT
BEGIN:VEVENT
DTSTART;TZID=Europe/Paris:20250417T130000
DTEND;TZID=Europe/Paris:20250417T140000
DTSTAMP:20260425T033338
CREATED:20250401T094225Z
LAST-MODIFIED:20250401T094225Z
UID:10004504-1744894800-1744898400@motalasjostad.se
SUMMARY:Bibblanbingo
DESCRIPTION:Från 6 år. Kom och spela bibblanbingo\, bingo på tema barnböcker! På din bricka hittar du kända bokkaraktärer\, föremål och platser tagna från populära böcker. Kommer du att få till en rad innan alla andra…eller blir du den som blir först med att få full bricka…? Var med och tävla med chans till pris.\nIngen anmälan. \n 
URL:https://motalasjostad.se/ec-event/bibblanbingo-2/
LOCATION:Motala huvudbibliotek
CATEGORIES:Barn/ungdom
ATTACH;FMTTYPE=image/png:https://motalasjostad.se/wp-content/uploads/2025/03/Bibblanbingo.png
END:VEVENT
BEGIN:VEVENT
DTSTART;TZID=Europe/Paris:20250417T130000
DTEND;TZID=Europe/Paris:20250417T160000
DTSTAMP:20260425T033338
CREATED:20250411T084513Z
LAST-MODIFIED:20250411T084513Z
UID:10007157-1744894800-1744905600@motalasjostad.se
SUMMARY:Påskjakt
DESCRIPTION:Nyckelryttarnas Ungdomssektion ordnar en äggjakt i stallet\nPå skärtorsdag kommer vi att leka lekar och grilla korv tillsammans – dagen avslutas med en äggstra spännande äggjakt. Ta på dig skor och kläder efter väder – det kan vara kyligt på vår anläggning. Passa på att hälsa på våra skojiga getter och våra kucklande hönor!\nStall Nyckelby ligger vid Nyckelby Mellangård på väg ut mot Fågelsta\, tar du bussen är det linje 613 du ska åka.\nPris per person inklusive korvgrillning och lekar 80 kronor\nAnmäl dig till Alice på 073-443 22 85 senast 15/4 – du skriver namn och ålder på deltagaren samt eventuella allergier/specialkost
URL:https://motalasjostad.se/ec-event/paskjakt/
LOCATION:Nyckelby Mellangård
CATEGORIES:Barn/ungdom,Övriga evenemang
ATTACH;FMTTYPE=image/jpeg:https://motalasjostad.se/wp-content/uploads/2025/04/NYR-Bakgrund.jpg
ORGANIZER;CN="Nyckelryttarna%2C Stall Nyckelby":MAILTO:mia@stallnyckelby.se
END:VEVENT
BEGIN:VEVENT
DTSTART;VALUE=DATE:20250417
DTEND;VALUE=DATE:20250418
DTSTAMP:20260425T033338
CREATED:20250401T092912Z
LAST-MODIFIED:20250401T094751Z
UID:10006805-1744894800-1744912800@motalasjostad.se
SUMMARY:Digital tipspromenad - Kända barndeckare
DESCRIPTION:Från 6 år. Samla ihop kompisarna eller familjen och undersök hur mycket ni kan om kända barndeckare och om deras mystiska fall. En mobil med internetkoppling behövs. Starta promenaden genom att läsa av QR-koden vid biblioteks entré\, eller surfa\, när du är på plats\, in på webbsidan https://play.gpsquiz.com. \n 
URL:https://motalasjostad.se/ec-event/digital-tipspromenad-kanda-barndeckare/2025-04-17/
LOCATION:Borensbergs Bibliotek\, Husbyvägen 13\, Borensberg\, 59175
CATEGORIES:Barn/ungdom
ATTACH;FMTTYPE=image/jpeg:https://motalasjostad.se/wp-content/uploads/2025/03/Digital-tipspromenad-1.jpg
END:VEVENT
BEGIN:VEVENT
DTSTART;TZID=Europe/Paris:20250417T140000
DTEND;TZID=Europe/Paris:20250417T160000
DTSTAMP:20260425T033338
CREATED:20250324T081603Z
LAST-MODIFIED:20250324T081603Z
UID:10004478-1744898400-1744905600@motalasjostad.se
SUMMARY:Handarbeta på bibblan
DESCRIPTION:Ta med ditt handarbete och kom till biblioteket för en trevlig stund. Ta gärna med eget fika. Biblioteket bjuder på kaffe och te. Ingen anmälan. \n 
URL:https://motalasjostad.se/ec-event/handarbeta-pa-bibblan-21/2025-04-17/
LOCATION:Tjällmo bibliotek\, Länsvägen\, Tjällmo\, 59190\, Sverige
CATEGORIES:Övriga evenemang
ATTACH;FMTTYPE=image/png:https://motalasjostad.se/wp-content/uploads/2025/03/Handarbetscafe.png
END:VEVENT
BEGIN:VEVENT
DTSTART;TZID=Europe/Paris:20250417T143000
DTEND;TZID=Europe/Paris:20250417T153000
DTSTAMP:20260425T033338
CREATED:20250331T085929Z
LAST-MODIFIED:20250331T085929Z
UID:10004505-1744900200-1744903800@motalasjostad.se
SUMMARY:Bibblanbingo
DESCRIPTION:Från ca 9 år. Kom och spela bibblanbingo\, bingo på tema barnböcker! På din bricka hittar du kända bokkaraktärer\, föremål och platser tagna från populära böcker. Kommer du att få till en rad innan alla andra…eller blir du den som blir först med att få full bricka…? Var med och tävla med chans till pris.\nIngen anmälan. \n 
URL:https://motalasjostad.se/ec-event/bibblanbingo/
LOCATION:Motala huvudbibliotek
CATEGORIES:Barn/ungdom
ATTACH;FMTTYPE=image/png:https://motalasjostad.se/wp-content/uploads/2025/03/Bibblanbingo-1.png
END:VEVENT
BEGIN:VEVENT
DTSTART;TZID=Europe/Paris:20250418T120000
DTEND;TZID=Europe/Paris:20250418T140000
DTSTAMP:20260425T033338
CREATED:20250407T093832Z
LAST-MODIFIED:20250407T093832Z
UID:10007153-1744977600-1744984800@motalasjostad.se
SUMMARY:Äggjakt
DESCRIPTION:Välkommen på äggjakt hos Motala ryttarförening långfredagen 18 april kl 12! Alla är välkomna\, även du som inte är medlem. \nHjälp oss att hitta alla påskägg som påskharen har gömt i stallet. Om du har tur får du godis som belöning! \nÄggjakten kostar 50:-/person som du swishar på plats. Vi samlas vid stallets entré från innergården.
URL:https://motalasjostad.se/ec-event/aggjakt/
LOCATION:Motala Ryttarförening\, Medevivägen 104\, Motala
CATEGORIES:Barn/ungdom
ATTACH;FMTTYPE=image/png:https://motalasjostad.se/wp-content/uploads/2025/04/ChatGPT-Image-6-apr.-2025-22_53_56.png
ORGANIZER;CN="Motala Ryttarf%C3%B6rening":MAILTO:kontoret@motalarf.com
END:VEVENT
END:VCALENDAR