BEGIN:VCALENDAR
VERSION:2.0
PRODID:-//Motala Sjöstad - ECPv6.13.2.1//NONSGML v1.0//EN
CALSCALE:GREGORIAN
METHOD:PUBLISH
X-WR-CALNAME:Motala Sjöstad
X-ORIGINAL-URL:https://motalasjostad.se
X-WR-CALDESC:Händelser för Motala Sjöstad
REFRESH-INTERVAL;VALUE=DURATION:PT1H
X-Robots-Tag:noindex
X-PUBLISHED-TTL:PT1H
BEGIN:VTIMEZONE
TZID:Europe/Paris
BEGIN:DAYLIGHT
TZOFFSETFROM:+0100
TZOFFSETTO:+0200
TZNAME:CEST
DTSTART:20250330T010000
END:DAYLIGHT
BEGIN:STANDARD
TZOFFSETFROM:+0200
TZOFFSETTO:+0100
TZNAME:CET
DTSTART:20251026T010000
END:STANDARD
END:VTIMEZONE
BEGIN:VEVENT
DTSTART;TZID=Europe/Paris:20250503T130000
DTEND;TZID=Europe/Paris:20250503T140000
DTSTAMP:20260425T172932
CREATED:20250429T072256Z
LAST-MODIFIED:20250429T072256Z
UID:10007232-1746277200-1746280800@motalasjostad.se
SUMMARY:Sagolördag - Promenaden
DESCRIPTION:För dig mellan 3–5 år som älskar berättelser och pyssel. Sagan som vi läser den här gången innehåller en katt\, en flicka\, ett lamm\, en hatt\, en pappa samt en stark kvinna. Men också korv\, mos och godis. Äter katten godis och pappan lammet eller tvärtom?  Vad har den starka kvinnan med detatt göra? Det får du se… Efteråt pysslar vi tillsammans. Ingen anmälan. \n 
URL:https://motalasjostad.se/ec-event/sagolordag-promenaden/
LOCATION:Motala huvudbibliotek
CATEGORIES:Barn/ungdom
ATTACH;FMTTYPE=image/png:https://motalasjostad.se/wp-content/uploads/2025/04/Sagolordag-VT25.png
END:VEVENT
BEGIN:VEVENT
DTSTART;TZID=Europe/Paris:20250503T150000
DTEND;TZID=Europe/Paris:20250503T163000
DTSTAMP:20260425T172932
CREATED:20250422T082801Z
LAST-MODIFIED:20250422T082801Z
UID:10007220-1746284400-1746289800@motalasjostad.se
SUMMARY:Svenska visor/ En Blomma Ur Asfalt
DESCRIPTION:Välkommen att lyssna på visor på Hällagården med gruppen En Blomma Ur Asfalt från Nordiska Visskolan.\nBiljettpris 50 kr inkl fika. Biljetter köps i dörren och betalas med Swish.\nEn Blomma Ur Asfalt är en av årets turnégrupper från Nordiska visskolan. de blandar svensk vistradition med såväl pop som progg.\nI sitt program vill de skildra det ljusa trots det mörka. Det blir samhällsfrågor\, vardagsgrubbel och en släng av humor.\n\nKom och njut av vacker stämsång\, tankeväckande texter och stämningsfulla arrangemang.
URL:https://motalasjostad.se/ec-event/svenska-visor-en-blomma-ur-asfalt/
LOCATION:Hällagården\, Borensberg
CATEGORIES:Musik
ATTACH;FMTTYPE=image/jpeg:https://motalasjostad.se/wp-content/uploads/2025/04/en-blomma-ur-asfalt-e1745310470263.jpg
ORGANIZER;CN="H%C3%A4llag%C3%A5rden":MAILTO:info@hallagarden.se
END:VEVENT
BEGIN:VEVENT
DTSTART;TZID=Europe/Paris:20250503T190000
DTEND;TZID=Europe/Paris:20250503T220000
DTSTAMP:20260425T172932
CREATED:20241204T094134Z
LAST-MODIFIED:20250221T093806Z
UID:10004020-1746298800-1746309600@motalasjostad.se
SUMMARY:Shirley Valentine
DESCRIPTION:MARIA LUNDQVIST ÄR TILLBAKA EN ABSOLUT SISTA GÅNG MED SUCCÉFÖRESTÄLLNINGEN ”SHIRLEY VALENTINE”! \nNu kommer ”Shirley Valentine”\, i Maria Lundqvists geniala gestaltning tillbaka! Över 100 000 har redan fått njuta Shirley’s längtan\, nu får fler möjligheten att älska hennes resa \n\n\nVåren 2025\, den 3 April i Kungsbacka\, är det nypremiär den absolut sista vändan för en av tidernas mest peppande och härliga feelgood-föreställningar. Ta med era vänner och familj till ”Shirley Valentine”\, en gripande och underbart rolig pjäs\, skriven av Willy Russel. Den flerfaldigt prisbelönta skådespelerskan Maria Lundqvist tar er varsamt och djärvt genom denna föreställning i rollen som Shirley Valentine\, i en välkomponerad och snygg regi av Edward Af Sillén
URL:https://motalasjostad.se/ec-event/shirley-valentine/
LOCATION:Folkets hus\, Teater salongen\, Sjögatan 5\, Motala\, 591 30
CATEGORIES:Teater & show
ATTACH;FMTTYPE=image/jpeg:https://motalasjostad.se/wp-content/uploads/2024/12/SHIRLEY-3.5-2025-1024x576-1-e1733305285620.jpg
ORGANIZER;CN="Folkets Hus":MAILTO:konferens@motalafolketshus.se
END:VEVENT
BEGIN:VEVENT
DTSTART;TZID=Europe/Paris:20250503T200000
DTEND;TZID=Europe/Paris:20250503T200000
DTSTAMP:20260425T172932
CREATED:20250430T082109Z
LAST-MODIFIED:20250430T082109Z
UID:10007276-1746302400-1746302400@motalasjostad.se
SUMMARY:Trubadurafton med Kenny och Gänget
DESCRIPTION:Trubadurafton med Kenny och Gänget Missa inte AW priser i baren hela kvällen samt kvällens erbjudande.
URL:https://motalasjostad.se/ec-event/trubadurafton-med-kenny-och-ganget/
LOCATION:Västerkrogen\, Råssnäsvägen 10\, Motala\, Sweden
CATEGORIES:Musik
ATTACH;FMTTYPE=image/jpeg:https://motalasjostad.se/wp-content/uploads/2025/04/kenny-o-ganget.jpg
END:VEVENT
BEGIN:VEVENT
DTSTART;TZID=Europe/Paris:20250503T210000
DTEND;TZID=Europe/Paris:20250503T210000
DTSTAMP:20260425T172932
CREATED:20250304T084906Z
LAST-MODIFIED:20250304T084906Z
UID:10004337-1746306000-1746306000@motalasjostad.se
SUMMARY:Children Of The Sun/ The Mind Palace
DESCRIPTION:Children Of The Sün\nOm du ännu inte stött på Children of the Sün\, så är det dags nu. Tänk dig en musikalisk gulasch av “Fleetwood Mac\, Ghost och ABBA”\, där de på något sätt får allt att kännas både luftigt och djupt på samma gång. Deras egen blandning av rock\, blues och folkmusik får varenda medelålders man att börja gråta. Musiken fångar känslan av frihet\, kärlek och en djup koppling till naturen – och såklart med en rejäl dos groove och gripande riff. 2025 är Children of the Sün albumaktuella – nya skivan släpps i januari!Children of the Sün har gått från klarhet till klarhet sedan start. Deras första fullängdsalbum Flowers släpptes 2019. Nästa skiva\, Roots\, kom 2022 (Sign Records). Låten Leaves hamnade samma år på Aftonbladets topp fem bästa rocklåtar. Året därpå gjorde bandet en succéartad spelning på Sweden Rock\nFestival\, förevigad i musikvideon till deras självutnämnda hit Come With Us.De senaste åren har Children of the Sün synts på en rad olika scener\, både i Sverige och utomlands. De har spelat på bl a Alive Festival\, Skogsrårocken och Hush Hush Club\, och har även gjort spelningar i Danmark\, Tyskland och Spanien. Medier som Rolling Stone Magazine\, Metal Hammer och PROG har uppmärksammat bandets framfart och musik.\n\nThe Mind Palace bildades under 2023 och släppte sin första singel i slutet av maj året därpå. Bandet spelar hårdrock med rötterna i 70- och 80-talet\, i modern tappning.\nThe Mind Palace kommer att spela på Sweden Rock Festival\, Time To Rock Festival och en rad rockklubbar runt om i Sverige under 2025. Dessutom kommer debutalbumet att släppas.\n\nBiljetter via tickster:https://www.tickster.com/se/sv/events/8n12hv9r1ygwkr7/2025-05-03/children-of-the-sun-the-mind-palace?fbclid=IwY2xjawIznZ1leHRuA2FlbQIxMAABHfXkFf7Knz9fP_Pr7nZXA-0snETmri1byDm5OSEHpWoWmuMM-qEdeHF6vw_aem_x4diY5Ka
URL:https://motalasjostad.se/ec-event/children-of-the-sun-the-mind-palace/
LOCATION:Bomber Bar\, Prästgatan 3\, Motala\, 591 30\, Sweden
CATEGORIES:Musik
ATTACH;FMTTYPE=image/jpeg:https://motalasjostad.se/wp-content/uploads/2025/03/children-of-the-sun.jpg
END:VEVENT
BEGIN:VEVENT
DTSTART;TZID=Europe/Paris:20250504T100000
DTEND;TZID=Europe/Paris:20250504T170000
DTSTAMP:20260425T172932
CREATED:20250321T101746Z
LAST-MODIFIED:20250411T081518Z
UID:10007166-1746352800-1746378000@motalasjostad.se
SUMMARY:Konstrunda 2025
DESCRIPTION:Välkommen till vår årliga Konstrunda med över 80 utställare av Norra Vätterns Bild och formkonstnärer!\nNjut av en härlig helg med textil\, glas\, fotografier\, trä & metall och keramik. Många av utställarna har särskilda erbjudanden och caféer\, gårdsbutiker öppnar för säsongen. \nPresentationsutställning finns både i Askersund på konsthallen Sjöängen\, och i Motala på kulturhuset K-ringen. \nFör mer information om årets konstrunda och utställare se www.nvbof.se/sv/konstrunda
URL:https://motalasjostad.se/ec-event/konstrunda-2025/2025-05-04/
CATEGORIES:Utställning
ATTACH;FMTTYPE=image/jpeg:https://motalasjostad.se/wp-content/uploads/2025/03/konstrunda.jpg
ORGANIZER;CN="Norra V%C3%A4tterns Bild &amp%3B Formkonstn%C3%A4rer":MAILTO:abgoth@gmail.com
END:VEVENT
BEGIN:VEVENT
DTSTART;TZID=Europe/Paris:20250505T140000
DTEND;TZID=Europe/Paris:20250505T150000
DTSTAMP:20260425T172932
CREATED:20250429T072229Z
LAST-MODIFIED:20250429T072229Z
UID:10007233-1746453600-1746457200@motalasjostad.se
SUMMARY:Barnens bokklubb
DESCRIPTION:För dig mellan 7–9 år. Välkommen till en klubb för dig som gillar att dyka ner i böckernas värld. Vi delar med oss av berättelser om vad vi har läst och älskat samt att vi läser tillsammans. Oavsett om du gillar fantasy\, mysterier\, fakta eller roliga historier – vi pratar om alla böcker! Ingen anmälan.  \n 
URL:https://motalasjostad.se/ec-event/barnens-bokklubb-9/
LOCATION:Motala huvudbibliotek
CATEGORIES:Barn/ungdom
ATTACH;FMTTYPE=image/png:https://motalasjostad.se/wp-content/uploads/2025/04/Barnens-bokklubb.png
END:VEVENT
BEGIN:VEVENT
DTSTART;TZID=Europe/Paris:20250505T173000
DTEND;TZID=Europe/Paris:20250505T183000
DTSTAMP:20260425T172932
CREATED:20250422T084449Z
LAST-MODIFIED:20250422T084449Z
UID:10007222-1746466200-1746469800@motalasjostad.se
SUMMARY:Motala - är du redo att bestiga Everest?
DESCRIPTION: MITT EVEREST – MOTALA BESTIGER LUSTIGKULLEBACKEN! Lustigkullebacken\, Motala 175 kr/person – ta med kompisar & familjen!\nNu kör vi igång Mitt Everest i Motala – en inspirerande och kul utmaning där du klättrar mot dina egna mål\, i din egen takt. Alla är välkomna – föreningar\, företag\, kollegor\, barn\, ungdomar och seniorer!\n DET HÄR HÄNDER: Gruppträning & rörelseglädje Tävlingar: Time Trial & flest backar på 1 timme Grillad korv\, frukt\, saft & energibars Lansering av Mitt Everest-appen Musik\, vimplar\, aktiviteter för barn och vuxna Priser & härlig stämning Barnvagnsvänligt – ta med hela familjen!\nVi hoppas att hela Motala vill vara med och bestiga sitt eget Everest.\n Kom i träningskläder – kom som du är – bara du kommer! Sprid ordet\, tagga dina vänner och klicka i “Kommer”!
URL:https://motalasjostad.se/ec-event/motala-ar-du-redo-att-bestiga-everest/
LOCATION:Lustigkullebacken\, Motala
CATEGORIES:Sportevenemang
ATTACH;FMTTYPE=image/jpeg:https://motalasjostad.se/wp-content/uploads/2025/04/mitt-everest-e1745311481782.jpg
ORGANIZER;CN="Korpen Motala":MAILTO:motala@korpen.se
END:VEVENT
BEGIN:VEVENT
DTSTART;TZID=Europe/Paris:20250506T100000
DTEND;TZID=Europe/Paris:20250506T113000
DTSTAMP:20260425T172932
CREATED:20250429T071406Z
LAST-MODIFIED:20250506T065744Z
UID:10007248-1746525600-1746531000@motalasjostad.se
SUMMARY:Digitala första hjälpen
DESCRIPTION:Välkommen till vår drop-in där vi svarar på dina grundläggande frågor om IT. Ta gärna med din telefon\, surfplatta eller laptop. På onsdagar kan du även få hjälp med att hantera Konsumentverkets sida Hallå konsument. \n 
URL:https://motalasjostad.se/ec-event/digitala-forsta-hjalpen-58/2025-05-06/
LOCATION:Motala huvudbibliotek
CATEGORIES:Övriga evenemang
ATTACH;FMTTYPE=image/jpeg:https://motalasjostad.se/wp-content/uploads/2025/04/DFH-HT-24.jpg
END:VEVENT
BEGIN:VEVENT
DTSTART;TZID=Europe/Paris:20250506T140000
DTEND;TZID=Europe/Paris:20250506T160000
DTSTAMP:20260425T172932
CREATED:20250422T070509Z
LAST-MODIFIED:20250422T070509Z
UID:10007217-1746540000-1746547200@motalasjostad.se
SUMMARY:Fira Dragspelets Dag med Motaladraget!!!
DESCRIPTION:Fira Dragspelets Dag tillsammans med Motaladraget. Vi bjuder på härlig musikunderhållning. Ta med egen fikakorg. Fri entré.
URL:https://motalasjostad.se/ec-event/fira-dragspelets-dag-med-motaladraget/
LOCATION:IOGT-NTO Poppelgatan 6\, Motala\, Poppelgatan 6\, Motala\, Sweden
CATEGORIES:Musik
ATTACH;FMTTYPE=image/jpeg:https://motalasjostad.se/wp-content/uploads/2025/04/481260508_23971037805818753_7062279564001785430_n-e1745305490360.jpg
ORGANIZER;CN="Motaladraget":MAILTO:tomas@bjorkastorgard.se
END:VEVENT
BEGIN:VEVENT
DTSTART;TZID=Europe/Paris:20250506T153000
DTEND;TZID=Europe/Paris:20250506T163000
DTSTAMP:20260425T172932
CREATED:20250429T072156Z
LAST-MODIFIED:20250429T072156Z
UID:10007234-1746545400-1746549000@motalasjostad.se
SUMMARY:Låt spelet börja! - Magiska mattan
DESCRIPTION:En gång i månaden testar vi tillsammans några av alla spel vi har på biblioteket. Denna gång provar vi tillsammans två av våra spel på vår magiska matta. Testa bland annat att köra en bil och undvik att krocka med andra bilar eller att snurra runt rör för att få vattnet att rinna till målet. Ingen anmälan. \n 
URL:https://motalasjostad.se/ec-event/lat-spelet-borja-magiska-mattan/
LOCATION:Motala huvudbibliotek
CATEGORIES:Barn/ungdom
ATTACH;FMTTYPE=image/png:https://motalasjostad.se/wp-content/uploads/2025/04/Lat-spelat-borja-Magiska-mattan.png
END:VEVENT
BEGIN:VEVENT
DTSTART;TZID=Europe/Paris:20250506T170000
DTEND;TZID=Europe/Paris:20250506T190000
DTSTAMP:20260425T172932
CREATED:20250429T070751Z
LAST-MODIFIED:20250429T070751Z
UID:10007255-1746550800-1746558000@motalasjostad.se
SUMMARY:språkträning
DESCRIPTION:På Motala huvudbibliotek finns möjligheten att få hjälp med att träna på det svenska språket\, tyda krångliga brev\, skriva jobbansökningar med mera.\nI samarbete med Folkuniversitetet \n 
URL:https://motalasjostad.se/ec-event/spraktraning-37/2025-05-06/
LOCATION:Motala huvudbibliotek
CATEGORIES:Övriga evenemang
ATTACH;FMTTYPE=image/png:https://motalasjostad.se/wp-content/uploads/2025/04/Spraktraning.png
END:VEVENT
BEGIN:VEVENT
DTSTART;TZID=Europe/Paris:20250507T140000
DTEND;TZID=Europe/Paris:20250507T153000
DTSTAMP:20260425T172932
CREATED:20250429T070908Z
LAST-MODIFIED:20250429T070908Z
UID:10007252-1746626400-1746631800@motalasjostad.se
SUMMARY:Digitala första hjälpen
DESCRIPTION:Välkommen till vår drop-in där vi svarar på dina grundläggande frågor om IT. Ta gärna med din telefon\, surfplatta eller laptop. På onsdagar kan du även få hjälp med att hantera Konsumentverkets sida Hallå konsument. \n 
URL:https://motalasjostad.se/ec-event/digitala-forsta-hjalpen-57/2025-05-07/
LOCATION:Motala huvudbibliotek
CATEGORIES:Övriga evenemang
ATTACH;FMTTYPE=image/jpeg:https://motalasjostad.se/wp-content/uploads/2025/04/DFH-HT-24-1.jpg
END:VEVENT
BEGIN:VEVENT
DTSTART;TZID=Europe/Paris:20250507T180000
DTEND;TZID=Europe/Paris:20250507T190000
DTSTAMP:20260425T172932
CREATED:20250429T070320Z
LAST-MODIFIED:20250429T070651Z
UID:10007262-1746640800-1746644400@motalasjostad.se
SUMMARY:Lättläst bokcirkel på Ekön
DESCRIPTION:Vi läser och pratar om en lättläst bok. För dig som vill träna på att läsa och prata svenska.\nPlats: Platens gemensamhetslokal\, Styvingevägen 14.
URL:https://motalasjostad.se/ec-event/lattlast-bokcirkel-pa-ekon-19/2025-05-07/
LOCATION:Gemensamhetslokalen\, Ekön\, Styvingevägen 14\, Motala
CATEGORIES:Övriga evenemang
ATTACH;FMTTYPE=image/png:https://motalasjostad.se/wp-content/uploads/2025/04/Lattlast-bokcirkle-pa-Ekon-2024.png
END:VEVENT
BEGIN:VEVENT
DTSTART;TZID=Europe/Paris:20250507T183000
DTEND;TZID=Europe/Paris:20250507T183000
DTSTAMP:20260425T172932
CREATED:20240925T165113Z
LAST-MODIFIED:20241125T142915Z
UID:10003540-1746642600-1746642600@motalasjostad.se
SUMMARY:Föreläsning på Charlottenborgs slott
DESCRIPTION:Historiker Björn Ivarsson Lilieblad berättar om Det förtrollade Östergötland: Ett föredrag om östgötsk folktro nu och förr.\nEntré 100 kronor. Öppet från kl.16.00\nFörbokning och övriga frågor: kultur@motala.se\nBegränsat antal platser\, förboka gärna din biljett.
URL:https://motalasjostad.se/ec-event/forelasning-pa-charlottenborgs-slott-2/
LOCATION:Charlottenborgs slott\, Strandvägen 71\, Motala\, 591 46\, Sweden
ATTACH;FMTTYPE=image/jpeg:https://motalasjostad.se/wp-content/uploads/2024/09/Charlottenborgs-slott-solnedgang-e1727280456204.jpg
ORGANIZER;CN="Motala Kommun":MAILTO:kultur@motala.se
END:VEVENT
BEGIN:VEVENT
DTSTART;TZID=Europe/Paris:20250507T183000
DTEND;TZID=Europe/Paris:20250507T183000
DTSTAMP:20260425T172932
CREATED:20250218T092615Z
LAST-MODIFIED:20250218T092615Z
UID:10004226-1746642600-1746642600@motalasjostad.se
SUMMARY:Föreläsning
DESCRIPTION:Föreläsning av historikern Björn Ivarsson Liljeblad\, som berättar om Det förtrollande Östergötland: ett föredrag om Östgötsk folktro nu och förr. \nSlottet är öppet från kl 16.00 på onsdagskvällar med föreläsningar\, guidade turer och konserter. \nBegränsat antal platser\, förboka din biljett på : kultur@motala.se \nV
URL:https://motalasjostad.se/ec-event/forelasning/
LOCATION:Charlottenborgs slott\, Strandvägen 71\, Motala\, 591 46\, Sweden
CATEGORIES:Övriga evenemang
ATTACH;FMTTYPE=image/jpeg:https://motalasjostad.se/wp-content/uploads/2025/02/Slottet-baksidan-fotograf-Pia-Axelsson-8.jpg
ORGANIZER;CN="Kultur &amp%3B Fritid/Motala kommun":MAILTO:kultur@motala.se
END:VEVENT
BEGIN:VEVENT
DTSTART;TZID=Europe/Paris:20250508T100000
DTEND;TZID=Europe/Paris:20250508T113000
DTSTAMP:20260425T172932
CREATED:20250429T070217Z
LAST-MODIFIED:20250429T070217Z
UID:10007265-1746698400-1746703800@motalasjostad.se
SUMMARY:Lättläst bokcirkel i Charlottenborg
DESCRIPTION:Vi läser och pratar om en lättläst bok. För dig som vill träna på att läsa och prata svenska.
URL:https://motalasjostad.se/ec-event/lattlast-bokcirkel-i-charlottenborg-10/
LOCATION:Platens gemensamhetslokal\, Charlottotenborg\, Lustigkullevägen 44 B\, Motala
CATEGORIES:Övriga evenemang
ATTACH;FMTTYPE=image/png:https://motalasjostad.se/wp-content/uploads/2025/04/Lattlast-bokcirkel-for-vuxna-25-e1745910111898.png
END:VEVENT
BEGIN:VEVENT
DTSTART;TZID=Europe/Paris:20250508T130000
DTEND;TZID=Europe/Paris:20250508T140000
DTSTAMP:20260425T172932
CREATED:20250429T071534Z
LAST-MODIFIED:20250429T071534Z
UID:10007247-1746709200-1746712800@motalasjostad.se
SUMMARY:Nyfiken på nya böcker
DESCRIPTION:Välkommen till biblioteket för att titta på vilka böcker som snart kommer att ges ut. Biblioteket bjuder på kaffe och te\, medtag gärna eget fika. \n 
URL:https://motalasjostad.se/ec-event/nyfiken-pa-nya-bocker-3/
LOCATION:Tjällmo bibliotek\, Länsvägen\, Tjällmo\, 59190\, Sverige
CATEGORIES:Övriga evenemang
ATTACH;FMTTYPE=image/png:https://motalasjostad.se/wp-content/uploads/2025/04/Nyfiken-pa-nya-bocker.png
END:VEVENT
BEGIN:VEVENT
DTSTART;TZID=Europe/Paris:20250508T140000
DTEND;TZID=Europe/Paris:20250508T160000
DTSTAMP:20260425T172932
CREATED:20250429T071621Z
LAST-MODIFIED:20250429T071621Z
UID:10007244-1746712800-1746720000@motalasjostad.se
SUMMARY:Handarbeta på bibblan
DESCRIPTION:Ta med ditt handarbete och kom till biblioteket för en trevlig stund. Ta gärna med eget fika. Biblioteket bjuder på kaffe och te. Ingen anmälan. \n 
URL:https://motalasjostad.se/ec-event/handarbeta-pa-bibblan-22/2025-05-08/
LOCATION:Tjällmo bibliotek\, Länsvägen\, Tjällmo\, 59190\, Sverige
CATEGORIES:Övriga evenemang
ATTACH;FMTTYPE=image/png:https://motalasjostad.se/wp-content/uploads/2025/04/Handarbetscafe.png
END:VEVENT
BEGIN:VEVENT
DTSTART;TZID=Europe/Paris:20250508T160000
DTEND;TZID=Europe/Paris:20250508T170000
DTSTAMP:20260425T172932
CREATED:20250429T072121Z
LAST-MODIFIED:20250429T072121Z
UID:10007235-1746720000-1746723600@motalasjostad.se
SUMMARY:Klubben
DESCRIPTION:För 10–13 år. Vad gillar du att läsa? Vi träffas\, fikar och pratar om böcker vi har gillat. Den här gången pratar vi extra om månadens  bok Harry Potter och de vises sten av J.K Rowling. En bok som tar plats i en fantastisk\, magisk men farlig värld\, där tre vänner ska lära sig att magin finns men används inte alltid till det goda. Vid varje träff väljer vi sedan en ny bok att läsa till nästa tillfälle. \n 
URL:https://motalasjostad.se/ec-event/klubben-12/
LOCATION:Motala huvudbibliotek
CATEGORIES:Barn/ungdom
ATTACH;FMTTYPE=image/png:https://motalasjostad.se/wp-content/uploads/2025/04/Klubben-maj.png
END:VEVENT
BEGIN:VEVENT
DTSTART;TZID=Europe/Paris:20250508T170000
DTEND;TZID=Europe/Paris:20250508T190000
DTSTAMP:20260425T172932
CREATED:20250429T070751Z
LAST-MODIFIED:20250429T070751Z
UID:10007256-1746723600-1746730800@motalasjostad.se
SUMMARY:språkträning
DESCRIPTION:På Motala huvudbibliotek finns möjligheten att få hjälp med att träna på det svenska språket\, tyda krångliga brev\, skriva jobbansökningar med mera.\nI samarbete med Folkuniversitetet \n 
URL:https://motalasjostad.se/ec-event/spraktraning-37/2025-05-08/
LOCATION:Motala huvudbibliotek
CATEGORIES:Övriga evenemang
ATTACH;FMTTYPE=image/png:https://motalasjostad.se/wp-content/uploads/2025/04/Spraktraning.png
END:VEVENT
BEGIN:VEVENT
DTSTART;TZID=Europe/Paris:20250508T183000
DTEND;TZID=Europe/Paris:20250508T183000
DTSTAMP:20260425T172932
CREATED:20250429T084209Z
LAST-MODIFIED:20250429T084209Z
UID:10007270-1746729000-1746729000@motalasjostad.se
SUMMARY:Tjejkväll på Skobes i Motala
DESCRIPTION:Nya Renault 5 är här! Vi tjejer på Skobes ta tillfället i akt och bjuda in dig och dina väninnor till mingel och provkörning. En kväll bara för oss tjejer – fylld med skratt\, härligt sällskap och lite extra guldkant i vardagen.\nVi utlovar en trevlig kväll med tema bilar\, skönhet\, blommor\, kläder och praliner. Vi får besök av Fina Blomsterrum och Fina rum\, Ett kilo Socker och Melinas Wellness.\nVi hoppas verkligen just du och dina tjejkompisar vill komma förbi – det bjuds på bubbel\, snittar och mingel med härligamänniskor.\nVälkommen till oss på Skobes i Motala torsdag 8 maj. Drop-in mellan kl.18.30-20.30. Hoppas vi ses!
URL:https://motalasjostad.se/ec-event/tjejkvall-pa-skobes-i-motala/
LOCATION:Skobes Motala\, Vintergatan 9\, Motala\, 591\, Sweden
CATEGORIES:Övriga evenemang
ATTACH;FMTTYPE=image/jpeg:https://motalasjostad.se/wp-content/uploads/2025/04/Skobes.jpg
END:VEVENT
BEGIN:VEVENT
DTSTART;TZID=Europe/Paris:20250508T184500
DTEND;TZID=Europe/Paris:20250508T214500
DTSTAMP:20260425T172932
CREATED:20250414T104640Z
LAST-MODIFIED:20250414T105554Z
UID:10007181-1746729900-1746740700@motalasjostad.se
SUMMARY:Bilbingo
DESCRIPTION:1 MAJ = BILBINGO\n\n\nDå var det dags för bilbingosäsongen igen och enligt tradition startar den som ni vet den 1 maj.  Totalt 18 torsdagar som det kommer anordnas bilbingo.\n\n\nHär finner ni mer info: https://bilbingon.se/visa-spelplats?id=95\n\n\n–  Resten av säsongen kör vi torsdagar kl. 18:45 OBS! Den 29 maj är ett undantag\, då kör vi 14:00 istället för 18:45\, pga röd dag. Säsongen pågår fram till och med 28 augusti.\nBetala med kontanter\, kiosk finns\, toalett finns.\n\n\n\nVarmt välkomna!
URL:https://motalasjostad.se/ec-event/bilbingo/2025-05-08/
LOCATION:Fornåsa/Lönsås\, Kampen\, Lönsås 150\, Fornåsa
CATEGORIES:Övriga evenemang
ATTACH;FMTTYPE=image/jpeg:https://motalasjostad.se/wp-content/uploads/2025/04/bilbingo-e1744627682427.jpg
END:VEVENT
BEGIN:VEVENT
DTSTART;TZID=Europe/Paris:20250509T103000
DTEND;TZID=Europe/Paris:20250509T113000
DTSTAMP:20260425T172932
CREATED:20250429T071703Z
LAST-MODIFIED:20250429T071703Z
UID:10007240-1746786600-1746790200@motalasjostad.se
SUMMARY:Digitala första hjälpen
DESCRIPTION:Välkommen till vår drop-in där vi svarar på dina grundläggande frågor om IT. Ta gärna med din telefon\, surfplatta eller laptop. \n 
URL:https://motalasjostad.se/ec-event/digitala-forsta-hjalpen-59/2025-05-09/
LOCATION:Borensbergs Bibliotek\, Husbyvägen 13\, Borensberg\, 59175
CATEGORIES:Övriga evenemang
ATTACH;FMTTYPE=image/png:https://motalasjostad.se/wp-content/uploads/2025/04/DFH-BBG.png
END:VEVENT
BEGIN:VEVENT
DTSTART;TZID=Europe/Paris:20250509T160000
DTEND;TZID=Europe/Paris:20250509T163000
DTSTAMP:20260425T172932
CREATED:20250429T072040Z
LAST-MODIFIED:20250429T072040Z
UID:10007236-1746806400-1746808200@motalasjostad.se
SUMMARY:Sagor på tigrinska
DESCRIPTION:För dig som är ca 3–8 år. Vi träffas en gång i månaden för att lyssna på berättelser på tigrinska. Ingen anmälan. \n 
URL:https://motalasjostad.se/ec-event/sagor-pa-tigrinska-11/
LOCATION:Motala huvudbibliotek
CATEGORIES:Barn/ungdom
ATTACH;FMTTYPE=image/png:https://motalasjostad.se/wp-content/uploads/2025/04/Sagostund-pa-tigrinska.png
END:VEVENT
BEGIN:VEVENT
DTSTART;TZID=Europe/Paris:20250509T170000
DTEND;TZID=Europe/Paris:20250509T170000
DTSTAMP:20260425T172932
CREATED:20250509T085051Z
LAST-MODIFIED:20250509T085136Z
UID:10007320-1746810000-1746810000@motalasjostad.se
SUMMARY:Tivoli
DESCRIPTION:Tivoli kommer till Motala Väster i helgen. Den kommer att finnas karuseller\, bollkastning\,chokladhjul\, sockervadd mm. \nSå kom och spendera helgen med oss. \nFredag kl 17.00- \nLördag kl 13\,00 \nSöndag kl 13.00
URL:https://motalasjostad.se/ec-event/tivoli/
LOCATION:Gustavsviksparken\, Motala
CATEGORIES:Övriga evenemang
ATTACH;FMTTYPE=image/jpeg:https://motalasjostad.se/wp-content/uploads/2025/05/tivoli-e1746780690739.jpg
ORGANIZER;CN="Tivoliparken Festival":MAILTO:tivoliparken-festival@hotmail.com
END:VEVENT
BEGIN:VEVENT
DTSTART;TZID=Europe/Paris:20250509T170000
DTEND;TZID=Europe/Paris:20250509T213000
DTSTAMP:20260425T172932
CREATED:20250324T110803Z
LAST-MODIFIED:20250324T110803Z
UID:10004496-1746810000-1746826200@motalasjostad.se
SUMMARY:Vinprovning
DESCRIPTION:Efter succén med Balkanprovningen genomför vi en vinprovning i ny tappning\, men denna gång besöker vi och provar viner från Italien och avslutar med en fantastisk varmrätt från köket – ”Frutti di Mare”.\n\n\n\nFram till och med 31 mars 2025 har vi nu ett paketerbjudande som inkluderar både vinprovning\, välkomstdryck & varmrätt för endast 500kr – Missa inte detta! \nVad ingår:\n1st välkomstbubbel.\n4st glas vin under provningen.\n1st varmrätt ”Pasta Frutti Di Mare” \nBiljetter köper ni via Tickster.com. \n-Glöm ej att meddela ev. specialkost/allergi.\n-Ej återköp på köpt biljett.
URL:https://motalasjostad.se/ec-event/vinprovning/
LOCATION:Restaurang Sjöbris\, Sjögatan 1\, Motala
CATEGORIES:Mat & Dryck
ATTACH;FMTTYPE=image/png:https://motalasjostad.se/wp-content/uploads/2025/03/vini-italoano-e1742814465683.png
ORGANIZER;CN="Motala Folkets Hus":MAILTO:info@motalafolketshus.se
END:VEVENT
BEGIN:VEVENT
DTSTART;TZID=Europe/Paris:20250510T100000
DTEND;TZID=Europe/Paris:20250510T130000
DTSTAMP:20260425T172932
CREATED:20250422T075840Z
LAST-MODIFIED:20250422T075840Z
UID:10007218-1746871200-1746882000@motalasjostad.se
SUMMARY:Mekonomen Cars & Smalltalk 2025-#1
DESCRIPTION:2025 är här och snart hoppar Bilsäsongen igång.Med det kommer ju såklart våra Cars & Smalltalk Träffar komma igång igen.En perfekt start på säsongen att komma och visa upp ditt entusiastfordon och allt det nya som ni skruvat och pillat på under vintern i era garage.Prata med likasinnade bilentusiaster om allt mellan himmel och jord.\nVi välkomnar självklart alla olika märken & fordon att komma.Inte nog med fina bilar\, så kommer vi även ha specialerbjudande på ALL BILVÅRD! Där vi kommer ha 20% på märken som Tershine\, Meguiar’s\, Glosser m.m.\nPriskategorier:– Best Swedish Car– Best Euro– Best American– Best JDM/ASIA\n\nRegler:– Allmänt sunt förnuft– Nedskräpning är inte okej– Inget bråk eller stökande– Ingen alkohol eller droger– Inget svinande Visa mindre
URL:https://motalasjostad.se/ec-event/mekonomen-cars-smalltalk-2025-1/
LOCATION:Mekonomen\, Vintergatan 11\, Motala
CATEGORIES:Övriga evenemang
ATTACH;FMTTYPE=image/jpeg:https://motalasjostad.se/wp-content/uploads/2025/04/mekonomen.jpg
ORGANIZER;CN="Mekonomen butik":MAILTO:motala@mekonomen.se
END:VEVENT
BEGIN:VEVENT
DTSTART;TZID=Europe/Paris:20250510T100000
DTEND;TZID=Europe/Paris:20250510T160000
DTSTAMP:20260425T172932
CREATED:20250312T102654Z
LAST-MODIFIED:20250312T102654Z
UID:10004383-1746871200-1746892800@motalasjostad.se
SUMMARY:Trädgårdsmässa - Trädgård och hantverk
DESCRIPTION:Bli utställare på vår Trädgårdsmässa på Brunneby Musteri! \nDen 10-11 maj kl. 10-16 bjuder vi in till en inspirerande och färgsprakande trädgårdsmässa hos oss på Brunneby Musteri – och vi söker nu utställare!\nVi välkomnar dig som säljer sommarblommor\, perenner\, ovanliga växter\, hantverk och mathantverk att vara med och skapa en härlig mötesplats för trädgårdsälskare. Detta är ett utmärkt tillfälle att nå ut till en passionerad publik som letar efter nya favoriter till sina trädgårdar.\nVill du vara med? Hör av dig till oss för mer information och bokning av plats!\n lisa@brunnebymusteri.se\nVi ser fram emot att tillsammans skapa en inspirerande mässa fylld av grönska och blomsterprakt! 
URL:https://motalasjostad.se/ec-event/tradgardsmassa-tradgard-och-hantverk/2025-05-10/
LOCATION:Brunnrby Musteri\, Brunnrby Gård 204\, Borensberg\, 591 77\, Sweden
CATEGORIES:Övriga evenemang
ATTACH;FMTTYPE=image/jpeg:https://motalasjostad.se/wp-content/uploads/2025/03/tradgardsmassa-brunneby.jpg
ORGANIZER;CN="Brunneby Musteri G%C3%A5rdsbutik &amp%3B resturang":MAILTO:info@brunnebymusteri.se
END:VEVENT
BEGIN:VEVENT
DTSTART;TZID=Europe/Paris:20250510T103000
DTEND;TZID=Europe/Paris:20250510T103000
DTSTAMP:20260425T172932
CREATED:20250213T095213Z
LAST-MODIFIED:20250213T095213Z
UID:10004151-1746873000-1746873000@motalasjostad.se
SUMMARY:Lilla Farbrorn
DESCRIPTION:Barnteater med Matilda Larsson\, Dan Larsson & Alexandra Svensson. \nAnmäl er till kultur@motala.se \nFör mer information kontakta Sonja på tel 0141-22 50 46. \nVälkomna
URL:https://motalasjostad.se/ec-event/lilla-farbrorn/
LOCATION:Charlottenborgs slott\, Strandvägen 71\, Motala\, 591 46\, Sweden
CATEGORIES:Barn/ungdom
ATTACH;FMTTYPE=image/jpeg:https://motalasjostad.se/wp-content/uploads/2025/02/lilla-farbrorn.jpg
ORGANIZER;CN="Kultur &amp%3B Fritid":MAILTO:kultur@motala.se
END:VEVENT
END:VCALENDAR