BEGIN:VCALENDAR
VERSION:2.0
PRODID:-//Motala Sjöstad - ECPv6.13.2.1//NONSGML v1.0//EN
CALSCALE:GREGORIAN
METHOD:PUBLISH
X-WR-CALNAME:Motala Sjöstad
X-ORIGINAL-URL:https://motalasjostad.se
X-WR-CALDESC:Händelser för Motala Sjöstad
REFRESH-INTERVAL;VALUE=DURATION:PT1H
X-Robots-Tag:noindex
X-PUBLISHED-TTL:PT1H
BEGIN:VTIMEZONE
TZID:Europe/Paris
BEGIN:DAYLIGHT
TZOFFSETFROM:+0100
TZOFFSETTO:+0200
TZNAME:CEST
DTSTART:20240331T010000
END:DAYLIGHT
BEGIN:STANDARD
TZOFFSETFROM:+0200
TZOFFSETTO:+0100
TZNAME:CET
DTSTART:20241027T010000
END:STANDARD
BEGIN:DAYLIGHT
TZOFFSETFROM:+0100
TZOFFSETTO:+0200
TZNAME:CEST
DTSTART:20250330T010000
END:DAYLIGHT
BEGIN:STANDARD
TZOFFSETFROM:+0200
TZOFFSETTO:+0100
TZNAME:CET
DTSTART:20251026T010000
END:STANDARD
END:VTIMEZONE
BEGIN:VEVENT
DTSTART;TZID=Europe/Paris:20241214T130000
DTEND;TZID=Europe/Paris:20241214T140000
DTSTAMP:20260423T020740
CREATED:20241122T111150Z
LAST-MODIFIED:20241122T111150Z
UID:10003895-1734181200-1734184800@motalasjostad.se
SUMMARY:Sagolördag - När prinsessor firar jul
DESCRIPTION:För dig mellan 3–5 år som älskar berättelser och pyssel. Vid detta tillfälle läser vi ur Per Gustavssons När prinsessor firar jul. Prinsessan älskar julen! Det är då man klär granen\, bakar lussekatter\,  pysslar och bjuder alla vänner på julmiddag\, såklart. För så gör prinsessor. Men vad händer när vännerna inte lever upp till alla förväntningar? Om de pysslar fel\, sjunger andra sånger och inte vill äta julgröten? Ingen firar ju julen som man ska. Men vad är egentligen det viktigaste med julen\, när allt kommer omkring? Efteråt pysslar vi tillsammans. Ingen anmälan. \n 
URL:https://motalasjostad.se/ec-event/sagolordag-nar-prinsessor-firar-jul/
LOCATION:Motala huvudbibliotek
CATEGORIES:Barn/ungdom
ATTACH;FMTTYPE=image/png:https://motalasjostad.se/wp-content/uploads/2024/11/Sagolordag-2024.png
END:VEVENT
BEGIN:VEVENT
DTSTART;TZID=Europe/Paris:20241214T120000
DTEND;TZID=Europe/Paris:20241214T140000
DTSTAMP:20260423T020740
CREATED:20241211T093159Z
LAST-MODIFIED:20241211T093322Z
UID:10004031-1734177600-1734184800@motalasjostad.se
SUMMARY:Julshow
DESCRIPTION:Missa inte årets mysigaste julshow hos Motala ryttarförening 14/12 kl 12-14! Vi bjuder på luciakadrilj (dans med hästar)\, maskeradhoppning och en härlig nisseparad. Naturligtvis har Café Krubban öppet så att du kan köpa julfika.\n\n\nEntre: 20:-\n\n\nVi bjuder på glögg och pepparkakor.
URL:https://motalasjostad.se/ec-event/julshow/
LOCATION:Ridhuset Motala Ryttarförening\, Medevivägen 104\, Motala
CATEGORIES:Barn/ungdom
ATTACH;FMTTYPE=image/jpeg:https://motalasjostad.se/wp-content/uploads/2024/12/930156-50-00000_2-e1733909593158.jpg
ORGANIZER;CN="Motala Ryttarf%C3%B6rening":MAILTO:kontoret@motalarf.com
END:VEVENT
BEGIN:VEVENT
DTSTART;TZID=Europe/Paris:20241214T110000
DTEND;TZID=Europe/Paris:20241214T170000
DTSTAMP:20260423T020740
CREATED:20241014T095204Z
LAST-MODIFIED:20241014T095204Z
UID:10003689-1734174000-1734195600@motalasjostad.se
SUMMARY:Julbord & Hantverk i Medevi
DESCRIPTION:Lokala hantverkare i Societeten och Kyrkbyggnaden. Öppet fredag 15:00 – 18:00. Lördag o söndag öppet 11:00-17:00 Julbord kan bokas på restaurant@medevibrunn.se Detta är ett samarrangemang mellan Intresseföreningen Medevi Brunn\, V. Ny Hembygdsförening\, studieförbundet Vuxenskolan och Medevi Brunn AB. \nFrågor om julmarknad: m.oberg@live.se \nVälkomna!
URL:https://motalasjostad.se/ec-event/julbord-hantverk-i-medevi/2024-12-14/
LOCATION:Medevi brunn\, Medevi Brunn 6b\, Motala
ATTACH;FMTTYPE=image/jpeg:https://motalasjostad.se/wp-content/uploads/2024/10/julmarknad-medevi-1-e1728899498999.jpg
ORGANIZER;CN="Intressef%C3%B6reningen Medevi Brunn%2C V. Ny Hembygdsf%C3%B6rening%2C Studief%C3%B6rbundet Vuxenskolan%2C Medevi Brunn AB.":MAILTO:m.oberg@live.se
END:VEVENT
BEGIN:VEVENT
DTSTART;TZID=Europe/Paris:20241214T110000
DTEND;TZID=Europe/Paris:20241214T160000
DTSTAMP:20260423T020740
CREATED:20241212T084918Z
LAST-MODIFIED:20241212T084918Z
UID:10004035-1734174000-1734192000@motalasjostad.se
SUMMARY:Jul i Glasverkstan
DESCRIPTION:Julöppet i Glasverkstan\, Järnvägsgatan 3A i Motala. \nGlas\, keramik\, textil och grafik av lokala konsthantverkare. \nVälkommen till en julfylld butik!
URL:https://motalasjostad.se/ec-event/jul-i-glasverkstan/2024-12-14/
LOCATION:Glasverkstan\, Järnvägsgatan 3A\, Motala\, 59160
ATTACH;FMTTYPE=image/jpeg:https://motalasjostad.se/wp-content/uploads/2024/12/Jul-i-glasverkstan-e1733993345947.jpg
ORGANIZER;CN="Glasverkstan":MAILTO:annettealsio@hotmail.com
END:VEVENT
BEGIN:VEVENT
DTSTART;TZID=Europe/Paris:20241213T210000
DTEND;TZID=Europe/Paris:20241213T210000
DTSTAMP:20260423T020740
CREATED:20241031T091027Z
LAST-MODIFIED:20241031T091027Z
UID:10003786-1734123600-1734123600@motalasjostad.se
SUMMARY:Freak Kitchen på Bomber Bar
DESCRIPTION:Freak Kitchen är tillbaka!!!!\nBiljetter via Tickster!\nhttps://www.tickster.com/…/tjg…/2024-12-13/freak-kitchen\nmed den tionde skivan i ordningen\,”Everyone Gets Bloody”. Elva intensiva låtar som handlar om allt från polarisering\, psykoterapi\, en influensers död\, experter till små rebelliska upptåg i vardagen\, gravitation och sorg. Ett tungt album med åtta- och niosträngade gitarrer\, smattrande trummor och lågt stämd bas men alltid med melodier och låtskrivandet i fokus. Skivan släpps 24 maj 2024 på vinyl\, CD\, streaming och nedladdning. Producerad och inspelad av bandets sångare och gitarrist Mattias IA Eklundh\, mixad av IA och Jakob Herrmann i Top Floor Studios i Göteborg. Freak Kitchen är ett uppskattat band på scen runt om i världen\, en trio med garden nere men alltid med jävlar anamma och glimten i ögat. Alltid rått. Alltid 100% live. ”Everyone Gets Bloody” följs av konserter runt jorden under 2024–2025\, något som bandet längtat efter stort då man medvetet avböjt all form av strömmade framträdanden under åren som förflutit. En konsert med Freak Kitchen handlar alltid om interaktion med publiken\, spontanitet och improvisation i stunden. Sedan millennieskiftet består bandet av: Mattias IA Eklundh – gitarr\, sång Christer Hysén – bas\, sång Björn Fryklund – trummor
URL:https://motalasjostad.se/ec-event/freak-kitchen-pa-bomber-bar-2/
LOCATION:Bomber Bar\, Prästgatan 3\, Motala\, 591 30\, Sweden
ATTACH;FMTTYPE=image/jpeg:https://motalasjostad.se/wp-content/uploads/2024/10/Freak-Kitchen-dec-2024.jpg
END:VEVENT
BEGIN:VEVENT
DTSTART;TZID=Europe/Paris:20241213T180000
DTEND;TZID=Europe/Paris:20241213T190000
DTSTAMP:20260423T020740
CREATED:20241211T094102Z
LAST-MODIFIED:20241211T094102Z
UID:10004030-1734112800-1734116400@motalasjostad.se
SUMMARY:Lucia i Motala kyrka
DESCRIPTION:Små och stora sprider ljus och julefrid i Motala kyrka. Motala kyrkas Barnkör och Diskantkör lussar tillsammans med sångare från Motala församling. Välkommen! \n  \n  \n 
URL:https://motalasjostad.se/ec-event/lucia-i-motala-kyrka/
LOCATION:Motala Kyrka\, Sjögatan 9\, Motala
CATEGORIES:Barn/ungdom
ATTACH;FMTTYPE=image/jpeg:https://motalasjostad.se/wp-content/uploads/2024/12/lucia-sv-kyrkan-e1733909896287.jpg
ORGANIZER;CN="Motala f%C3%B6rsamling":MAILTO:motala.forsamling@svenskakyrkan.se
END:VEVENT
BEGIN:VEVENT
DTSTART;TZID=Europe/Paris:20241213T170000
DTEND;TZID=Europe/Paris:20241213T170000
DTSTAMP:20260423T020740
CREATED:20240929T114405Z
LAST-MODIFIED:20240929T114405Z
UID:10003635-1734109200-1734109200@motalasjostad.se
SUMMARY:Julbord & Julshow på Saluhallen Motala
DESCRIPTION:Det är dags att planera in årets julbord och julshow!\n2024 dukar vi upp ett stort och traditionellt julbord på Saluhallen i Motala! Till detta serverar vi en helt fenomenal julshow som tar oss genom kvällen med allt från det lugna och harmoniska till fullt ställ med party\, schlager och rock n’ roll!\nSom så många gånger förr så är det Bistro Levson som huserar i köket med vår köksmästare Magnus Levin i spetsen.\nTider för samtliga kvällar:\n17.00: Dörrarna öppnas / julbordet öppnar\n18.00: Sista insläpp\n19.00: Julshowen startar\n22.00: After Julbord – öppet för allmänheten\nSå hörni! Snacka ihop er med kollegorna\, peta lite på chefen\, skriv i kompisgruppen och bestäm ett datum fort som tusan för det här kommer med all sannolikhet att bli slutsålt!\nBokningen är öppen på www.saluhallenmotala.se/julbord\nVi längtar till julen!🎅
URL:https://motalasjostad.se/ec-event/julbord-julshow-pa-saluhallen-motala/2024-12-13/
LOCATION:Saluhallen Motala\, Prästgatan 8\, Motala\, 59130
ATTACH;FMTTYPE=image/jpeg:https://motalasjostad.se/wp-content/uploads/2024/09/Julshow-saluhallen-2024.jpg
ORGANIZER;CN="Saluhallen Motala":MAILTO:hej@saluhallenmotala.se
END:VEVENT
BEGIN:VEVENT
DTSTART;TZID=Europe/Paris:20241213T150000
DTEND;TZID=Europe/Paris:20241213T153000
DTSTAMP:20260423T020740
CREATED:20241122T111232Z
LAST-MODIFIED:20241122T111232Z
UID:10003894-1734102000-1734103800@motalasjostad.se
SUMMARY:Minibio - Lill-Gruffalon
DESCRIPTION:Rekommenderad ålder från ca 3 år. En snöig natt smyger Lill-Gruffalon ut i skogen trots varning från sin pappa för att söka efter den stora stygga musen. Hon möter en orm\, en uggla och en räv. Men inget spår efter den omtalade musen. Speltid 26 min. Anmäl dig på biblioteket eller på 0141-22 51 00.
URL:https://motalasjostad.se/ec-event/minibio-lill-gruffalon/
LOCATION:Motala huvudbibliotek
CATEGORIES:Barn/ungdom
ATTACH;FMTTYPE=image/png:https://motalasjostad.se/wp-content/uploads/2024/11/Minibio-2024.png
END:VEVENT
BEGIN:VEVENT
DTSTART;TZID=Europe/Paris:20241213T103000
DTEND;TZID=Europe/Paris:20241213T113000
DTSTAMP:20260423T020740
CREATED:20241125T074003Z
LAST-MODIFIED:20241125T074003Z
UID:10003927-1734085800-1734089400@motalasjostad.se
SUMMARY:Digitala första hjälpen
DESCRIPTION:Välkommen till vår drop-in där vi svarar på dina grundläggande frågor om IT. Ta gärna med din telefon\, surfplatta eller laptop. \n 
URL:https://motalasjostad.se/ec-event/digitala-forsta-hjalpen-44/2024-12-13/
LOCATION:Borensbergs Bibliotek\, Husbyvägen 13\, Borensberg\, 59175
ATTACH;FMTTYPE=image/png:https://motalasjostad.se/wp-content/uploads/2024/11/DFH-BBG-e1732520385303.png
END:VEVENT
BEGIN:VEVENT
DTSTART;TZID=Europe/Paris:20241212T190000
DTEND;TZID=Europe/Paris:20241212T210000
DTSTAMP:20260423T020740
CREATED:20240725T085132Z
LAST-MODIFIED:20240725T085132Z
UID:10003373-1734030000-1734037200@motalasjostad.se
SUMMARY:"Christmas with Elvis" med Henrik Åberg
DESCRIPTION:”Sveriges Elvis” Henrik Åberg är äntligen tillbaks med sin hyllade julkonsert\, där Elvis jul och gospel låtar står i centrum. Med som gästartist i år är kollegan Jerry Carlson\, vida känd för sina tolkningar av ”Jerry Lee Lewis”\, Elvis ständige rival. \nTillsammans med skickliga musiker bjuder dom på en oförglömlig julkonsert! \nNjut av allt från klassiska julhits\, till låtar som exempelvis Blue Christmas\, How Great Thou Art\, Silent Night och Great Balls Of Fire -som får nostalgins vindar att värma i det kyliga December. \nHenrik Åberg och Jerry Carlson har vi tidigare sett i b.l.a TV4:s tittarsuccé ”Sikta mot Stjärnorna”. Men även i hyllade konsertturnéer som ”The Legends”\, ”Så minns vi Elvis”\, och ”Piano Kings of Rock’n Roll” samt en rad andra Tv och radioprogram genom åren. \nKonsertlängd: 120 min. inkl. paus.\nBiljetter på Tickster.com
URL:https://motalasjostad.se/ec-event/christmas-with-elvis-med-henrik-aberg/
LOCATION:Teatersalongen Motala Folkets Hus\, Repslagaretagatan 3\, Motala\, 59130
ATTACH;FMTTYPE=image/jpeg:https://motalasjostad.se/wp-content/uploads/2024/07/ELVIS-jul.jpg
ORGANIZER;CN="Motala Folkets Hus":MAILTO:konferens@motalafolketshus.se
END:VEVENT
BEGIN:VEVENT
DTSTART;TZID=Europe/Paris:20241212T170000
DTEND;TZID=Europe/Paris:20241212T190000
DTSTAMP:20260423T020740
CREATED:20241129T100445Z
LAST-MODIFIED:20241129T100445Z
UID:10003975-1734022800-1734030000@motalasjostad.se
SUMMARY:Språkträning
DESCRIPTION:På Motala huvudbibliotek finns möjligheten att få hjälp med att träna på det svenska språket\, tyda krångliga brev\, skriva jobbansökningar med mera.\nI samarbete med Folkuniversitetet
URL:https://motalasjostad.se/ec-event/spraktraning-30/2024-12-12/
LOCATION:Motala huvudbibliotek
ATTACH;FMTTYPE=image/png:https://motalasjostad.se/wp-content/uploads/2024/11/Spraktraning-2.png
END:VEVENT
BEGIN:VEVENT
DTSTART;TZID=Europe/Paris:20241212T170000
DTEND;TZID=Europe/Paris:20241212T190000
DTSTAMP:20260423T020740
CREATED:20241129T090646Z
LAST-MODIFIED:20241129T090646Z
UID:10004007-1734022800-1734030000@motalasjostad.se
SUMMARY:Utställning med konst och konsthantverk
DESCRIPTION:Välkomna till det som kanske är årets roligaste utställning! \nMotala Konstförenings egna medlemmar ställer ut massor av konst och konsthantverk i en mångfald av tekniker och utföranden\, här finns något för alla!
URL:https://motalasjostad.se/ec-event/utstallning-med-konst-och-konsthantverk/2024-12-12/
LOCATION:Dubergska gården\, Bispmotalagatan 34\, Motala\, 59130
ATTACH;FMTTYPE=image/jpeg:https://motalasjostad.se/wp-content/uploads/2024/11/Medlemsutstallning-2023-redigerad-scaled.jpg
ORGANIZER;CN="Motala Konstf%C3%B6rening":MAILTO:info@motalakonstforening.se
END:VEVENT
BEGIN:VEVENT
DTSTART;TZID=Europe/Paris:20241212T153000
DTEND;TZID=Europe/Paris:20241212T170000
DTSTAMP:20260423T020740
CREATED:20241122T111309Z
LAST-MODIFIED:20241122T111309Z
UID:10003893-1734017400-1734022800@motalasjostad.se
SUMMARY:Klubben
DESCRIPTION:För 10–13 år. Gillar du att läsa\, vill dela med dig av vad du läser och samtidigt höra vad andra har hittat för spännande berättelser?  Välkommen då till bibblans bokklubb där fika också är ett måste. Vi träffas en gång varje månad och berättar om böcker vi har läst och gillat\, och utforskar fantasins värld på olika sätt. Ingen anmälan. \n 
URL:https://motalasjostad.se/ec-event/klubben-8/
LOCATION:Motala huvudbibliotek
CATEGORIES:Barn/ungdom
ATTACH;FMTTYPE=image/png:https://motalasjostad.se/wp-content/uploads/2024/11/Klubben-HT-2024.png
END:VEVENT
BEGIN:VEVENT
DTSTART;TZID=Europe/Paris:20241212T140000
DTEND;TZID=Europe/Paris:20241212T160000
DTSTAMP:20260423T020740
CREATED:20241125T073422Z
LAST-MODIFIED:20241125T073422Z
UID:10003934-1734012000-1734019200@motalasjostad.se
SUMMARY:Handarbeta på bibblan
DESCRIPTION:Ta med ditt handarbete och kom till biblioteket för en trevlig stund. Ta gärna med eget fika. Biblioteket bjuder på kaffe och te. Ingen anmälan.
URL:https://motalasjostad.se/ec-event/handarbeta-pa-bibblan-19/2024-12-12/
LOCATION:Tjällmo bibliotek\, Länsvägen\, Tjällmo\, 59190\, Sverige
ATTACH;FMTTYPE=image/png:https://motalasjostad.se/wp-content/uploads/2024/11/Handarbetscafe-e1732520048417.png
END:VEVENT
BEGIN:VEVENT
DTSTART;TZID=Europe/Paris:20241211T180000
DTEND;TZID=Europe/Paris:20241211T190000
DTSTAMP:20260423T020740
CREATED:20241125T074614Z
LAST-MODIFIED:20241125T074614Z
UID:10003922-1733940000-1733943600@motalasjostad.se
SUMMARY:Lättläst bokcirkel på Ekön
DESCRIPTION:Vi läser och pratar om en lättläst bok. För dig som vill träna på att läsa och prata svenska. OBS! Plats: Gemensamhetslokalen\, Styvingevägen 14.\nArrangörer: Bostadsstiftelsen Platen och Motala bibliotek
URL:https://motalasjostad.se/ec-event/lattlast-bokcirkel-pa-ekon-16/2024-12-11/
LOCATION:Gemensamhetslokalen\, Ekön\, Styvingevägen 14\, Motala
ATTACH;FMTTYPE=image/png:https://motalasjostad.se/wp-content/uploads/2024/11/Lattlast-bokcirkle-pa-Ekon-2024-e1732520761314.png
END:VEVENT
BEGIN:VEVENT
DTSTART;TZID=Europe/Paris:20241211T180000
DTEND;TZID=Europe/Paris:20241211T190000
DTSTAMP:20260423T020740
CREATED:20241118T111856Z
LAST-MODIFIED:20241118T111856Z
UID:10003880-1733940000-1733943600@motalasjostad.se
SUMMARY:Julens traditioner med julkaffe
DESCRIPTION:Vi firar in julen med trevligt julkaffe och hembakade julkakor och berättelser om julens alla traditioner. Vi berättar om hur man firade jul förr med seder och bruk i slott och koja. Vi berättar också om jultraditioner förr i Motala med julskyltning\, julgransplundring och lucia.\nDatum: Onsdag 11 decemberTid: 14.00-15.0018.00-19.00Plats: Svecia Travels kontor på Poppelgatan 8 i MotalaPris: 120 kr per personBoka alltid plats\, det är ofta fullbokatRing 0141-20 99 00 eller maila info@sveciatravels.se
URL:https://motalasjostad.se/ec-event/julens-traditioner-med-julkaffe/2024-12-11/2/
LOCATION:Svecia Travels kontor\, Poppelgatan 8\, Motala
ATTACH;FMTTYPE=image/jpeg:https://motalasjostad.se/wp-content/uploads/2024/11/julens-traditioner-e1731928723671.jpg
ORGANIZER;CN="Svecia Travels":MAILTO:info@sveciatravels.se
END:VEVENT
BEGIN:VEVENT
DTSTART;TZID=Europe/Paris:20241211T170000
DTEND;TZID=Europe/Paris:20241211T190000
DTSTAMP:20260423T020740
CREATED:20241129T090646Z
LAST-MODIFIED:20241129T090646Z
UID:10004006-1733936400-1733943600@motalasjostad.se
SUMMARY:Utställning med konst och konsthantverk
DESCRIPTION:Välkomna till det som kanske är årets roligaste utställning! \nMotala Konstförenings egna medlemmar ställer ut massor av konst och konsthantverk i en mångfald av tekniker och utföranden\, här finns något för alla!
URL:https://motalasjostad.se/ec-event/utstallning-med-konst-och-konsthantverk/2024-12-11/
LOCATION:Dubergska gården\, Bispmotalagatan 34\, Motala\, 59130
ATTACH;FMTTYPE=image/jpeg:https://motalasjostad.se/wp-content/uploads/2024/11/Medlemsutstallning-2023-redigerad-scaled.jpg
ORGANIZER;CN="Motala Konstf%C3%B6rening":MAILTO:info@motalakonstforening.se
END:VEVENT
BEGIN:VEVENT
DTSTART;TZID=Europe/Paris:20241211T140000
DTEND;TZID=Europe/Paris:20241211T153000
DTSTAMP:20260423T020740
CREATED:20241125T075144Z
LAST-MODIFIED:20241125T075144Z
UID:10003914-1733925600-1733931000@motalasjostad.se
SUMMARY:Digitala första hjälpen
DESCRIPTION:Välkommen till vår drop-in där vi svarar på dina grundläggande frågor om IT. Ta gärna med din telefon\, surfplatta eller laptop. På onsdagar kan du även få hjälp med att hantera Konsumentverkets sida Hallå konsument.
URL:https://motalasjostad.se/ec-event/digitala-forsta-hjalpen-46/2024-12-11/
LOCATION:Motala huvudbibliotek
ATTACH;FMTTYPE=image/jpeg:https://motalasjostad.se/wp-content/uploads/2024/11/DFH-HT-24-2-e1732521092938.jpg
END:VEVENT
BEGIN:VEVENT
DTSTART;TZID=Europe/Paris:20241211T140000
DTEND;TZID=Europe/Paris:20241211T150000
DTSTAMP:20260423T020740
CREATED:20241118T111856Z
LAST-MODIFIED:20241118T111856Z
UID:10003879-1733925600-1733929200@motalasjostad.se
SUMMARY:Julens traditioner med julkaffe
DESCRIPTION:Vi firar in julen med trevligt julkaffe och hembakade julkakor och berättelser om julens alla traditioner. Vi berättar om hur man firade jul förr med seder och bruk i slott och koja. Vi berättar också om jultraditioner förr i Motala med julskyltning\, julgransplundring och lucia.\nDatum: Onsdag 11 decemberTid: 14.00-15.0018.00-19.00Plats: Svecia Travels kontor på Poppelgatan 8 i MotalaPris: 120 kr per personBoka alltid plats\, det är ofta fullbokatRing 0141-20 99 00 eller maila info@sveciatravels.se
URL:https://motalasjostad.se/ec-event/julens-traditioner-med-julkaffe/2024-12-11/1/
LOCATION:Svecia Travels kontor\, Poppelgatan 8\, Motala
ATTACH;FMTTYPE=image/jpeg:https://motalasjostad.se/wp-content/uploads/2024/11/julens-traditioner-e1731928723671.jpg
ORGANIZER;CN="Svecia Travels":MAILTO:info@sveciatravels.se
END:VEVENT
BEGIN:VEVENT
DTSTART;TZID=Europe/Paris:20241210T170000
DTEND;TZID=Europe/Paris:20241210T190000
DTSTAMP:20260423T020740
CREATED:20241209T093346Z
LAST-MODIFIED:20241209T093346Z
UID:10004025-1733850000-1733857200@motalasjostad.se
SUMMARY:Medlems utställning
DESCRIPTION:Nu är det dags igen för Motala Konstförenings medlemsutställning! Välkomna att upptäcka kreativiteten och mångsidigheten hos våra egna medlemmar.\n\n\nVernissage på Dubergska gården.
URL:https://motalasjostad.se/ec-event/medlems-utstallning/
LOCATION:Dubergska gården\, Bispmotalagatan 34\, Motala\, 59130
ATTACH;FMTTYPE=image/jpeg:https://motalasjostad.se/wp-content/uploads/2024/12/medlemsutstallning-e1733736796148.jpg
END:VEVENT
BEGIN:VEVENT
DTSTART;TZID=Europe/Paris:20241210T170000
DTEND;TZID=Europe/Paris:20241210T190000
DTSTAMP:20260423T020740
CREATED:20241129T100915Z
LAST-MODIFIED:20241129T100915Z
UID:10003970-1733850000-1733857200@motalasjostad.se
SUMMARY:Språkträning
DESCRIPTION:På Motala huvudbibliotek finns möjligheten att få hjälp med att träna på det svenska språket\, tyda krångliga brev\, skriva jobbansökningar med mera.\nI samarbete med Folkuniversitetet
URL:https://motalasjostad.se/ec-event/spraktraning-32/2024-12-10/
LOCATION:Motala huvudbibliotek
ATTACH;FMTTYPE=image/png:https://motalasjostad.se/wp-content/uploads/2024/11/Spraktraning.png
END:VEVENT
BEGIN:VEVENT
DTSTART;TZID=Europe/Paris:20241210T170000
DTEND;TZID=Europe/Paris:20241210T190000
DTSTAMP:20260423T020740
CREATED:20241129T090646Z
LAST-MODIFIED:20241129T090646Z
UID:10004005-1733850000-1733857200@motalasjostad.se
SUMMARY:Utställning med konst och konsthantverk
DESCRIPTION:Välkomna till det som kanske är årets roligaste utställning! \nMotala Konstförenings egna medlemmar ställer ut massor av konst och konsthantverk i en mångfald av tekniker och utföranden\, här finns något för alla!
URL:https://motalasjostad.se/ec-event/utstallning-med-konst-och-konsthantverk/2024-12-10/
LOCATION:Dubergska gården\, Bispmotalagatan 34\, Motala\, 59130
ATTACH;FMTTYPE=image/jpeg:https://motalasjostad.se/wp-content/uploads/2024/11/Medlemsutstallning-2023-redigerad-scaled.jpg
ORGANIZER;CN="Motala Konstf%C3%B6rening":MAILTO:info@motalakonstforening.se
END:VEVENT
BEGIN:VEVENT
DTSTART;TZID=Europe/Paris:20241210T153000
DTEND;TZID=Europe/Paris:20241210T163000
DTSTAMP:20260423T020740
CREATED:20241122T110300Z
LAST-MODIFIED:20241122T110632Z
UID:10003892-1733844600-1733848200@motalasjostad.se
SUMMARY:MangaMania
DESCRIPTION:Från ca 10 år. Gillar du att läsa manga eller titta på anime? Vill du dela med dig av dina favoriter och samtidigt ta del av andras tips? Välkommen då till bibblans mangaklubb. Ingen anmälan.
URL:https://motalasjostad.se/ec-event/mangamania-4/
LOCATION:Motala huvudbibliotek
CATEGORIES:Barn/ungdom
ATTACH;FMTTYPE=image/png:https://motalasjostad.se/wp-content/uploads/2024/11/MangaMania2024.png
END:VEVENT
BEGIN:VEVENT
DTSTART;TZID=Europe/Paris:20241210T103000
DTEND;TZID=Europe/Paris:20241210T120000
DTSTAMP:20260423T020740
CREATED:20241125T075724Z
LAST-MODIFIED:20241125T075724Z
UID:10003908-1733826600-1733832000@motalasjostad.se
SUMMARY:Digitala första hjälpen
DESCRIPTION:Välkommen till vår drop-in där vi svarar på dina grundläggande frågor om IT. Ta gärna med din telefon\, surfplatta eller laptop. På onsdagar kan du även få hjälp med att hantera Konsumentverkets sida Hallå konsument.
URL:https://motalasjostad.se/ec-event/digitala-forsta-hjalpen-48/2024-12-10/
LOCATION:Motala huvudbibliotek
ATTACH;FMTTYPE=image/jpeg:https://motalasjostad.se/wp-content/uploads/2024/11/DFH-HT-24-e1732521433976.jpg
END:VEVENT
BEGIN:VEVENT
DTSTART;TZID=Europe/Paris:20241210T100000
DTEND;TZID=Europe/Paris:20241210T113000
DTSTAMP:20260423T020740
CREATED:20241125T074815Z
LAST-MODIFIED:20241125T074815Z
UID:10003920-1733824800-1733830200@motalasjostad.se
SUMMARY:Lättläst bokcirkel
DESCRIPTION:Vi läser och pratar om en lättläst bok. För dig som vill träna på att läsa och prata svenska.
URL:https://motalasjostad.se/ec-event/lattlast-bokcirkel-11/2024-12-10/
LOCATION:Motala huvudbibliotek
ATTACH;FMTTYPE=image/png:https://motalasjostad.se/wp-content/uploads/2024/11/Lattlast-bokcirkel-e1732520880600.png
END:VEVENT
BEGIN:VEVENT
DTSTART;TZID=Europe/Paris:20241210T093000
DTEND;TZID=Europe/Paris:20241210T100000
DTSTAMP:20260423T020740
CREATED:20241122T111113Z
LAST-MODIFIED:20241122T111113Z
UID:10003899-1733823000-1733824800@motalasjostad.se
SUMMARY:Bokstund
DESCRIPTION:För barn 0-2 år och deras vuxna. Vi läser\, sjunger och ramsar tillsammans. Vi ger dig boktips för att stötta barnets språkutveckling med hjälp av böcker tidigt i livet. Ingen föranmälan behövs. Ta gärna med egen matsäck om du vill fika efteråt.
URL:https://motalasjostad.se/ec-event/bokstund-3/
LOCATION:Borensbergs Bibliotek\, Husbyvägen 13\, Borensberg\, 59175
CATEGORIES:Barn/ungdom
ATTACH;FMTTYPE=image/png:https://motalasjostad.se/wp-content/uploads/2024/11/Bokstund-BBG.png
END:VEVENT
BEGIN:VEVENT
DTSTART;TZID=Europe/Paris:20241209T140000
DTEND;TZID=Europe/Paris:20241209T160000
DTSTAMP:20260423T020740
CREATED:20241125T072953Z
LAST-MODIFIED:20241125T072953Z
UID:10003939-1733752800-1733760000@motalasjostad.se
SUMMARY:Bokcirkel för vuxna
DESCRIPTION:Vi träffas och samtalar kring en gemensam bok som alla läst. För merinformation kontakta personalen på Tjällmo bibliotek på 0141-22 25 46. Ta gärna med eget fika. Biblioteket bjuder på kaffe och te. \n 
URL:https://motalasjostad.se/ec-event/bokcirkel-for-vuxna-7/
LOCATION:Tjällmo bibliotek\, Länsvägen\, Tjällmo\, 59190\, Sverige
ATTACH;FMTTYPE=image/png:https://motalasjostad.se/wp-content/uploads/2024/11/Bokcirkel-Tjallmo-e1732519781906.png
END:VEVENT
BEGIN:VEVENT
DTSTART;VALUE=DATE:20241209
DTEND;VALUE=DATE:20250105
DTSTAMP:20260423T020740
CREATED:20241129T095647Z
LAST-MODIFIED:20241129T095647Z
UID:10003981-1733702400-1736035199@motalasjostad.se
SUMMARY:En björntjänst gör ju ingen glad
DESCRIPTION:Åtta målningar av Mikael Jonsson: kollage\, akryl\, akvarell. En apa som inte liknar dig\, 3 blinda kycklingar och helt andra saker. Kan ses under bibliotekets öppettider.
URL:https://motalasjostad.se/ec-event/en-bjorntjanst-gor-ju-ingen-glad/
LOCATION:Motala huvudbibliotek
ATTACH;FMTTYPE=image/jpeg:https://motalasjostad.se/wp-content/uploads/2024/11/En-bjorntjanst-gor-ju-ingen-glad-Mikael-Jonsson.jpeg
END:VEVENT
BEGIN:VEVENT
DTSTART;TZID=Europe/Paris:20241208T170000
DTEND;TZID=Europe/Paris:20241208T170000
DTSTAMP:20260423T020740
CREATED:20241002T073125Z
LAST-MODIFIED:20241002T073400Z
UID:10003655-1733677200-1733677200@motalasjostad.se
SUMMARY:Doug Seegers – A Country Christmas
DESCRIPTION:Doug Seegers har sedan många år en helt egen speciell plats i svenskens hjärta. Med sin naturliga och ödmjuka personlighet och sin fantastiska talang så har han som få artister byggt upp en nära och varm relation med sina många fans.\nKanske kommer de som allra närmast varandra när Doug ger sig ut på sin årliga julturné?\nPå dessa innerliga konserter så uppstår det ett speciellt samspel mellan Doug och publiken. Det blir tydligt att Doug får lika mycket energi och glädje från publiken som han ger dem och känslan efter en konsert brukar vara att man har fått vara med om något unikt. \nÅterigen är det de fantastiska musikerna i Tennessee Road som backar upp Doug. Tillsammans kommer de att bjuda på en blandning av klassiska julsånger\, lite skön country-gospel och inte minst Dougs egna och starkt personliga sånger.\nDet blir stämningsfullt\, varmt\, innerligt med musik som känns och berör\, musik som är viktig för Doug.\nLika viktig som musiken är och har varit för Doug\, är det att förmedla ett budskap. Ett budskap om upprättelse\, tro\, hopp och kärlek.  Och inte minst\, medmänsklighet och värme\, något som vi verkligen behöver mer av med tanke på hur vår omvärld ser ut. \nÄven denna gång så genomförs julturnén i samarbete med och till förmån för barnrättsorganisationen Erikshjälpen. \nDoug vet vad det innebär att leva i utanförskap och vill vara med och kämpa för att så många barn som möjligt får det de har rätt till. \n– Jag och Erikshjälpen strävar mot samma mål\, det är därför vårt samarbete känns så naturligt\, säger Doug Seegers. Och det känns fantastiskt att veta att vi under våra julturnéer har kunnat hjälpa så många utsatta barn och deras familjer. \nVarmt välkomna på en glimrande julkonsert som kommer beröra både själ och sinne. En konsert där du får uppleva fantastisk musik\, härlig julstämning och där du även har möjlighet att vara med och göra något gott för utsatta barn – och världen de drömmer om. \nTurnén arrangeras av Erikshjälpen och North Event i samarbete med Studieförbundet Sensus.\nBiljetter:nortic.se
URL:https://motalasjostad.se/ec-event/doug-seegers-a-country-christmas/
LOCATION:Teatersalongen Motala Folkets Hus\, Repslagaretagatan 3\, Motala\, 59130
ATTACH;FMTTYPE=image/jpeg:https://motalasjostad.se/wp-content/uploads/2024/10/Doug-Seegers-2024.jpg
END:VEVENT
BEGIN:VEVENT
DTSTART;TZID=Europe/Paris:20241208T130000
DTEND;TZID=Europe/Paris:20241208T160000
DTSTAMP:20260423T020740
CREATED:20241129T090646Z
LAST-MODIFIED:20241129T090646Z
UID:10004004-1733662800-1733673600@motalasjostad.se
SUMMARY:Utställning med konst och konsthantverk
DESCRIPTION:Välkomna till det som kanske är årets roligaste utställning! \nMotala Konstförenings egna medlemmar ställer ut massor av konst och konsthantverk i en mångfald av tekniker och utföranden\, här finns något för alla!
URL:https://motalasjostad.se/ec-event/utstallning-med-konst-och-konsthantverk/2024-12-08/
LOCATION:Dubergska gården\, Bispmotalagatan 34\, Motala\, 59130
ATTACH;FMTTYPE=image/jpeg:https://motalasjostad.se/wp-content/uploads/2024/11/Medlemsutstallning-2023-redigerad-scaled.jpg
ORGANIZER;CN="Motala Konstf%C3%B6rening":MAILTO:info@motalakonstforening.se
END:VEVENT
END:VCALENDAR