BEGIN:VCALENDAR
VERSION:2.0
PRODID:-//Motala Sjöstad - ECPv6.13.2.1//NONSGML v1.0//EN
CALSCALE:GREGORIAN
METHOD:PUBLISH
X-ORIGINAL-URL:https://motalasjostad.se
X-WR-CALDESC:Händelser för Motala Sjöstad
REFRESH-INTERVAL;VALUE=DURATION:PT1H
X-Robots-Tag:noindex
X-PUBLISHED-TTL:PT1H
BEGIN:VTIMEZONE
TZID:Europe/Paris
BEGIN:DAYLIGHT
TZOFFSETFROM:+0100
TZOFFSETTO:+0200
TZNAME:CEST
DTSTART:20260329T010000
END:DAYLIGHT
BEGIN:STANDARD
TZOFFSETFROM:+0200
TZOFFSETTO:+0100
TZNAME:CET
DTSTART:20261025T010000
END:STANDARD
END:VTIMEZONE
BEGIN:VEVENT
DTSTART;TZID=Europe/Paris:20260331T150000
DTEND;TZID=Europe/Paris:20260331T163000
DTSTAMP:20260423T160318
CREATED:20260225T092550Z
LAST-MODIFIED:20260225T092550Z
UID:10013925-1774969200-1774974600@motalasjostad.se
SUMMARY:Öppen bokcirkel
DESCRIPTION:Välkommen till bibliotekets bokcirkel. Vi träffas\, fikar och pratar om en bok vi har läst. Bokcirkeln är öppen\, du behöver alltså inte ha deltagit vid tidigare tillfällen. Anmälan till biblioteket på bibl.info@motala.se eller på 0141-22 51 00\, senast dagen innan träffen ska äga rum. Vid detta tillfälle pratar vi om Lyktsken av Michael Ondaatje. OBS! Begränsat antal platser. \n 
URL:https://motalasjostad.se/ec-event/oppen-bokcirkel-18/
LOCATION:Motala huvudbibliotek
CATEGORIES:Övriga evenemang
ATTACH;FMTTYPE=image/jpeg:https://motalasjostad.se/wp-content/uploads/2026/02/Oppen-bokcirkel-31-mars.jpg
END:VEVENT
BEGIN:VEVENT
DTSTART;TZID=Europe/Paris:20260331T103000
DTEND;TZID=Europe/Paris:20260331T120000
DTSTAMP:20260423T160318
CREATED:20260225T093306Z
LAST-MODIFIED:20260225T093306Z
UID:10013905-1774953000-1774958400@motalasjostad.se
SUMMARY:Digitala första hjälpen
DESCRIPTION:Välkommen till vår drop-in där vi svarar på dina grundläggande frågor om IT. Ta gärna med din telefon\, surfplatta eller laptop. Här kan du även få hjälp med att hantera Konsumentverkets hemsida.
URL:https://motalasjostad.se/ec-event/digitala-forsta-hjalpen-77/2026-03-31/
LOCATION:Motala huvudbibliotek
CATEGORIES:Övriga evenemang
ATTACH;FMTTYPE=image/png:https://motalasjostad.se/wp-content/uploads/2026/02/DFH-1.png
END:VEVENT
BEGIN:VEVENT
DTSTART;TZID=Europe/Paris:20260331T093000
DTEND;TZID=Europe/Paris:20260331T100000
DTSTAMP:20260423T160318
CREATED:20260225T090308Z
LAST-MODIFIED:20260225T090308Z
UID:10013955-1774949400-1774951200@motalasjostad.se
SUMMARY:Saga och sång
DESCRIPTION:Från 2 år. Vi läser sagor och sjunger. Givetvis är syskon också välkomna. Ta gärna med matsäck om du vill fika efteråt. Vi önskar att grupper för-anmäler på biblioteket eller på 0141-22 58 75.
URL:https://motalasjostad.se/ec-event/saga-och-sang-16/2026-03-31/
LOCATION:Borensbergs Bibliotek\, Husbyvägen 13\, Borensberg\, 59175
CATEGORIES:Barn/ungdom
ATTACH;FMTTYPE=image/png:https://motalasjostad.se/wp-content/uploads/2026/02/BBG-Saga-och-sang-1.png
END:VEVENT
BEGIN:VEVENT
DTSTART;TZID=Europe/Paris:20260329T180000
DTEND;TZID=Europe/Paris:20260329T190000
DTSTAMP:20260423T160318
CREATED:20260123T111618Z
LAST-MODIFIED:20260123T111931Z
UID:10013792-1774807200-1774810800@motalasjostad.se
SUMMARY:Jesus Christ Superstar
DESCRIPTION:Välkommen till ett konsertant framförande av Jesus Christ Superstar i Charlottenborgskyrkan 29 mars kl. 16.00 och 18.00\nCharla Gospel\, Quintetten och jag\, Kristbergs vokalenseble \nSolister:\nJill Svensson Agbessi\, Jan Gerlecz\, Peter Högberg \nMusiker:\nAnders Gårdstrand\, Niklas Hakegård\, Kjell Silvewitt\, Mathias Abrahamsson \nDirigent:\nCamilla Wellborg Käck
URL:https://motalasjostad.se/ec-event/jesus-christ-superstar-2/2026-03-29/2/
LOCATION:Charlottenborgskyrkan\, Strandvägen 80\, Motala\, Östergötland\, 591 45\, Sweden
CATEGORIES:Musik
ATTACH;FMTTYPE=image/png:https://motalasjostad.se/wp-content/uploads/2026/01/jcs-top.png
ORGANIZER;CN="Motala f%C3%B6rsamling":MAILTO:motala.forsamling@svenskakyrkan.se
END:VEVENT
BEGIN:VEVENT
DTSTART;TZID=Europe/Paris:20260329T160000
DTEND;TZID=Europe/Paris:20260329T170000
DTSTAMP:20260423T160318
CREATED:20260123T111618Z
LAST-MODIFIED:20260123T111931Z
UID:10013789-1774800000-1774803600@motalasjostad.se
SUMMARY:Jesus Christ Superstar
DESCRIPTION:Välkommen till ett konsertant framförande av Jesus Christ Superstar i Charlottenborgskyrkan 29 mars kl. 16.00 och 18.00\nCharla Gospel\, Quintetten och jag\, Kristbergs vokalenseble \nSolister:\nJill Svensson Agbessi\, Jan Gerlecz\, Peter Högberg \nMusiker:\nAnders Gårdstrand\, Niklas Hakegård\, Kjell Silvewitt\, Mathias Abrahamsson \nDirigent:\nCamilla Wellborg Käck
URL:https://motalasjostad.se/ec-event/jesus-christ-superstar-2/2026-03-29/1/
LOCATION:Charlottenborgskyrkan\, Strandvägen 80\, Motala\, Östergötland\, 591 45\, Sweden
CATEGORIES:Musik
ATTACH;FMTTYPE=image/png:https://motalasjostad.se/wp-content/uploads/2026/01/jcs-top.png
ORGANIZER;CN="Motala f%C3%B6rsamling":MAILTO:motala.forsamling@svenskakyrkan.se
END:VEVENT
BEGIN:VEVENT
DTSTART;TZID=Europe/Paris:20260329T150000
DTEND;TZID=Europe/Paris:20260329T154000
DTSTAMP:20260423T160319
CREATED:20260204T104824Z
LAST-MODIFIED:20260204T105010Z
UID:10013828-1774796400-1774798800@motalasjostad.se
SUMMARY:Låtbåten
DESCRIPTION:Välkommen på Kulturskolans musikal! 110 musik-\, dans- och teaterelever i mellanstadieåldern bjuder in till musikalen ”Låtbåten”. Följ med oss ut på vårt båtäventyr. Skepp ohoj!
URL:https://motalasjostad.se/ec-event/latbaten/
LOCATION:Folkets hus\, Teater salongen\, Sjögatan 5\, Motala\, 591 30
CATEGORIES:Teater & show
ATTACH;FMTTYPE=image/jpeg:https://motalasjostad.se/wp-content/uploads/2026/02/Latbaten-kulturkatalog-e1770202206334.jpg
ORGANIZER;CN="Kulturskolan Motala":MAILTO:kulturskolan@motala.se
END:VEVENT
BEGIN:VEVENT
DTSTART;TZID=Europe/Paris:20260329T130000
DTEND;TZID=Europe/Paris:20260329T160000
DTSTAMP:20260423T160319
CREATED:20260309T094220Z
LAST-MODIFIED:20260309T094220Z
UID:10014008-1774789200-1774800000@motalasjostad.se
SUMMARY:Konstutställning med Peter Classon
DESCRIPTION:Peter Classon målar med akryl på duk\, med inspiration från spel- och fantasyvärlden.\nEn blandning av naivism och figurativ detaljrikedom ger intressanta motiv.\nDessa är stämningsfulla\, ofta med reducerad färgskala. Realism blandas med fantasiinslag.\nTavlorna har ofta ett djup och en 3D känsla som drar betraktarens blick in i tavlan.\nMotiven varierar. Städer med steampunk influenser\, postapokalyptiska ruinstäder med inslag av hopp\,\neller kanske nattliga motiv under en fullmånes sken.\nHär visas även för första gången några av Peters dioramor med koppling till tavlorna\, detaljer som tar ett kliv ut från väggarna och intar rummet.\n\nMer om Peter Classon  finns på peterclasson.se 
URL:https://motalasjostad.se/ec-event/konstutstallning-med-peter-classon/2026-03-29/
LOCATION:Dubergska gården\, Bispmotalagatan 34\, Motala\, 59130
CATEGORIES:Utställning
ATTACH;FMTTYPE=image/jpeg:https://motalasjostad.se/wp-content/uploads/2026/03/webb_City-Life-beskuren-e1773049329330.jpg
ORGANIZER;CN="Motala Konstf%C3%B6rening":MAILTO:info@motalakonstforening.se
END:VEVENT
BEGIN:VEVENT
DTSTART;TZID=Europe/Paris:20260329T080000
DTEND;TZID=Europe/Paris:20260329T170000
DTSTAMP:20260423T160319
CREATED:20260330T064424Z
LAST-MODIFIED:20260330T064556Z
UID:10014127-1774771200-1774803600@motalasjostad.se
SUMMARY:Konstutställning
DESCRIPTION:Alma Linda Carleke- måleri\nAnna-Karin – keramik
URL:https://motalasjostad.se/ec-event/konstutstallning-14/2026-03-29/
LOCATION:Galleri K-ringen\, Ringgatan 6\, Motala\, Östergötland.\, 591 60
CATEGORIES:Utställning
ATTACH;FMTTYPE=image/jpeg:https://motalasjostad.se/wp-content/uploads/2026/03/insta-1080x1080pix-26-03-28-e1774853151463.jpg
END:VEVENT
BEGIN:VEVENT
DTSTART;TZID=Europe/Paris:20260328T200000
DTEND;TZID=Europe/Paris:20260328T230000
DTSTAMP:20260423T160319
CREATED:20260128T090833Z
LAST-MODIFIED:20260128T090919Z
UID:10013799-1774728000-1774738800@motalasjostad.se
SUMMARY:Blueskonsert Axman Band
DESCRIPTION:Axman Band består av fyra mycket erfarna musiker och sångare. Grunden i vår musik är Blues\, med en härlig blandning av Rock\, Soul och Funk. Vid våra spelningar får vi ofta höra: ”Vilket otroligt bra band ni är” och ”Vilken spelglädje ! Ni verkar ha så kul på scenen !” Och det stämmer\, vi trivs fantastiskt bra ihop och lyfter ständigt varandra musikaliskt. Både i replokalen och på scen. Genom åren har vi spelat/spelar med en rad etablerade artister\, såsom: Bill Öhrström Kenny Håkansson Per-Erik Hallin Robert Wells Claes Jansson Rock Ragge och många flera.. Även om vi idag utgår från Stockholm\, har vi rötter från Höga Kusten\, Dalarna\, Gotland\, Småland och Stockholm. \nVår fantastiska gitarrist\, Emanuel Hedberg\, har över EN MILJON följare på sina sociala medier !!
URL:https://motalasjostad.se/ec-event/blueskonsert-axman-band/
LOCATION:Kulturakademin Motala\, Urban Hjärnes väg 6\, Motala\, 59130
CATEGORIES:Musik
ATTACH;FMTTYPE=image/jpeg:https://motalasjostad.se/wp-content/uploads/2026/01/Axman-Band-2.jpg
END:VEVENT
BEGIN:VEVENT
DTSTART;TZID=Europe/Paris:20260328T193000
DTEND;TZID=Europe/Paris:20260328T193000
DTSTAMP:20260423T160319
CREATED:20251212T104008Z
LAST-MODIFIED:20251212T104224Z
UID:10013673-1774726200-1774726200@motalasjostad.se
SUMMARY:Smash Into Pieces
DESCRIPTION:Efter succén med sitt hyllade album ArmaHeaven ger sig det cinematiska rock-fenomenet SMASH INTO PIECES ut på vägarna igen — denna gång för en omfattande turné över hela Sverige. \nKända för sina explosiva liveframträdanden och apokalyptiska visuella uttryck fortsätter bandet att omdefiniera vad en rockkonsert kan vara. Ledda av sin maskerade trummis och karismatiske frontfigur APOC\, väver SMASH INTO PIECES samman futuristiska teman med rå känsla och energi – och skapar en konsertupplevelse som känns som att kliva in i en film. \nMed över en miljard streams och en snabbt växande global fanbase har bandet blivit en av de mest framgångsrika svenska rockexporterna det senaste decenniet. Deras listtoppande singel “Six Feet Under” har nått dubbel platina i Sverige och fortsätter att dominera både radio och spellistor långt efter sin release. \nMed ArmaHeaven tar SMASH INTO PIECES sitt universum till nya höjder – både musikaliskt och visuellt. Publiken kan förvänta sig en cinematisk rockshow fylld med laser\, eld och berättande\, där gränsen mellan konsert och sci-fi-saga suddas ut. \nÅldersgräns: All ages\n– Evenemanget är alkoholfritt. \n• Tid: Dörrarna öppnas 18.30\n• Konsertstart: 19.30 \nBiljettpris\, vuxen:345 kronor \nBiljettpris barn:150 kronor \nBoka biljetter till Smash Into Pieces – Live i Motala \nLedsagare behöver ingen biljett. \nVarmt välkomna!
URL:https://motalasjostad.se/ec-event/smash-into-pieces/
LOCATION:SH Saluhallen\, Prästgatan 8\, Moptala
CATEGORIES:Musik
ATTACH;FMTTYPE=image/jpeg:https://motalasjostad.se/wp-content/uploads/2025/12/smash-e1765536004833.jpg
ORGANIZER;CN="SH Eventcenter":MAILTO:hej@saluhallenmotala.se
END:VEVENT
BEGIN:VEVENT
DTSTART;TZID=Europe/Paris:20260328T180000
DTEND;TZID=Europe/Paris:20260328T180000
DTSTAMP:20260423T160319
CREATED:20260323T090553Z
LAST-MODIFIED:20260323T090637Z
UID:10014057-1774720800-1774720800@motalasjostad.se
SUMMARY:Jazzkväll med Tina Röjås
DESCRIPTION:Tine Röjås är sångerska och musiker med stor genre- och registerbredd. Hon sjunger i många olika sammanhang och skriver även egen musik. På restaurang Nostalgi sjunger hon ett knippe jazzstandards tillsammans med Magnus Eriksson (saxofon)\, Jan Fagerström (keyboard)\, Tommy Lagg (bas) och Jonas Brandt (trummor). Alla i kvintetten är aktiva i olika orkestrar i Östergötland\, som professionella musiker eller musiklärare.\n\n\nSå vi hälsar varmt välkomna till ytterligare en magisk jazzkväll.\n495 kr/person inklusive 2-rätters jazzmeny samt entré\n295 kr/person enbart entré\nInsläpp från kl. 18.00\nBordsbokning för ätande gäster på 0141-564 00. Anmäl ev. matallergier vid bokningstillfället.
URL:https://motalasjostad.se/ec-event/jazzkvall-med-tina-rojas/
LOCATION:Hotell Nostalgi
CATEGORIES:Musik
ATTACH;FMTTYPE=image/jpeg:https://motalasjostad.se/wp-content/uploads/2026/03/Tina-e1774256793949.jpg
END:VEVENT
BEGIN:VEVENT
DTSTART;TZID=Europe/Paris:20260328T130000
DTEND;TZID=Europe/Paris:20260328T160000
DTSTAMP:20260423T160319
CREATED:20260309T094220Z
LAST-MODIFIED:20260309T094220Z
UID:10014007-1774702800-1774713600@motalasjostad.se
SUMMARY:Konstutställning med Peter Classon
DESCRIPTION:Peter Classon målar med akryl på duk\, med inspiration från spel- och fantasyvärlden.\nEn blandning av naivism och figurativ detaljrikedom ger intressanta motiv.\nDessa är stämningsfulla\, ofta med reducerad färgskala. Realism blandas med fantasiinslag.\nTavlorna har ofta ett djup och en 3D känsla som drar betraktarens blick in i tavlan.\nMotiven varierar. Städer med steampunk influenser\, postapokalyptiska ruinstäder med inslag av hopp\,\neller kanske nattliga motiv under en fullmånes sken.\nHär visas även för första gången några av Peters dioramor med koppling till tavlorna\, detaljer som tar ett kliv ut från väggarna och intar rummet.\n\nMer om Peter Classon  finns på peterclasson.se 
URL:https://motalasjostad.se/ec-event/konstutstallning-med-peter-classon/2026-03-28/
LOCATION:Dubergska gården\, Bispmotalagatan 34\, Motala\, 59130
CATEGORIES:Utställning
ATTACH;FMTTYPE=image/jpeg:https://motalasjostad.se/wp-content/uploads/2026/03/webb_City-Life-beskuren-e1773049329330.jpg
ORGANIZER;CN="Motala Konstf%C3%B6rening":MAILTO:info@motalakonstforening.se
END:VEVENT
BEGIN:VEVENT
DTSTART;TZID=Europe/Paris:20260328T120000
DTEND;TZID=Europe/Paris:20260328T160000
DTSTAMP:20260423T160319
CREATED:20260330T064424Z
LAST-MODIFIED:20260330T064556Z
UID:10014115-1774699200-1774713600@motalasjostad.se
SUMMARY:Konstutställning
DESCRIPTION:Alma Linda Carleke- måleri\nAnna-Karin – keramik
URL:https://motalasjostad.se/ec-event/konstutstallning-14/2026-03-28/2/
LOCATION:Galleri K-ringen\, Ringgatan 6\, Motala\, Östergötland.\, 591 60
CATEGORIES:Utställning
ATTACH;FMTTYPE=image/jpeg:https://motalasjostad.se/wp-content/uploads/2026/03/insta-1080x1080pix-26-03-28-e1774853151463.jpg
END:VEVENT
BEGIN:VEVENT
DTSTART;TZID=Europe/Paris:20260328T110000
DTEND;TZID=Europe/Paris:20260328T120000
DTSTAMP:20260423T160319
CREATED:20260225T091743Z
LAST-MODIFIED:20260225T091743Z
UID:10013940-1774695600-1774699200@motalasjostad.se
SUMMARY:Sagolördag - Sagan om vanten
DESCRIPTION:För dig mellan 3–5 år som älskar berättelser och pyssel. Denna lördag be-rättar vi den ukrainska folksagan Sagan om vanten\, en härligt rimmande och upprepande berättelse om att släppa in den som behöver någonstans att bo – det får alltid plats en till. Efteråt pysslar vi tillsammans. Ingen anmälan.
URL:https://motalasjostad.se/ec-event/sagolordag-sagan-om-vanten/
LOCATION:Motala huvudbibliotek
CATEGORIES:Barn/ungdom
ATTACH;FMTTYPE=image/png:https://motalasjostad.se/wp-content/uploads/2026/02/Sagolordag.png
END:VEVENT
BEGIN:VEVENT
DTSTART;TZID=Europe/Paris:20260328T100000
DTEND;TZID=Europe/Paris:20260328T140000
DTSTAMP:20260423T160319
CREATED:20260323T104011Z
LAST-MODIFIED:20260323T104011Z
UID:10014094-1774692000-1774706400@motalasjostad.se
SUMMARY:Cykelfest
DESCRIPTION:Välkomna till cykelfesten på Stora torget för en riktig cykelfest tillsammans med MAIF Cykelklubb och partners. Testa en rolig cykelbana som arrangeras tillsammans med Fritidsbanken Motala. Barn som vill prova kan låna både cykel och hjälm på plats. Alla barn som kör får sitt eget cykelkörkort och en välförtjänt cykelfika. Vätternrundan bidrar med fina priser som vi lottar ut.
URL:https://motalasjostad.se/ec-event/cykelfest/
LOCATION:Stota torget\, Motala
CATEGORIES:Övriga evenemang,Sportevenemang
ATTACH;FMTTYPE=image/jpeg:https://motalasjostad.se/wp-content/uploads/2026/03/cykelfest-2-e1774262407795.jpg
END:VEVENT
BEGIN:VEVENT
DTSTART;TZID=Europe/Paris:20260328T080000
DTEND;TZID=Europe/Paris:20260328T170000
DTSTAMP:20260423T160319
CREATED:20260330T064424Z
LAST-MODIFIED:20260330T064556Z
UID:10014126-1774684800-1774717200@motalasjostad.se
SUMMARY:Konstutställning
DESCRIPTION:Alma Linda Carleke- måleri\nAnna-Karin – keramik
URL:https://motalasjostad.se/ec-event/konstutstallning-14/2026-03-28/1/
LOCATION:Galleri K-ringen\, Ringgatan 6\, Motala\, Östergötland.\, 591 60
CATEGORIES:Utställning
ATTACH;FMTTYPE=image/jpeg:https://motalasjostad.se/wp-content/uploads/2026/03/insta-1080x1080pix-26-03-28-e1774853151463.jpg
END:VEVENT
BEGIN:VEVENT
DTSTART;VALUE=DATE:20260328
DTEND;VALUE=DATE:20260423
DTSTAMP:20260423T160319
CREATED:20260225T084922Z
LAST-MODIFIED:20260225T084922Z
UID:10013968-1774656000-1776902399@motalasjostad.se
SUMMARY:Punktskriften 200 år
DESCRIPTION:Vi uppmärksammar att Louis Brailles fantastiska taktila skriftspråk fyllde 200 år 2025 med att visa SKKF:s (Synskadade Konstnärers och Konsthantverkares Förening) gemensamma konstverk ”Punktskriften 200 år”. Det är ett verk bestående av 30 taktila tavlor\, en för varje bokstav i alfabetet plus en med verkets titel. Kan ses under bibliotekets öppettider. \n 
URL:https://motalasjostad.se/ec-event/punktskriften-200-ar/
LOCATION:Motala huvudbibliotek
CATEGORIES:Utställning
ATTACH;FMTTYPE=image/png:https://motalasjostad.se/wp-content/uploads/2026/02/Utstallning-punktskriften-200-ar.png
END:VEVENT
BEGIN:VEVENT
DTSTART;TZID=Europe/Paris:20260327T103000
DTEND;TZID=Europe/Paris:20260327T113000
DTSTAMP:20260423T160319
CREATED:20260225T091134Z
LAST-MODIFIED:20260225T091134Z
UID:10013945-1774607400-1774611000@motalasjostad.se
SUMMARY:Digitala första hjälpen
DESCRIPTION:Välkommen till vår drop-in där vi svarar på dina grundläggande frågor om IT. Ta gärna med din telefon\, surfplatta eller laptop. Du kan även boka en tid någon annan dag om fredagar inte passar.
URL:https://motalasjostad.se/ec-event/digitala-forsta-hjalpen-75/2026-03-27/
LOCATION:Borensbergs Bibliotek\, Husbyvägen 13\, Borensberg\, 59175
CATEGORIES:Övriga evenemang
ATTACH;FMTTYPE=image/png:https://motalasjostad.se/wp-content/uploads/2026/02/BBG-DFH.png
END:VEVENT
BEGIN:VEVENT
DTSTART;TZID=Europe/Paris:20260326T180000
DTEND;TZID=Europe/Paris:20260326T190000
DTSTAMP:20260423T160319
CREATED:20260211T094144Z
LAST-MODIFIED:20260211T094144Z
UID:10013865-1774548000-1774551600@motalasjostad.se
SUMMARY:Favorit i Repris - Bispmotala\, Hyddmarken\, Råssnäs.
DESCRIPTION:Torsdag 26 mars\, kl. 14.00 och 18.00. Vi berättar om Bispmotala\, Hyddmarken och Råssnäs. Från tiden som jordbruksmark fram till dagens bostadsområde och om industrier som fanns där under 1900-talet.
URL:https://motalasjostad.se/ec-event/favorit-i-repris-bispmotala-hyddmarken-rassnas/2026-03-26/2/
LOCATION:Svecia Travels kontor\, Poppelgatan 8\, Motala
CATEGORIES:Gudningar och föreläsningar
ATTACH;FMTTYPE=image/jpeg:https://motalasjostad.se/wp-content/uploads/2026/02/Bispmotala-hyddmarkenrassnas-e1770802895286.jpg
ORGANIZER;CN="Svecia Travels":MAILTO:info@sveciatravels.se
END:VEVENT
BEGIN:VEVENT
DTSTART;TZID=Europe/Paris:20260326T180000
DTEND;TZID=Europe/Paris:20260326T183000
DTSTAMP:20260423T160319
CREATED:20260225T092615Z
LAST-MODIFIED:20260225T092615Z
UID:10013924-1774548000-1774549800@motalasjostad.se
SUMMARY:Beatles på gitarr
DESCRIPTION:Välkommen till Kulturskolans gitarrorkester som bjuder på toner av Beatles. Ingen anmälan.
URL:https://motalasjostad.se/ec-event/beatles-pa-gitarr/
LOCATION:Motala huvudbibliotek
CATEGORIES:Musik
ATTACH;FMTTYPE=image/jpeg:https://motalasjostad.se/wp-content/uploads/2026/02/Beatles-pa-gitarr.jpg
END:VEVENT
BEGIN:VEVENT
DTSTART;TZID=Europe/Paris:20260326T173000
DTEND;TZID=Europe/Paris:20260326T193000
DTSTAMP:20260423T160319
CREATED:20260225T085059Z
LAST-MODIFIED:20260225T085059Z
UID:10013967-1774546200-1774553400@motalasjostad.se
SUMMARY:Filmklubb för vuxna
DESCRIPTION:Kom och se film på biblioteket. Denna gång ser vi på Förnuft och känsla. För att kunna delta behöver du ha aktiverat meröppet. Anmälan till bibliotek.tjallmo@motala.se\, senast den 23/3. \n 
URL:https://motalasjostad.se/ec-event/filmklubb-for-vuxna-5/
LOCATION:Tjällmo bibliotek\, Länsvägen\, Tjällmo\, 59190\, Sverige
CATEGORIES:Övriga evenemang
ATTACH;FMTTYPE=image/png:https://motalasjostad.se/wp-content/uploads/2026/02/Filmklubb-for-vuxna-Tjallmo.png
END:VEVENT
BEGIN:VEVENT
DTSTART;TZID=Europe/Paris:20260326T170000
DTEND;TZID=Europe/Paris:20260326T200000
DTSTAMP:20260423T160319
CREATED:20260203T073701Z
LAST-MODIFIED:20260203T073701Z
UID:10013827-1774544400-1774555200@motalasjostad.se
SUMMARY:Vårshopping i Motala centrum 2026
DESCRIPTION:Torsdagen den 26 mars fylls Motala centrum av vårkänsla mellan klockan 17 och 20! Det blir modevisning\, dansuppvisning\, tävlingar och en massa fina erbjudanden i butikerna och på restaurangerna. Så ta med dig vännerna\, familjen eller kollegorna och gör dig redo för våren!
URL:https://motalasjostad.se/ec-event/varshopping-i-motala-centrum-2026/
LOCATION:Motala centrum\, Motala
CATEGORIES:Större evenemang
ATTACH;FMTTYPE=image/jpeg:https://motalasjostad.se/wp-content/uploads/2026/02/Varshopping-evenemangsbild.jpg
END:VEVENT
BEGIN:VEVENT
DTSTART;TZID=Europe/Paris:20260326T170000
DTEND;TZID=Europe/Paris:20260326T190000
DTSTAMP:20260423T160319
CREATED:20260309T094220Z
LAST-MODIFIED:20260309T094220Z
UID:10014006-1774544400-1774551600@motalasjostad.se
SUMMARY:Konstutställning med Peter Classon
DESCRIPTION:Peter Classon målar med akryl på duk\, med inspiration från spel- och fantasyvärlden.\nEn blandning av naivism och figurativ detaljrikedom ger intressanta motiv.\nDessa är stämningsfulla\, ofta med reducerad färgskala. Realism blandas med fantasiinslag.\nTavlorna har ofta ett djup och en 3D känsla som drar betraktarens blick in i tavlan.\nMotiven varierar. Städer med steampunk influenser\, postapokalyptiska ruinstäder med inslag av hopp\,\neller kanske nattliga motiv under en fullmånes sken.\nHär visas även för första gången några av Peters dioramor med koppling till tavlorna\, detaljer som tar ett kliv ut från väggarna och intar rummet.\n\nMer om Peter Classon  finns på peterclasson.se 
URL:https://motalasjostad.se/ec-event/konstutstallning-med-peter-classon/2026-03-26/
LOCATION:Dubergska gården\, Bispmotalagatan 34\, Motala\, 59130
CATEGORIES:Utställning
ATTACH;FMTTYPE=image/jpeg:https://motalasjostad.se/wp-content/uploads/2026/03/webb_City-Life-beskuren-e1773049329330.jpg
ORGANIZER;CN="Motala Konstf%C3%B6rening":MAILTO:info@motalakonstforening.se
END:VEVENT
BEGIN:VEVENT
DTSTART;TZID=Europe/Paris:20260326T170000
DTEND;TZID=Europe/Paris:20260326T190000
DTSTAMP:20260423T160319
CREATED:20260225T093056Z
LAST-MODIFIED:20260225T093056Z
UID:10013917-1774544400-1774551600@motalasjostad.se
SUMMARY:Språkträning
DESCRIPTION:På Motala huvudbibliotek finns möjligheten att få hjälp med att träna på det svenska språket\, tyda krångliga brev\, skriva jobbansökningar med mera. I samarbete med Folkuniversitetet. \n 
URL:https://motalasjostad.se/ec-event/spraktraning-43/2026-03-26/
LOCATION:Motala huvudbibliotek
CATEGORIES:Övriga evenemang
ATTACH;FMTTYPE=image/png:https://motalasjostad.se/wp-content/uploads/2026/02/Spraktraning-2.png
END:VEVENT
BEGIN:VEVENT
DTSTART;TZID=Europe/Paris:20260326T140000
DTEND;TZID=Europe/Paris:20260326T160000
DTSTAMP:20260423T160319
CREATED:20260225T085331Z
LAST-MODIFIED:20260225T085331Z
UID:10013964-1774533600-1774540800@motalasjostad.se
SUMMARY:Handarbeta på bibblan
DESCRIPTION:Ta med dig ditt handarbete och kom till bibblan för en trevlig stund. Biblioteket bjuder på kaffe och te. Ta gärna med eget fikabröd. Ingen anmälan.
URL:https://motalasjostad.se/ec-event/handarbeta-pa-bibblan-26/2026-03-26/
LOCATION:Tjällmo bibliotek\, Länsvägen\, Tjällmo\, 59190\, Sverige
CATEGORIES:Övriga evenemang
ATTACH;FMTTYPE=image/png:https://motalasjostad.se/wp-content/uploads/2026/02/Tjallmo-handarbetscafe.png
END:VEVENT
BEGIN:VEVENT
DTSTART;TZID=Europe/Paris:20260326T140000
DTEND;TZID=Europe/Paris:20260326T150000
DTSTAMP:20260423T160319
CREATED:20260211T094144Z
LAST-MODIFIED:20260211T094144Z
UID:10013864-1774533600-1774537200@motalasjostad.se
SUMMARY:Favorit i Repris - Bispmotala\, Hyddmarken\, Råssnäs.
DESCRIPTION:Torsdag 26 mars\, kl. 14.00 och 18.00. Vi berättar om Bispmotala\, Hyddmarken och Råssnäs. Från tiden som jordbruksmark fram till dagens bostadsområde och om industrier som fanns där under 1900-talet.
URL:https://motalasjostad.se/ec-event/favorit-i-repris-bispmotala-hyddmarken-rassnas/2026-03-26/1/
LOCATION:Svecia Travels kontor\, Poppelgatan 8\, Motala
CATEGORIES:Gudningar och föreläsningar
ATTACH;FMTTYPE=image/jpeg:https://motalasjostad.se/wp-content/uploads/2026/02/Bispmotala-hyddmarkenrassnas-e1770802895286.jpg
ORGANIZER;CN="Svecia Travels":MAILTO:info@sveciatravels.se
END:VEVENT
BEGIN:VEVENT
DTSTART;TZID=Europe/Paris:20260326T100000
DTEND;TZID=Europe/Paris:20260326T103000
DTSTAMP:20260423T160319
CREATED:20260225T085606Z
LAST-MODIFIED:20260225T085606Z
UID:10013959-1774519200-1774521000@motalasjostad.se
SUMMARY:Bokstund
DESCRIPTION:För barn 0-2 år och deras vuxna. Vi läser sagor\, sjunger och ramsar tillsammans. Vi ger dig boktips för att stötta barnets språkutveckling med hjälp av böcker tidigt i livet. Givetvis är syskon också välkomna. Träffen är på meröppettid\, insläpp sker vid klockan 10.00. Ta gärna med matsäck om du vill fika efteråt. Vi önskar att grupper föranmäler på biblioteket eller på 0141-22 58 75. \n 
URL:https://motalasjostad.se/ec-event/bokstund-14/2026-03-26/
LOCATION:Borensbergs Bibliotek\, Husbyvägen 13\, Borensberg\, 59175
CATEGORIES:Barn/ungdom
ATTACH;FMTTYPE=image/png:https://motalasjostad.se/wp-content/uploads/2026/02/BBG-Bokstund.png
END:VEVENT
BEGIN:VEVENT
DTSTART;TZID=Europe/Paris:20260325T183000
DTEND;TZID=Europe/Paris:20260325T213000
DTSTAMP:20260423T160319
CREATED:20251105T104502Z
LAST-MODIFIED:20251105T104533Z
UID:10013531-1774463400-1774474200@motalasjostad.se
SUMMARY:Att lyfta sig själv och andra - Tomas Gunnarsson
DESCRIPTION:Den perfekta föreställningen för dig som vill ha en energiboost\, öka din kunskap om hur du kan leda dig själv och skapa bra relationer tillsammans med andra\, samt få konkreta redskap som du kan använda direkt efter föreställningens slut. \nBåde skratt och allvar utlovas i en härlig mix då Tomas med sprudlande entusiasm bjuder på sig själv och sina livshistorier. Dessutom får du på ett lättsamt sätt ta del av de senaste rönen från den moderna psykologin. En perfekt föreställning för såväl privatpersoner\, som arbetsgrupper och företag. \nNågra punkter ur föreställningen: \n\nTre-stegs-modell hur du hanterar kritik och anklagelser (även energitjuvar).\nGå som vinnare ur motgångar.\nHur du får bra och hållbara relationer.\n\nRecensioner \n”Jag kan från hjärtat varmt rekommendera andra att verkligen gå och se denna föreställning. En härlig kombination av glädje\, pepp\, humor och allvar”. \n”Briljant!! Fantastiskt lärorik och rolig föreställning. Känner mig rik på idéer och sätt att hantera vardagen\, mig själv och människorna i den. Stort tack! Tomas är grym”. \nVälkommen!
URL:https://motalasjostad.se/ec-event/att-lyfta-sig-sjalv-och-andra-tomas-gunnarsson/
LOCATION:Folkets Hus\, Teatersalongen\, Sjögatan 5\, Motala\, 591 50\, Sweden
CATEGORIES:Gudningar och föreläsningar
ATTACH;FMTTYPE=image/jpeg:https://motalasjostad.se/wp-content/uploads/2025/11/Profilbild_Tomas-hog-e1762339530202.jpg
ORGANIZER;CN="Tomasgunnarsson.se":MAILTO:support@tomasgunnarsson.se
END:VEVENT
BEGIN:VEVENT
DTSTART;TZID=Europe/Paris:20260325T170000
DTEND;TZID=Europe/Paris:20260325T190000
DTSTAMP:20260423T160319
CREATED:20260309T094220Z
LAST-MODIFIED:20260309T094220Z
UID:10014005-1774458000-1774465200@motalasjostad.se
SUMMARY:Konstutställning med Peter Classon
DESCRIPTION:Peter Classon målar med akryl på duk\, med inspiration från spel- och fantasyvärlden.\nEn blandning av naivism och figurativ detaljrikedom ger intressanta motiv.\nDessa är stämningsfulla\, ofta med reducerad färgskala. Realism blandas med fantasiinslag.\nTavlorna har ofta ett djup och en 3D känsla som drar betraktarens blick in i tavlan.\nMotiven varierar. Städer med steampunk influenser\, postapokalyptiska ruinstäder med inslag av hopp\,\neller kanske nattliga motiv under en fullmånes sken.\nHär visas även för första gången några av Peters dioramor med koppling till tavlorna\, detaljer som tar ett kliv ut från väggarna och intar rummet.\n\nMer om Peter Classon  finns på peterclasson.se 
URL:https://motalasjostad.se/ec-event/konstutstallning-med-peter-classon/2026-03-25/
LOCATION:Dubergska gården\, Bispmotalagatan 34\, Motala\, 59130
CATEGORIES:Utställning
ATTACH;FMTTYPE=image/jpeg:https://motalasjostad.se/wp-content/uploads/2026/03/webb_City-Life-beskuren-e1773049329330.jpg
ORGANIZER;CN="Motala Konstf%C3%B6rening":MAILTO:info@motalakonstforening.se
END:VEVENT
BEGIN:VEVENT
DTSTART;TZID=Europe/Paris:20260325T163000
DTEND;TZID=Europe/Paris:20260325T190000
DTSTAMP:20260423T160319
CREATED:20260225T090635Z
LAST-MODIFIED:20260225T090635Z
UID:10013951-1774456200-1774465200@motalasjostad.se
SUMMARY:Släktforskning
DESCRIPTION:Kom och släktforska med andra släktforskare. Ta med din dator eller ditt material. DIS-Filbyter finns på plats för att ge tips och råd. För mer information kontakta bibliotekets personal på 0141-22 58 75. Drop in.OBS! Träffarna är på meröppettid.
URL:https://motalasjostad.se/ec-event/slaktforskning-26/
LOCATION:Borensbergs Bibliotek\, Husbyvägen 13\, Borensberg\, 59175
CATEGORIES:Övriga evenemang
ATTACH;FMTTYPE=image/png:https://motalasjostad.se/wp-content/uploads/2026/02/Slaktforskning-1.png
END:VEVENT
END:VCALENDAR