BEGIN:VCALENDAR
VERSION:2.0
PRODID:-//Motala Sjöstad - ECPv6.13.2.1//NONSGML v1.0//EN
CALSCALE:GREGORIAN
METHOD:PUBLISH
X-ORIGINAL-URL:https://motalasjostad.se
X-WR-CALDESC:Händelser för Motala Sjöstad
REFRESH-INTERVAL;VALUE=DURATION:PT1H
X-Robots-Tag:noindex
X-PUBLISHED-TTL:PT1H
BEGIN:VTIMEZONE
TZID:Europe/Paris
BEGIN:DAYLIGHT
TZOFFSETFROM:+0100
TZOFFSETTO:+0200
TZNAME:CEST
DTSTART:20260329T010000
END:DAYLIGHT
BEGIN:STANDARD
TZOFFSETFROM:+0200
TZOFFSETTO:+0100
TZNAME:CET
DTSTART:20261025T010000
END:STANDARD
END:VTIMEZONE
BEGIN:VEVENT
DTSTART;TZID=Europe/Paris:20260228T110000
DTEND;TZID=Europe/Paris:20260228T120000
DTSTAMP:20260424T125724
CREATED:20260123T105658Z
LAST-MODIFIED:20260123T105658Z
UID:10013761-1772276400-1772280000@motalasjostad.se
SUMMARY:Sagolördag - Dom står i kö
DESCRIPTION:För dig mellan 3–5 år som älskar berättelser och pyssel. Denna lördag läser vi boken Dom står i kö av Per Dybvig. Kvist hittar ingen att leka med. Då ser han att alla djur i skogen är upptagna med att stå i en kö. Det ser kul ut\, tycker Kvist. Han vill också vara med. Men då måste han ställa sig allra längst bak. Men det känns ju inte riktigt lika kul… Efteråt pysslar vi tillsammans. Ingen anmälan. \n 
URL:https://motalasjostad.se/ec-event/sagolordag-dom-star-i-ko/
LOCATION:Motala huvudbibliotek
CATEGORIES:Barn/ungdom
ATTACH;FMTTYPE=image/png:https://motalasjostad.se/wp-content/uploads/2026/01/Sagolordag.png
END:VEVENT
BEGIN:VEVENT
DTSTART;TZID=Europe/Paris:20260227T150000
DTEND;TZID=Europe/Paris:20260227T151500
DTSTAMP:20260424T125724
CREATED:20260123T105731Z
LAST-MODIFIED:20260123T105731Z
UID:10013760-1772204400-1772205300@motalasjostad.se
SUMMARY:Minibio - Prick och Fläck snöar in
DESCRIPTION:Rekommenderad ålder från ca 2 år. Vita prickar singlar ner utanför Prick och Fläcks fönster. Prick och Fläck går ut för att leka. Plötsligt börjar det snöa små vassa flingor på tvären och blåsa hårt. Snön fastnar över hela kroppen\, inte en enda prick syns på Prick och var är Fläck\, var är huset? Baserad på boken med samma namn av Lotta Geffenblad. Speltid 8 minuter. Anmäl dig på biblioteket eller på 0141-22 51 00. \n 
URL:https://motalasjostad.se/ec-event/minibio-prick-och-flack-snoar-in-3/
LOCATION:Motala huvudbibliotek
CATEGORIES:Barn/ungdom
ATTACH;FMTTYPE=image/png:https://motalasjostad.se/wp-content/uploads/2026/01/Minibio.png
END:VEVENT
BEGIN:VEVENT
DTSTART;TZID=Europe/Paris:20260227T140000
DTEND;TZID=Europe/Paris:20260227T150000
DTSTAMP:20260424T125724
CREATED:20260210T104109Z
LAST-MODIFIED:20260210T104109Z
UID:10013849-1772200800-1772204400@motalasjostad.se
SUMMARY:Extra insatt föredrag - Historien om Motalas gårdar del 2.
DESCRIPTION:Vi fortsätter berätta om stadsdelar som förr var gårdar – den här gången Samuelsberg\, Hagen\, Lyckorna och 1900-talets byggnation i området Ekön. Vi berättar om människorna som bodde där\, historien\, anekdoter och gårdarnas roll i staden Motalas utveckling.(Finns även platser kvar på föreläsningarna kl 16-17 och kl 18-19 dagen innan\, på torsdag 26 februari)Boka alltid din plats\, det är ofta fullbokat!Ring 0141-20 99 00 eller skicka ett mail till info@sveciatravels.seVälkomna 
URL:https://motalasjostad.se/ec-event/extra-insatt-foredrag-historien-om-motalas-gardar-del-2/
LOCATION:Svecia Travels kontor\, Poppelgatan 8\, Motala
CATEGORIES:Gudningar och föreläsningar
ATTACH;FMTTYPE=image/jpeg:https://motalasjostad.se/wp-content/uploads/2026/02/motalas-gardar-del-2-e1770720065515.jpg
ORGANIZER;CN="Svecia Travels Guidningar":MAILTO:info@sveciatravels.se
END:VEVENT
BEGIN:VEVENT
DTSTART;TZID=Europe/Paris:20260227T103000
DTEND;TZID=Europe/Paris:20260227T113000
DTSTAMP:20260424T125724
CREATED:20260123T105432Z
LAST-MODIFIED:20260123T105432Z
UID:10013764-1772188200-1772191800@motalasjostad.se
SUMMARY:Digitala första hjälpen
DESCRIPTION:Välkommen till vår drop-in där vi svarar på dina grundläggande frågor om IT. Ta gärna med din telefon\, surfplatta eller laptop. Du kan även boka en tid någon annan dag om fredagar inte passar.
URL:https://motalasjostad.se/ec-event/digitala-forsta-hjalpen-72/2026-02-27/
LOCATION:Borensbergs Bibliotek\, Husbyvägen 13\, Borensberg\, 59175
CATEGORIES:Övriga evenemang
ATTACH;FMTTYPE=image/png:https://motalasjostad.se/wp-content/uploads/2026/01/BBG-DFH-1.png
END:VEVENT
BEGIN:VEVENT
DTSTART;TZID=Europe/Paris:20260226T200000
DTEND;TZID=Europe/Paris:20260226T200000
DTSTAMP:20260424T125724
CREATED:20260226T092243Z
LAST-MODIFIED:20260226T092350Z
UID:10013979-1772136000-1772136000@motalasjostad.se
SUMMARY:Jesper Lindell Trio
DESCRIPTION:Jesper Lindell & Brunnsvik Sounds är så mycket ett band och ett kollektiv som det går att bli. Musiken tar de vägar bandet hittar när Jesper presenterar sina låtar. De senaste åren har Jesper och Brunnsvik Sounds turnerat hårdare än något annat svenskt band. Men även Brunnsvik Sounds behöver stanna upp och vila emellanåt. Då öppnas ett fönster där Jesper Lindell får åka med sin trio. Jesper lyssnar ständigt på och inspireras av musik som är ny för honom\, skriver mycket låtar och i triokonceptet får han en möjlig att fokusera på sin sång och sina\, och ibland andras\, sånger. Utan den trygghet och stabilitet det innebär att ha Brunnsvik Sounds i ryggen\, träder sångaren\, låtskrivaren\, artisten och människan Jesper Lindell med sin trio fram i rampljuset.\nSom vanligt är vi otroligt stolta över att ytterligare en gång få chansen att presentera Jesper Lindell för Motalapubliken. vara på chansen för det kommer att bli en rent magisk kväll.\n\n\n\n\n\n\nBiljetter\nnortic.se/ticket/event/78326
URL:https://motalasjostad.se/ec-event/jesper-lindell-trio/
LOCATION:Bomber Bar\, Prästgatan 3\, Motala\, 591 30\, Sweden
CATEGORIES:Musik
ATTACH;FMTTYPE=image/jpeg:https://motalasjostad.se/wp-content/uploads/2026/02/jesper-lindell-e1772097826807.jpg
END:VEVENT
BEGIN:VEVENT
DTSTART;TZID=Europe/Paris:20260226T190000
DTEND;TZID=Europe/Paris:20260226T210000
DTSTAMP:20260424T125724
CREATED:20260108T111339Z
LAST-MODIFIED:20260108T111548Z
UID:10013701-1772132400-1772139600@motalasjostad.se
SUMMARY:Böla Camping
DESCRIPTION:Böla Camping – så vackert att man gråter\nVärldens äldsta obesvarade fråga. Hur tänker män? Tänker män?\nUlf och Alf är strandade i en husvagn på Böla camping och något skaver och vill ut\,\nen 40 årig vänskap luftas\, med humor och allvar får vi reda på vad som hände på\nparkeringsplatsen i Dingle..\nEn komedi med Lasse Beischer från (123Schtunk) och Ola heden från (Teater Allan).\nRegi Bortas Josefine Andersson (123Schtunk\nBiljetter och mer information:\nhttps://www.riksteatern.se/…/bola…/202602261900-137863L\nOrdinarie 300 kr\, Scenpass 250 kr\, Platenkort 275 kr\, ungdom under 25 år 150 kr. Biljetter säljs via Tickster samt hos Rapps foto i Motala och Linköping. För bokning av HK-plats vänligen kontakta Teaterföreningen via mail motala.tf@gmail.com
URL:https://motalasjostad.se/ec-event/bola-camping/
LOCATION:Teatersalongen Motala Folkets Hus\, Repslagaretagatan 3\, Motala\, 59130
CATEGORIES:Teater & show
ATTACH;FMTTYPE=image/jpeg:https://motalasjostad.se/wp-content/uploads/2026/01/bola-camping-e1767870944599.jpg
ORGANIZER;CN="Motala Teaterf%C3%B6rening":MAILTO:motala.tf@gmail.com
END:VEVENT
BEGIN:VEVENT
DTSTART;TZID=Europe/Paris:20260226T180000
DTEND;TZID=Europe/Paris:20260226T190000
DTSTAMP:20260424T125724
CREATED:20251216T082701Z
LAST-MODIFIED:20251216T082701Z
UID:10013678-1772128800-1772132400@motalasjostad.se
SUMMARY:Historien om Motalas gårdar del 2
DESCRIPTION:Vi fortsätter berätta om stadsdelar som förr var gårdar – den här gången Samuelsberg\, Hagen\, Lyckorna och 1900-talets byggnation i området Ekön. Vi berättar om människorna som bodde där\, historien\, anekdoter och gårdarnas roll i staden Motalas utveckling.\nDatum: Torsdag 26 februariTid:14.00 -15.0016.00-17.0018.00-19.00Boka alltid din plats\, det är ofta fullbokat!Ring 0141-20 99 00 eller skicka ett mail till info@sveciatravels.seVälkomna \n\n\n\n\n\n\nBiljetter\nwww.sveciatravels.se/motalas-gardar-del-2
URL:https://motalasjostad.se/ec-event/historien-om-motalas-gardar-del-2/2026-02-26/3/
LOCATION:Sveciia Travels Kontor\, Poppelgatan 8\, Motala
CATEGORIES:Gudningar och föreläsningar
ATTACH;FMTTYPE=image/jpeg:https://motalasjostad.se/wp-content/uploads/2025/12/motalas-gardar-del-2.jpg
ORGANIZER;CN="Svecia Travels Guidningar":MAILTO:info@sveciatravels.se
END:VEVENT
BEGIN:VEVENT
DTSTART;TZID=Europe/Paris:20260226T173000
DTEND;TZID=Europe/Paris:20260226T193000
DTSTAMP:20260424T125724
CREATED:20260123T103956Z
LAST-MODIFIED:20260123T103956Z
UID:10013781-1772127000-1772134200@motalasjostad.se
SUMMARY:Filmklubb
DESCRIPTION:Kom och se film på biblioteket. Denna gång ser vi Min pappa Marianne. För att kunna delta behöver du ha aktiverat meröppet. Anmälan till bibliotek.tjallmo@motala.se\, senast den 23/2.
URL:https://motalasjostad.se/ec-event/filmklubb/
LOCATION:Tjällmo bibliotek\, Länsvägen\, Tjällmo\, 59190\, Sverige
CATEGORIES:Övriga evenemang
ATTACH;FMTTYPE=image/png:https://motalasjostad.se/wp-content/uploads/2026/01/Filmklubb-for-vuxna-Tjallmo.png
END:VEVENT
BEGIN:VEVENT
DTSTART;TZID=Europe/Paris:20260226T170000
DTEND;TZID=Europe/Paris:20260226T190000
DTSTAMP:20260424T125724
CREATED:20260121T112751Z
LAST-MODIFIED:20260121T112751Z
UID:10013735-1772125200-1772132400@motalasjostad.se
SUMMARY:Språkträning
DESCRIPTION:På Motala huvudbibliotek finns möjligheten att få hjälp med att träna på det svenska språket\, tyda krångliga brev\, skriva jobbansökningar med mera.\nI samarbete med Folkuniversitetet.
URL:https://motalasjostad.se/ec-event/spraktraning-42/2026-02-26/
LOCATION:Motala huvudbibliotek
CATEGORIES:Övriga evenemang
ATTACH;FMTTYPE=image/png:https://motalasjostad.se/wp-content/uploads/2026/01/Spraktraning-e1768994862527.png
END:VEVENT
BEGIN:VEVENT
DTSTART;TZID=Europe/Paris:20260226T160000
DTEND;TZID=Europe/Paris:20260226T183000
DTSTAMP:20260424T125724
CREATED:20260220T082057Z
LAST-MODIFIED:20260220T082057Z
UID:10013894-1772121600-1772130600@motalasjostad.se
SUMMARY:Klädevent
DESCRIPTION:Försäljning av kläder
URL:https://motalasjostad.se/ec-event/kladevent/
LOCATION:Dubergska gården\, Bispmotalagatan 34\, Motala\, 59130
ATTACH;FMTTYPE=image/jpeg:https://motalasjostad.se/wp-content/uploads/2026/02/IMG_6334-e1771575648297.jpeg
END:VEVENT
BEGIN:VEVENT
DTSTART;TZID=Europe/Paris:20260226T160000
DTEND;TZID=Europe/Paris:20260226T170000
DTSTAMP:20260424T125724
CREATED:20251216T082701Z
LAST-MODIFIED:20251216T082701Z
UID:10013677-1772121600-1772125200@motalasjostad.se
SUMMARY:Historien om Motalas gårdar del 2
DESCRIPTION:Vi fortsätter berätta om stadsdelar som förr var gårdar – den här gången Samuelsberg\, Hagen\, Lyckorna och 1900-talets byggnation i området Ekön. Vi berättar om människorna som bodde där\, historien\, anekdoter och gårdarnas roll i staden Motalas utveckling.\nDatum: Torsdag 26 februariTid:14.00 -15.0016.00-17.0018.00-19.00Boka alltid din plats\, det är ofta fullbokat!Ring 0141-20 99 00 eller skicka ett mail till info@sveciatravels.seVälkomna \n\n\n\n\n\n\nBiljetter\nwww.sveciatravels.se/motalas-gardar-del-2
URL:https://motalasjostad.se/ec-event/historien-om-motalas-gardar-del-2/2026-02-26/2/
LOCATION:Sveciia Travels Kontor\, Poppelgatan 8\, Motala
CATEGORIES:Gudningar och föreläsningar
ATTACH;FMTTYPE=image/jpeg:https://motalasjostad.se/wp-content/uploads/2025/12/motalas-gardar-del-2.jpg
ORGANIZER;CN="Svecia Travels Guidningar":MAILTO:info@sveciatravels.se
END:VEVENT
BEGIN:VEVENT
DTSTART;TZID=Europe/Paris:20260226T140000
DTEND;TZID=Europe/Paris:20260226T160000
DTSTAMP:20260424T125724
CREATED:20260123T104203Z
LAST-MODIFIED:20260123T104203Z
UID:10013778-1772114400-1772121600@motalasjostad.se
SUMMARY:Handarbeta på bibblan
DESCRIPTION:Ta med dig ditt handarbete och kom till bibblan för en trevlig stund. Biblioteket bjuder på kaffe och te. Ta gärna med eget fikabröd. Ingen anmälan.
URL:https://motalasjostad.se/ec-event/handarbeta-pa-bibblan-25/2026-02-26/
LOCATION:Tjällmo bibliotek\, Länsvägen\, Tjällmo\, 59190\, Sverige
CATEGORIES:Övriga evenemang
ATTACH;FMTTYPE=image/png:https://motalasjostad.se/wp-content/uploads/2026/01/Tjallmo-handarbetscafe.png
END:VEVENT
BEGIN:VEVENT
DTSTART;TZID=Europe/Paris:20260226T140000
DTEND;TZID=Europe/Paris:20260226T150000
DTSTAMP:20260424T125724
CREATED:20251216T082701Z
LAST-MODIFIED:20251216T082701Z
UID:10013676-1772114400-1772118000@motalasjostad.se
SUMMARY:Historien om Motalas gårdar del 2
DESCRIPTION:Vi fortsätter berätta om stadsdelar som förr var gårdar – den här gången Samuelsberg\, Hagen\, Lyckorna och 1900-talets byggnation i området Ekön. Vi berättar om människorna som bodde där\, historien\, anekdoter och gårdarnas roll i staden Motalas utveckling.\nDatum: Torsdag 26 februariTid:14.00 -15.0016.00-17.0018.00-19.00Boka alltid din plats\, det är ofta fullbokat!Ring 0141-20 99 00 eller skicka ett mail till info@sveciatravels.seVälkomna \n\n\n\n\n\n\nBiljetter\nwww.sveciatravels.se/motalas-gardar-del-2
URL:https://motalasjostad.se/ec-event/historien-om-motalas-gardar-del-2/2026-02-26/1/
LOCATION:Sveciia Travels Kontor\, Poppelgatan 8\, Motala
CATEGORIES:Gudningar och föreläsningar
ATTACH;FMTTYPE=image/jpeg:https://motalasjostad.se/wp-content/uploads/2025/12/motalas-gardar-del-2.jpg
ORGANIZER;CN="Svecia Travels Guidningar":MAILTO:info@sveciatravels.se
END:VEVENT
BEGIN:VEVENT
DTSTART;TZID=Europe/Paris:20260226T100000
DTEND;TZID=Europe/Paris:20260226T103000
DTSTAMP:20260424T125724
CREATED:20260123T104335Z
LAST-MODIFIED:20260123T104335Z
UID:10013773-1772100000-1772101800@motalasjostad.se
SUMMARY:Bokstund
DESCRIPTION:För barn 0 – 2 år och deras vuxna. Vi läser sagor\, sjunger och ramsar tillsammans. Vi ger dig boktips för att stötta barnets språkutveckling med hjälp av böcker tidigt i livet. Givetvis är syskon också välkomna. Träffen är på meröppettid\, insläpp sker vid klockan 10.00. Ta gärna med matsäck om du vill fika efteråt. Vi önskar att grupper föranmäler på biblioteket eller på 0141-22 58 75.
URL:https://motalasjostad.se/ec-event/bokstund-12/
LOCATION:Borensbergs Bibliotek\, Husbyvägen 13\, Borensberg\, 59175
CATEGORIES:Barn/ungdom
ATTACH;FMTTYPE=image/png:https://motalasjostad.se/wp-content/uploads/2026/01/BBG-Bokstund-1.png
END:VEVENT
BEGIN:VEVENT
DTSTART;TZID=Europe/Paris:20260225T163000
DTEND;TZID=Europe/Paris:20260225T190000
DTSTAMP:20260424T125724
CREATED:20260123T105235Z
LAST-MODIFIED:20260123T105235Z
UID:10013767-1772037000-1772046000@motalasjostad.se
SUMMARY:Släktforskning
DESCRIPTION:Kom och släktforska med andra släktforskare. Ta med din dator eller ditt material. DIS-Filbyter finns på plats för att ge tips och råd. För mer information\, kontakta bibliotekets personal på 0141-22 58 75. Drop in. OBS! Träffarna är under meröppettid. \n 
URL:https://motalasjostad.se/ec-event/slaktforskning-25/
LOCATION:Borensbergs Bibliotek\, Husbyvägen 13\, Borensberg\, 59175
CATEGORIES:Övriga evenemang
ATTACH;FMTTYPE=image/png:https://motalasjostad.se/wp-content/uploads/2026/01/Slaktforskning.png
END:VEVENT
BEGIN:VEVENT
DTSTART;TZID=Europe/Paris:20260224T170000
DTEND;TZID=Europe/Paris:20260224T190000
DTSTAMP:20260424T125724
CREATED:20260121T112751Z
LAST-MODIFIED:20260121T112751Z
UID:10013734-1771952400-1771959600@motalasjostad.se
SUMMARY:Språkträning
DESCRIPTION:På Motala huvudbibliotek finns möjligheten att få hjälp med att träna på det svenska språket\, tyda krångliga brev\, skriva jobbansökningar med mera.\nI samarbete med Folkuniversitetet.
URL:https://motalasjostad.se/ec-event/spraktraning-42/2026-02-24/
LOCATION:Motala huvudbibliotek
CATEGORIES:Övriga evenemang
ATTACH;FMTTYPE=image/png:https://motalasjostad.se/wp-content/uploads/2026/01/Spraktraning-e1768994862527.png
END:VEVENT
BEGIN:VEVENT
DTSTART;TZID=Europe/Paris:20260224T150000
DTEND;TZID=Europe/Paris:20260224T163000
DTSTAMP:20260424T125724
CREATED:20260121T111957Z
LAST-MODIFIED:20260121T112125Z
UID:10013740-1771945200-1771950600@motalasjostad.se
SUMMARY:Öppen bokcirkel
DESCRIPTION:Välkommen till bibliotekets bokcirkel. Vi träffas\, fikar och pratar om en bok vi har läst. Bokcirkeln är öppen\, du behöver alltså inte ha deltagit vid tidigare tillfällen. Anmälan till biblioteket på bibl.info@motala.se eller på 0141-22 51 00\, senast dagen innan träffen ska äga rum. Vid detta tillfälle pratar vi om Trollkarlen från Övärlden av Ursula K. Le Guin. OBS! Begränsat antal platser. \n 
URL:https://motalasjostad.se/ec-event/oppen-bokcirkel-17/
LOCATION:Motala huvudbibliotek
CATEGORIES:Övriga evenemang
ATTACH;FMTTYPE=image/png:https://motalasjostad.se/wp-content/uploads/2026/01/Oppen-bokcirkel-februari-e1768994480276.png
END:VEVENT
BEGIN:VEVENT
DTSTART;TZID=Europe/Paris:20260224T103000
DTEND;TZID=Europe/Paris:20260224T120000
DTSTAMP:20260424T125724
CREATED:20260121T113054Z
LAST-MODIFIED:20260121T113054Z
UID:10013724-1771929000-1771934400@motalasjostad.se
SUMMARY:Digitala första hjälpen
DESCRIPTION:Välkommen till vår drop-in där vi svarar på dina grundläggande frågor om IT. Ta gärna med din telefon\, surfplatta eller laptop. Här kan du även få hjälp med att hantera Konsumentverkets hemsida.
URL:https://motalasjostad.se/ec-event/digitala-forsta-hjalpen-71/2026-02-24/
LOCATION:Motala huvudbibliotek
CATEGORIES:Övriga evenemang
ATTACH;FMTTYPE=image/png:https://motalasjostad.se/wp-content/uploads/2026/01/DFH-e1768995049814.png
END:VEVENT
BEGIN:VEVENT
DTSTART;TZID=Europe/Paris:20260224T093000
DTEND;TZID=Europe/Paris:20260224T100000
DTSTAMP:20260424T125724
CREATED:20260123T104651Z
LAST-MODIFIED:20260123T104651Z
UID:10013770-1771925400-1771927200@motalasjostad.se
SUMMARY:Saga och sång
DESCRIPTION:Från 2 år. Vi läser sagor och sjunger. Givetvis är syskon också välkomna. Ta gärna med matsäck om du vill fika efteråt. Vi önskar att grupper för-anmäler på biblioteket eller på 0141-22 58 75.
URL:https://motalasjostad.se/ec-event/saga-och-sang-14/
LOCATION:Borensbergs Bibliotek\, Husbyvägen 13\, Borensberg\, 59175
CATEGORIES:Barn/ungdom
ATTACH;FMTTYPE=image/png:https://motalasjostad.se/wp-content/uploads/2026/01/BBG-Saga-och-sang-1.png
END:VEVENT
BEGIN:VEVENT
DTSTART;TZID=Europe/Paris:20260223T140000
DTEND;TZID=Europe/Paris:20260223T153000
DTSTAMP:20260424T125724
CREATED:20260121T112220Z
LAST-MODIFIED:20260121T112220Z
UID:10013739-1771855200-1771860600@motalasjostad.se
SUMMARY:Läsa tillsammans
DESCRIPTION:Välkommen till Läsa tillsammans – högläsning för vuxna där vi läser noveller och dikter högt tillsammans och samtalar om det vi läser. Det krävs inga förberedelser. Vi bjuder på kaffe/te. Anmälan till biblioteket på 0141-22 51 00/bibl.info@motala.se\, senast onsdag veckan innan träffen ska äga rum. \n 
URL:https://motalasjostad.se/ec-event/lasa-tillsammans-10/
LOCATION:Motala huvudbibliotek
CATEGORIES:Övriga evenemang
ATTACH;FMTTYPE=image/png:https://motalasjostad.se/wp-content/uploads/2026/01/Lasa-tillsammans-e1768994536367.png
END:VEVENT
BEGIN:VEVENT
DTSTART;TZID=Europe/Paris:20260223T100000
DTEND;TZID=Europe/Paris:20260223T113000
DTSTAMP:20260424T125724
CREATED:20260122T091448Z
LAST-MODIFIED:20260122T091448Z
UID:10013743-1771840800-1771846200@motalasjostad.se
SUMMARY:Boktugg - Anmäl dig redan nu!
DESCRIPTION:För barn 0-1 år med föräldrar. Välkommen på fyra träffar där vi läser\, sjunger\, ramsar och pratar om barns språkutveckling. Vi vill visa att det kan vara roligt och relativt enkelt att stödja sitt barns språkutveckling med hjälp av böcker tidigt i livet. Vi avslutar varje träff med en fika. Vi ser gärna att du som anmäler dig är med alla fyra gånger. Anmäl dig på biblioteket eller på 0141-22 51 00. Kommande tillfällen: 2/3\, 9/3 och 16/3 \n 
URL:https://motalasjostad.se/ec-event/boktugg-anmal-dig-redan-nu-2/
LOCATION:Motala huvudbibliotek
CATEGORIES:Barn/ungdom
ATTACH;FMTTYPE=image/png:https://motalasjostad.se/wp-content/uploads/2026/01/Boktugg-e1769073283427.png
END:VEVENT
BEGIN:VEVENT
DTSTART;VALUE=DATE:20260223
DTEND;VALUE=DATE:20260301
DTSTAMP:20260424T125724
CREATED:20260123T102829Z
LAST-MODIFIED:20260123T102829Z
UID:10013786-1771804800-1772323199@motalasjostad.se
SUMMARY:Sverigefinnarnsas dag
DESCRIPTION:Sverigefinnar är en av Sveriges fem nationella minoriteter. Sverigefinnarnas dag infaller den 24 februari. Detta uppmärksammar vi med en bok– och tidskriftutställning på finska och svenska. Kan ses under bibliotekets öppettider. \n 
URL:https://motalasjostad.se/ec-event/sverigefinnarnsas-dag/
LOCATION:Motala huvudbibliotek
CATEGORIES:Utställning
ATTACH;FMTTYPE=image/png:https://motalasjostad.se/wp-content/uploads/2026/01/Sverigefinska-flaggan-e1769164097834.png
END:VEVENT
BEGIN:VEVENT
DTSTART;TZID=Europe/Paris:20260222T180000
DTEND;TZID=Europe/Paris:20260222T200000
DTSTAMP:20260424T125724
CREATED:20251028T075539Z
LAST-MODIFIED:20251028T075539Z
UID:10013498-1771783200-1771790400@motalasjostad.se
SUMMARY:Creedence Tribute  förlänger succéshowen
DESCRIPTION:Creedence Tribute förlänger succéshowen – “The Best Of Creedence & John Fogerty Tour” . \nCreedence Tribute anses som ett av Europas bästa hyllningsband till Creedence Clearwater Revival och John Fogerty. Bandet har under ett decennium framgångsrikt turnerat och fyllt landets konsertlokaler men även turnerat flitigt ute i Europa. \nEfter en omfattande turné under våren med utsålda konserthus så släpper Creedence Tribute ytterligare en Sverigeturné i vår. \nSom vanligt när Creedence Tribute står på scenen kommer det att bli en fartfylld kväll fylld av spelglädje och rock`n roll där publiken slungas tillbaka till tiden då det begav sig. \nEn show som levererar  ”det bästa av det bästa” av Creedence Clearwater Revival och John Fogertys rockklassiker\, en nostalgichock där du får uppleva de odödliga hitsen kring ett av världens största band. \n”The Midnight Special” från en av deras konserter har visats snart 40 miljoner gånger på YouTube. \nBland Creedence Clearwaters Revivals mest kända låtar kan nämnas: \nProud Mary\, Bad Moon Rising\, Down On The Corner\, Fortunate Son\, Up Around The Bend\, Have You Ever Seen the Rain\, Who´ll Stop The Rain \n”Creedence Tribute är så nära originalet det går att komma” \n”Om man blundar är det svårt att avgöra om det är originalet Creedence Clearwater Revival som står på scenen.”
URL:https://motalasjostad.se/ec-event/creedence-tribute-forlanger-succeshowen/
LOCATION:Teatersalongen Motala Folkets Hus\, Repslagaretagatan 3\, Motala\, 59130
CATEGORIES:Musik
ATTACH;FMTTYPE=image/jpeg:https://motalasjostad.se/wp-content/uploads/2025/10/creedence-1.jpeg
ORGANIZER;CN="Guppoy Entertainment":MAILTO:info@guppy.nu
END:VEVENT
BEGIN:VEVENT
DTSTART;TZID=Europe/Paris:20260222T150000
DTEND;TZID=Europe/Paris:20260222T170000
DTSTAMP:20260424T125724
CREATED:20260213T095458Z
LAST-MODIFIED:20260213T095458Z
UID:10013890-1771772400-1771779600@motalasjostad.se
SUMMARY:Sportlovsbowling!
DESCRIPTION:Motala Bowlingförening öppnar upp bowlinghallen söndagen den 22 februari klockan 15:00-16:00 och 16:00-17:00 för barn och ungdomar i åldern 7-15 år.  Det är kostnadsfritt men ni måste boka tid innan på 0141-554 55. Ta med kompisarna och spela bowling på jullovet \nTid: 15:00-16:00 och 16:00-17:00 \nAnmälan: Boka tid innan på 0141-554 55 \nVälkomna/Motala Bowlingförening \n  \nVi som möjliggör detta är Bostadsstiftelsen Platen\, Motala Kommun\, RF SISU Östergötland och föreningen.
URL:https://motalasjostad.se/ec-event/sportlovsbowling/
LOCATION:Bowlinghallen \, Motala sporthall\, Östermalmsgatan 42\, Motala
CATEGORIES:Barn/ungdom
ATTACH;FMTTYPE=image/webp:https://motalasjostad.se/wp-content/uploads/2026/02/sportlovs-bowling.webp
ORGANIZER;CN="Motala Bowlingf%C3%B6rening":MAILTO:borja.allard@hotmail.se
END:VEVENT
BEGIN:VEVENT
DTSTART;TZID=Europe/Paris:20260222T130000
DTEND;TZID=Europe/Paris:20260222T160000
DTSTAMP:20260424T125724
CREATED:20260128T090350Z
LAST-MODIFIED:20260128T090350Z
UID:10013807-1771765200-1771776000@motalasjostad.se
SUMMARY:Konstutställning med Grafiska Rummet
DESCRIPTION:Grafiska rummet är en konstnärsgrupp verksam i K-Ringens grafikverkstad\, och som har grafiken som ett av flera konstnärliga uttryckssätt. I den här utställningen deltar tio av gruppens medlemmar och visar grafik som utförts i olika tekniker\, framför allt collografi och koppartryck
URL:https://motalasjostad.se/ec-event/konstutstallning-med-grafiska-rummet/2026-02-22/
LOCATION:Dubergska gården\, Bispmotalagatan 34\, Motala\, 59130
ATTACH;FMTTYPE=image/jpeg:https://motalasjostad.se/wp-content/uploads/2026/01/Grafiska-rummet-tom-bild-e1769591022303.jpg
ORGANIZER;CN="Motala Konstf%C3%B6rening":MAILTO:info@motalakonstforening.se
END:VEVENT
BEGIN:VEVENT
DTSTART;TZID=Europe/Paris:20260222T100000
DTEND;TZID=Europe/Paris:20260222T150000
DTSTAMP:20260424T125724
CREATED:20260213T090645Z
LAST-MODIFIED:20260213T091759Z
UID:10013873-1771754400-1771772400@motalasjostad.se
SUMMARY:Prova på skidor i Krassbäck
DESCRIPTION:Godegårds SK öppnar upp sin anläggning hela vecka 8\, lördag-söndag 14-22 februari\, i Krassbäck\, Godegård mellan klockan 10:00-15:00. Här kan man testa på skidåkning\, grilla\, fika\, åka pulka och njuta av naturen. Det finns skidor och pjäxor att låna\, café är öppet och grillen är tänd. Ta med hela familjen och ha en fin dag i Krassbäck. Pulkabacken är öppen också! Det behövs ingen föranmälan. \nPlats: Krassbäck\, Godegård SK klubbhus\nDag: Lördag-söndag 14-22 februari.\nTid: 10:00-15:00\nKostnad: Gratis\nIngen föranmälan\nDet finns skidor att låna \nVarmt Välkomna\nGodegård SK
URL:https://motalasjostad.se/ec-event/prova-pa-skidor-i-krassback/2026-02-22/
LOCATION:Krassbäck\, Godegård 304\, Motala
CATEGORIES:Barn/ungdom,Sportevenemang
ATTACH;FMTTYPE=image/webp:https://motalasjostad.se/wp-content/uploads/2026/02/spoprtlovsvecka.webp
END:VEVENT
BEGIN:VEVENT
DTSTART;TZID=Europe/Paris:20260221T140000
DTEND;TZID=Europe/Paris:20260221T143000
DTSTAMP:20260424T125724
CREATED:20260123T105802Z
LAST-MODIFIED:20260123T105802Z
UID:10013759-1771682400-1771684200@motalasjostad.se
SUMMARY:Sagor på tigrinska
DESCRIPTION:För dig som är ca 3–8 år. Vi träffas en lördag i månaden för att lyssna på berättelser på tigrinska. Ingen anmälan. \n 
URL:https://motalasjostad.se/ec-event/sagor-pa-tigrinska-17/
LOCATION:Motala huvudbibliotek
CATEGORIES:Barn/ungdom
ATTACH;FMTTYPE=image/png:https://motalasjostad.se/wp-content/uploads/2026/01/Sagostund-pa-tigrinska.png
END:VEVENT
BEGIN:VEVENT
DTSTART;TZID=Europe/Paris:20260221T130000
DTEND;TZID=Europe/Paris:20260221T160000
DTSTAMP:20260424T125724
CREATED:20260128T090350Z
LAST-MODIFIED:20260128T090350Z
UID:10013806-1771678800-1771689600@motalasjostad.se
SUMMARY:Konstutställning med Grafiska Rummet
DESCRIPTION:Grafiska rummet är en konstnärsgrupp verksam i K-Ringens grafikverkstad\, och som har grafiken som ett av flera konstnärliga uttryckssätt. I den här utställningen deltar tio av gruppens medlemmar och visar grafik som utförts i olika tekniker\, framför allt collografi och koppartryck
URL:https://motalasjostad.se/ec-event/konstutstallning-med-grafiska-rummet/2026-02-21/
LOCATION:Dubergska gården\, Bispmotalagatan 34\, Motala\, 59130
ATTACH;FMTTYPE=image/jpeg:https://motalasjostad.se/wp-content/uploads/2026/01/Grafiska-rummet-tom-bild-e1769591022303.jpg
ORGANIZER;CN="Motala Konstf%C3%B6rening":MAILTO:info@motalakonstforening.se
END:VEVENT
BEGIN:VEVENT
DTSTART;TZID=Europe/Paris:20260221T130000
DTEND;TZID=Europe/Paris:20260221T133000
DTSTAMP:20260424T125724
CREATED:20260123T105832Z
LAST-MODIFIED:20260123T105832Z
UID:10013758-1771678800-1771680600@motalasjostad.se
SUMMARY:Sagor på arabiska
DESCRIPTION:För dig som är ca 3–8 år. Vi träffas en lördag i månaden för att lyssna på berättelser på arabiska. Ingen anmälan. \n 
URL:https://motalasjostad.se/ec-event/sagor-pa-arabiska-20/
LOCATION:Motala huvudbibliotek
CATEGORIES:Barn/ungdom
ATTACH;FMTTYPE=image/png:https://motalasjostad.se/wp-content/uploads/2026/01/Sagor-pa-arabiska.png
END:VEVENT
BEGIN:VEVENT
DTSTART;TZID=Europe/Paris:20260221T120000
DTEND;TZID=Europe/Paris:20260222T160000
DTSTAMP:20260424T125724
CREATED:20260206T112145Z
LAST-MODIFIED:20260206T112145Z
UID:10013846-1771675200-1771776000@motalasjostad.se
SUMMARY:Konstutställning
DESCRIPTION:Årets första utställare på Galleri K-ringen är Peter Adbåge!Pågår 31/1 – 22/2. lör-sön 12-16\, tors 16-18Varmt välkomna!
URL:https://motalasjostad.se/ec-event/konstutstallning-12/
LOCATION:Kulturverkstan K-Ringen
CATEGORIES:Utställning
ATTACH;FMTTYPE=image/jpeg:https://motalasjostad.se/wp-content/uploads/2026/02/peter-adbage-3.jpg
END:VEVENT
END:VCALENDAR