BEGIN:VCALENDAR
VERSION:2.0
PRODID:-//Motala Sjöstad - ECPv6.13.2.1//NONSGML v1.0//EN
CALSCALE:GREGORIAN
METHOD:PUBLISH
X-ORIGINAL-URL:https://motalasjostad.se
X-WR-CALDESC:Händelser för Motala Sjöstad
REFRESH-INTERVAL;VALUE=DURATION:PT1H
X-Robots-Tag:noindex
X-PUBLISHED-TTL:PT1H
BEGIN:VTIMEZONE
TZID:Europe/Paris
BEGIN:DAYLIGHT
TZOFFSETFROM:+0100
TZOFFSETTO:+0200
TZNAME:CEST
DTSTART:20260329T010000
END:DAYLIGHT
BEGIN:STANDARD
TZOFFSETFROM:+0200
TZOFFSETTO:+0100
TZNAME:CET
DTSTART:20261025T010000
END:STANDARD
END:VTIMEZONE
BEGIN:VEVENT
DTSTART;TZID=Europe/Paris:20260218T130000
DTEND;TZID=Europe/Paris:20260218T150000
DTSTAMP:20260424T220956
CREATED:20260210T113643Z
LAST-MODIFIED:20260210T113643Z
UID:10013856-1771419600-1771426800@motalasjostad.se
SUMMARY:Sportlov - Prova på dykning
DESCRIPTION:Spännande prova-på dykning med dykarklubben Octopus!\nOBS! För dig som är 14 år och äldre. \nUnder 18 år krävs målsmans underskrift. \nPris: Simhallsentré (varierande beroende på ålder)
URL:https://motalasjostad.se/ec-event/sportlov-prova-pa-dykning/
LOCATION:Simhallen Motala\, Östermalmsgatan\, Motala
CATEGORIES:Barn/ungdom
ATTACH;FMTTYPE=image/webp:https://motalasjostad.se/wp-content/uploads/2026/02/dykning.webp
END:VEVENT
BEGIN:VEVENT
DTSTART;TZID=Europe/Paris:20260218T130000
DTEND;TZID=Europe/Paris:20260218T150000
DTSTAMP:20260424T220956
CREATED:20260123T110012Z
LAST-MODIFIED:20260123T110012Z
UID:10013755-1771419600-1771426800@motalasjostad.se
SUMMARY:Experimentera med Green Screen
DESCRIPTION:Från ca 7 år. Lär dig att använda Green Screen för att ta bilder eller videor med olika bakgrunder och effekter. Ta gärna med din kompis eller syskon så ni kan skapa en bild tillsammans! Drop-in. \n 
URL:https://motalasjostad.se/ec-event/experimentera-med-green-screen/
LOCATION:Motala huvudbibliotek
CATEGORIES:Barn/ungdom
ATTACH;FMTTYPE=image/png:https://motalasjostad.se/wp-content/uploads/2026/01/Green-Screen.png
END:VEVENT
BEGIN:VEVENT
DTSTART;TZID=Europe/Paris:20260218T130000
DTEND;TZID=Europe/Paris:20260218T143000
DTSTAMP:20260424T220956
CREATED:20260205T104945Z
LAST-MODIFIED:20260205T111858Z
UID:10013835-1771419600-1771425000@motalasjostad.se
SUMMARY:Forma!
DESCRIPTION:Kan en spis vara ett konstverk? Hur liten kan en hästfigur egentligen bli? Och hur gör man en skulptur av en dödskalle? Vi fokuserar på den fantastiska\, märkliga och roliga tredimensionella konsten i slottet. Sedan är det vår tur! I verkstaden går vi loss med tänger\, vajer och folie och skulpterar fram egna verkliga och overkliga varelser att ta med hem.
URL:https://motalasjostad.se/ec-event/forma/2026-02-18/
LOCATION:Charlottenborgs slott\, Strandvägen 71\, Motala\, 591 46\, Sweden
CATEGORIES:Barn/ungdom
ATTACH;FMTTYPE=image/webp:https://motalasjostad.se/wp-content/uploads/2026/02/forma.webp
END:VEVENT
BEGIN:VEVENT
DTSTART;TZID=Europe/Paris:20260218T120000
DTEND;TZID=Europe/Paris:20260218T160000
DTSTAMP:20260424T220956
CREATED:20260213T092236Z
LAST-MODIFIED:20260213T094647Z
UID:10013887-1771416000-1771430400@motalasjostad.se
SUMMARY:Lös POÄNGJAKTEN
DESCRIPTION:Lös POÄNGJAKTEN på Charlottenborgs slott på Sportlovet.\nSamla poäng genom att lösa uppdrag och hitta ledtrådar i slottets rum och skrymslen. Skissa och gissa\, leta och hitta dig fram till en god belöning. \nUppdragsblad finns i receptionen under hela slottets öppettider vecka 8.
URL:https://motalasjostad.se/ec-event/los-poangjakten/2026-02-18/
LOCATION:Charlottenborgs slott\, Strandvägen 71\, Motala\, 591 46\, Sweden
CATEGORIES:Barn/ungdom
ATTACH;FMTTYPE=image/webp:https://motalasjostad.se/wp-content/uploads/2026/02/poangjakt.webp
END:VEVENT
BEGIN:VEVENT
DTSTART;TZID=Europe/Paris:20260218T100000
DTEND;TZID=Europe/Paris:20260218T150000
DTSTAMP:20260424T220956
CREATED:20260213T090645Z
LAST-MODIFIED:20260213T091759Z
UID:10013876-1771408800-1771426800@motalasjostad.se
SUMMARY:Prova på skidor i Krassbäck
DESCRIPTION:Godegårds SK öppnar upp sin anläggning hela vecka 8\, lördag-söndag 14-22 februari\, i Krassbäck\, Godegård mellan klockan 10:00-15:00. Här kan man testa på skidåkning\, grilla\, fika\, åka pulka och njuta av naturen. Det finns skidor och pjäxor att låna\, café är öppet och grillen är tänd. Ta med hela familjen och ha en fin dag i Krassbäck. Pulkabacken är öppen också! Det behövs ingen föranmälan. \nPlats: Krassbäck\, Godegård SK klubbhus\nDag: Lördag-söndag 14-22 februari.\nTid: 10:00-15:00\nKostnad: Gratis\nIngen föranmälan\nDet finns skidor att låna \nVarmt Välkomna\nGodegård SK
URL:https://motalasjostad.se/ec-event/prova-pa-skidor-i-krassback/2026-02-18/
LOCATION:Krassbäck\, Godegård 304\, Motala
CATEGORIES:Barn/ungdom,Sportevenemang
ATTACH;FMTTYPE=image/webp:https://motalasjostad.se/wp-content/uploads/2026/02/spoprtlovsvecka.webp
END:VEVENT
BEGIN:VEVENT
DTSTART;TZID=Europe/Paris:20260218T100000
DTEND;TZID=Europe/Paris:20260218T140000
DTSTAMP:20260424T220956
CREATED:20251217T091329Z
LAST-MODIFIED:20260204T085920Z
UID:10013682-1771408800-1771423200@motalasjostad.se
SUMMARY:Öppet hus på räddningstjänsten!
DESCRIPTION:Varmt välkommen på öppet hus på räddningstjänstens station i Motala! Du kommer här att få se vår brandstation\, kolla på brandbilarna och massor spännande utrustning som brandmännen har. Du kommer kunna få testa olika saker\, och har du tur kanske du även ser Flammy som smyger omkring på brandstationen. Vi har också hört att Flammy har råkat ställa till det i sitt hus\, så vid 11.30 kommer du kunna se en brandföreställning av brandmännen här… Välkomna!
URL:https://motalasjostad.se/ec-event/oppet-hus-pa-raddningstjansten-2/
LOCATION:Räddningstjänsten\, Glimmervägen 2\, Motala\, 591 53\, Sweden
CATEGORIES:Barn/ungdom
ATTACH;FMTTYPE=image/png:https://motalasjostad.se/wp-content/uploads/2025/12/Oppet-hus-2-e1765962844401.png
ORGANIZER;CN="R%C3%A4ddningstj%C3%A4nsten  Motala - Vadstena":MAILTO:raddning-sakerhet@motala.se
END:VEVENT
BEGIN:VEVENT
DTSTART;TZID=Europe/Paris:20260217T183000
DTEND;TZID=Europe/Paris:20260217T193000
DTSTAMP:20260424T220956
CREATED:20260211T093524Z
LAST-MODIFIED:20260211T093524Z
UID:10013857-1771353000-1771356600@motalasjostad.se
SUMMARY:Möt Magdalena  Andersson - Helhjärtat
DESCRIPTION:Moderator: Widar Andersson\, krönikör.\nBoksamtal med Magdalena Andersson\, partiledare för Socialdemokraterna och Sveriges första kvinnliga statsminister.\n”Jag har alltid vetat vad jag ska göra med mitt liv. Jag vill\, på det sätt jag kan\, bidra till ett rättvisare Sverige. Det är ett privilegium att vara säker på sin uppgift. Det gör att jag alltid kan arbeta och verka helhjärtat.”\nOBS! Begränsat antal platser.
URL:https://motalasjostad.se/ec-event/mot-magdalena-andersson-helhjartat/
LOCATION:Motala huvudbibliotek
CATEGORIES:Gudningar och föreläsningar
ATTACH;FMTTYPE=image/png:https://motalasjostad.se/wp-content/uploads/2026/02/Magdalena-Andersson-e1770802517543.png
END:VEVENT
BEGIN:VEVENT
DTSTART;TZID=Europe/Paris:20260217T170000
DTEND;TZID=Europe/Paris:20260217T190000
DTSTAMP:20260424T220956
CREATED:20260128T090350Z
LAST-MODIFIED:20260128T090350Z
UID:10013803-1771347600-1771354800@motalasjostad.se
SUMMARY:Konstutställning med Grafiska Rummet
DESCRIPTION:Grafiska rummet är en konstnärsgrupp verksam i K-Ringens grafikverkstad\, och som har grafiken som ett av flera konstnärliga uttryckssätt. I den här utställningen deltar tio av gruppens medlemmar och visar grafik som utförts i olika tekniker\, framför allt collografi och koppartryck
URL:https://motalasjostad.se/ec-event/konstutstallning-med-grafiska-rummet/2026-02-17/
LOCATION:Dubergska gården\, Bispmotalagatan 34\, Motala\, 59130
ATTACH;FMTTYPE=image/jpeg:https://motalasjostad.se/wp-content/uploads/2026/01/Grafiska-rummet-tom-bild-e1769591022303.jpg
ORGANIZER;CN="Motala Konstf%C3%B6rening":MAILTO:info@motalakonstforening.se
END:VEVENT
BEGIN:VEVENT
DTSTART;TZID=Europe/Paris:20260217T170000
DTEND;TZID=Europe/Paris:20260217T190000
DTSTAMP:20260424T220956
CREATED:20260121T112751Z
LAST-MODIFIED:20260121T112751Z
UID:10013732-1771347600-1771354800@motalasjostad.se
SUMMARY:Språkträning
DESCRIPTION:På Motala huvudbibliotek finns möjligheten att få hjälp med att träna på det svenska språket\, tyda krångliga brev\, skriva jobbansökningar med mera.\nI samarbete med Folkuniversitetet.
URL:https://motalasjostad.se/ec-event/spraktraning-42/2026-02-17/
LOCATION:Motala huvudbibliotek
CATEGORIES:Övriga evenemang
ATTACH;FMTTYPE=image/png:https://motalasjostad.se/wp-content/uploads/2026/01/Spraktraning-e1768994862527.png
END:VEVENT
BEGIN:VEVENT
DTSTART;TZID=Europe/Paris:20260217T153000
DTEND;TZID=Europe/Paris:20260217T163000
DTSTAMP:20260424T220956
CREATED:20260123T110044Z
LAST-MODIFIED:20260123T110044Z
UID:10013754-1771342200-1771345800@motalasjostad.se
SUMMARY:MangaMania - Animering: från idé till verkligehet
DESCRIPTION:Från ca 8 år. Vad behövs för att något ska gå till rörlig bild? Tillsammans tittar vi på hur en anime går från idé till verklighet och workshopar våra egna karaktärer\, bilder och historier. Inga förkunskaper krävs. Ingen anmälan. \n 
URL:https://motalasjostad.se/ec-event/mangamania-animering-fran-ide-till-verkligehet/
LOCATION:Motala huvudbibliotek
CATEGORIES:Barn/ungdom
ATTACH;FMTTYPE=image/png:https://motalasjostad.se/wp-content/uploads/2026/01/MangaMania.png
END:VEVENT
BEGIN:VEVENT
DTSTART;TZID=Europe/Paris:20260217T140000
DTEND;TZID=Europe/Paris:20260217T160000
DTSTAMP:20260424T220956
CREATED:20260205T110704Z
LAST-MODIFIED:20260205T110704Z
UID:10013834-1771336800-1771344000@motalasjostad.se
SUMMARY:Parasportdagen!
DESCRIPTION:Välkommen till en eftermiddag full av rörelse\, sport och gemenskap! Har du en funktionsnedsättning och vill testa nya aktiviteter eller träna mer på just din sport? Då är den här eftermidddagen för dig!\nVi vänder oss till alla med någon form av funktionsnedsättning – Allt från NPF till rörelsenedsättning.\nVåra lokala föreningar visar och låter alla prova på sin verksamhet. Här finns något för alla – Allt är gratis att prova och det är bara att dyka upp! \nVarmt välkomna!\nVi som möjliggör detta är Västers BTK\, Bostadsstiftelsen Platen\, Motala Kommun\, RF SISU Östergötland och föreningarna.
URL:https://motalasjostad.se/ec-event/parasportdagen/
LOCATION:Motala Sporthall\, Östermalmsgatan 40\, Motala\, 59160
CATEGORIES:Barn/ungdom,Sportevenemang
ATTACH;FMTTYPE=image/webp:https://motalasjostad.se/wp-content/uploads/2026/02/parasportdagen.webp
ORGANIZER;CN="V%C3%A4sters BTK%2C Bostadstiftelsen Platen%2C Motala kommun%2C RF SISU %C3%96sterg%C3%B6tland och f%C3%B6reningarna":MAILTO:alexande@sbtf.se
END:VEVENT
BEGIN:VEVENT
DTSTART;TZID=Europe/Paris:20260217T140000
DTEND;TZID=Europe/Paris:20260217T160000
DTSTAMP:20260424T220956
CREATED:20260120T093541Z
LAST-MODIFIED:20260120T093541Z
UID:10013713-1771336800-1771344000@motalasjostad.se
SUMMARY:Sportlovs aktivitet med MAIF Skrinnare
DESCRIPTION:På onsdag och torsdag på sportlovet kan ni testa på skridskor på isstadion. MAIF skrinnarnas ledare är där och hjälper dig. Det finns utrustning att låna och vi hjälper er att komma igång. Vi bjuder på något att värma sig med. Ta med kompisar och familj och testa på vår idrott. Vi har 2 st. Zitzi Zlider is-kälkar att åka på ifall för er personer som har en funktionsnedsättning.
URL:https://motalasjostad.se/ec-event/sportlovs-aktivitet-med-maif-skrinnare/2026-02-17/
LOCATION:Motala Isstadio\, Bangårdsgatan 1\, Motala
CATEGORIES:Barn/ungdom,Sportevenemang
ATTACH;FMTTYPE=image/webp:https://motalasjostad.se/wp-content/uploads/2026/01/webpc-passthru.webp
ORGANIZER;CN="MAIF Skrinnare":MAILTO:infomaifskrinnare@yahoo.com
END:VEVENT
BEGIN:VEVENT
DTSTART;TZID=Europe/Paris:20260217T130000
DTEND;TZID=Europe/Paris:20260217T143000
DTSTAMP:20260424T220956
CREATED:20260205T104945Z
LAST-MODIFIED:20260205T111858Z
UID:10013833-1771333200-1771338600@motalasjostad.se
SUMMARY:Forma!
DESCRIPTION:Kan en spis vara ett konstverk? Hur liten kan en hästfigur egentligen bli? Och hur gör man en skulptur av en dödskalle? Vi fokuserar på den fantastiska\, märkliga och roliga tredimensionella konsten i slottet. Sedan är det vår tur! I verkstaden går vi loss med tänger\, vajer och folie och skulpterar fram egna verkliga och overkliga varelser att ta med hem.
URL:https://motalasjostad.se/ec-event/forma/2026-02-17/
LOCATION:Charlottenborgs slott\, Strandvägen 71\, Motala\, 591 46\, Sweden
CATEGORIES:Barn/ungdom
ATTACH;FMTTYPE=image/webp:https://motalasjostad.se/wp-content/uploads/2026/02/forma.webp
END:VEVENT
BEGIN:VEVENT
DTSTART;TZID=Europe/Paris:20260217T120000
DTEND;TZID=Europe/Paris:20260217T150000
DTSTAMP:20260424T220956
CREATED:20260123T110217Z
LAST-MODIFIED:20260123T110217Z
UID:10013753-1771329600-1771340400@motalasjostad.se
SUMMARY:CV-verkstad med Fältarna
DESCRIPTION:Du som går i högstadiet och gymnasiet kan få hjälp med att skriva CV/personligt brev av Fältarna. Drop-in.
URL:https://motalasjostad.se/ec-event/cv-verkstad-med-faltarna-4/
LOCATION:Motala huvudbibliotek
CATEGORIES:Barn/ungdom
ATTACH;FMTTYPE=image/png:https://motalasjostad.se/wp-content/uploads/2026/01/CV-verkstad-Kul-i-Motala.png
END:VEVENT
BEGIN:VEVENT
DTSTART;TZID=Europe/Paris:20260217T110000
DTEND;TZID=Europe/Paris:20260217T140000
DTSTAMP:20260424T220956
CREATED:20260205T104154Z
LAST-MODIFIED:20260205T104154Z
UID:10013831-1771326000-1771336800@motalasjostad.se
SUMMARY:Sportlovsaktivitet!
DESCRIPTION:Prova på längdskidåkning! \nMotala AIF skidor\, Fritidsbanken och Bostadsstiftelsen Platen inbjuder till att prova på längdskidåkning på Motalas första konstgjorda längdskidspår på B-planen. \nVi lånar ut skidor\, stavar\, pjäxor och bjuder på grillkorv och dricka(för dom som provar). \nHoppas ni kommer. \nWebplats : https://www.motalaaifskidor.se/
URL:https://motalasjostad.se/ec-event/sportlovsaktivitet/2026-02-17/
LOCATION:Motala Idrottspark\, Bangårdsgatan 3\, Motala\, Östergötland\, 59135
CATEGORIES:Barn/ungdom,Sportevenemang
ATTACH;FMTTYPE=image/jpeg:https://motalasjostad.se/wp-content/uploads/2026/02/skidakning-e1770288107636.jpg
ORGANIZER;CN="Motala AIF%2C Fritidsbanken%2C Bostastiftelsen Platen":MAILTO:michael.thoren@motala.se
END:VEVENT
BEGIN:VEVENT
DTSTART;TZID=Europe/Paris:20260217T110000
DTEND;TZID=Europe/Paris:20260217T130000
DTSTAMP:20260424T220956
CREATED:20260210T112407Z
LAST-MODIFIED:20260210T112407Z
UID:10013855-1771326000-1771333200@motalasjostad.se
SUMMARY:Prova på boxning på sportlovet.
DESCRIPTION:Välkommen på mysigt häng i Relaxen\, för dig över 12 år! \nPris: Simhallsentré (varierande beroende på ålder)
URL:https://motalasjostad.se/ec-event/prova-pa-boxning-pa-sportlovet-2/
LOCATION:Simhallen Motala\, Östermalmsgatan\, Motala
CATEGORIES:Barn/ungdom
ATTACH;FMTTYPE=image/webp:https://motalasjostad.se/wp-content/uploads/2026/02/relaxen-mys.webp
END:VEVENT
BEGIN:VEVENT
DTSTART;TZID=Europe/Paris:20260217T110000
DTEND;TZID=Europe/Paris:20260217T130000
DTSTAMP:20260424T220956
CREATED:20260123T110301Z
LAST-MODIFIED:20260123T110301Z
UID:10013752-1771326000-1771333200@motalasjostad.se
SUMMARY:Quiz på tema film
DESCRIPTION:Från 7 år. Utmana dina kompisar i ett roligt quiz\, liknande Kahoot\, om filmkunskap och visa vad du kan om just filmer\, kändisar och olika sätt att filma! Drop-in.
URL:https://motalasjostad.se/ec-event/quiz-pa-tema-film/
LOCATION:Motala huvudbibliotek
CATEGORIES:Barn/ungdom
ATTACH;FMTTYPE=image/png:https://motalasjostad.se/wp-content/uploads/2026/01/Quiz-film.png
END:VEVENT
BEGIN:VEVENT
DTSTART;TZID=Europe/Paris:20260217T103000
DTEND;TZID=Europe/Paris:20260217T120000
DTSTAMP:20260424T220956
CREATED:20260121T113054Z
LAST-MODIFIED:20260121T113054Z
UID:10013723-1771324200-1771329600@motalasjostad.se
SUMMARY:Digitala första hjälpen
DESCRIPTION:Välkommen till vår drop-in där vi svarar på dina grundläggande frågor om IT. Ta gärna med din telefon\, surfplatta eller laptop. Här kan du även få hjälp med att hantera Konsumentverkets hemsida.
URL:https://motalasjostad.se/ec-event/digitala-forsta-hjalpen-71/2026-02-17/
LOCATION:Motala huvudbibliotek
CATEGORIES:Övriga evenemang
ATTACH;FMTTYPE=image/png:https://motalasjostad.se/wp-content/uploads/2026/01/DFH-e1768995049814.png
END:VEVENT
BEGIN:VEVENT
DTSTART;TZID=Europe/Paris:20260217T100000
DTEND;TZID=Europe/Paris:20260217T150000
DTSTAMP:20260424T220956
CREATED:20260213T090645Z
LAST-MODIFIED:20260213T091759Z
UID:10013875-1771322400-1771340400@motalasjostad.se
SUMMARY:Prova på skidor i Krassbäck
DESCRIPTION:Godegårds SK öppnar upp sin anläggning hela vecka 8\, lördag-söndag 14-22 februari\, i Krassbäck\, Godegård mellan klockan 10:00-15:00. Här kan man testa på skidåkning\, grilla\, fika\, åka pulka och njuta av naturen. Det finns skidor och pjäxor att låna\, café är öppet och grillen är tänd. Ta med hela familjen och ha en fin dag i Krassbäck. Pulkabacken är öppen också! Det behövs ingen föranmälan. \nPlats: Krassbäck\, Godegård SK klubbhus\nDag: Lördag-söndag 14-22 februari.\nTid: 10:00-15:00\nKostnad: Gratis\nIngen föranmälan\nDet finns skidor att låna \nVarmt Välkomna\nGodegård SK
URL:https://motalasjostad.se/ec-event/prova-pa-skidor-i-krassback/2026-02-17/
LOCATION:Krassbäck\, Godegård 304\, Motala
CATEGORIES:Barn/ungdom,Sportevenemang
ATTACH;FMTTYPE=image/webp:https://motalasjostad.se/wp-content/uploads/2026/02/spoprtlovsvecka.webp
END:VEVENT
BEGIN:VEVENT
DTSTART;TZID=Europe/Paris:20260216T170000
DTEND;TZID=Europe/Paris:20260216T180000
DTSTAMP:20260424T220956
CREATED:20260210T111547Z
LAST-MODIFIED:20260210T111547Z
UID:10013852-1771261200-1771264800@motalasjostad.se
SUMMARY:Prova på boxning på sportlovet.
DESCRIPTION:Boxningsklubben 30 öppnar upp sin nya boxningslokal för alla i åldern 9-14 år på måndag och onsdag klockan 17:00-18:00 på sportlovet. Tjejer och killar\, kom och testa på vår idrott med våra duktiga ledare. Ta med idrottskläder. Behövs ingen föranmälan.Dag: måndag och onsdag på sportlovet\nMålgrupp: Tjejer och killar 9-14 år\nIngen anmälan.\nTa med idrottskläder. \nVarmt välkomna BK30 \nVi som möjliggör detta är Bostadsstiftelsen Platen\, Motala Kommun\, RF SISU Östergötland och föreningen.
URL:https://motalasjostad.se/ec-event/prova-pa-boxning-pa-sportlovet/2026-02-16/
LOCATION:Boxningslokalen BK 30\, Verkstadsvägen 79\, Motala
CATEGORIES:Barn/ungdom
ATTACH;FMTTYPE=image/webp:https://motalasjostad.se/wp-content/uploads/2026/02/boxning.webp
ORGANIZER;CN="BK30%2C Bostadsstiftelsen Platen%2C RF SISU %C3%96sterg%C3%B6tland":MAILTO:motalaboxningsklubb@gmail.com
END:VEVENT
BEGIN:VEVENT
DTSTART;TZID=Europe/Paris:20260216T170000
DTEND;TZID=Europe/Paris:20260216T180000
DTSTAMP:20260424T220956
CREATED:20260123T105344Z
LAST-MODIFIED:20260123T105344Z
UID:10013765-1771261200-1771264800@motalasjostad.se
SUMMARY:Bokcafé
DESCRIPTION:Personalen tipsar om nya böcker. Vi ger varandra boktips\, fikar och har det trevligt. Ingen anmälan.
URL:https://motalasjostad.se/ec-event/bokcafe-11/
LOCATION:Borensbergs Bibliotek\, Husbyvägen 13\, Borensberg\, 59175
CATEGORIES:Övriga evenemang
ATTACH;FMTTYPE=image/png:https://motalasjostad.se/wp-content/uploads/2026/01/BBG-Bokcafe.png
END:VEVENT
BEGIN:VEVENT
DTSTART;TZID=Europe/Paris:20260216T140000
DTEND;TZID=Europe/Paris:20260216T160000
DTSTAMP:20260424T220956
CREATED:20260123T104037Z
LAST-MODIFIED:20260123T104037Z
UID:10013780-1771250400-1771257600@motalasjostad.se
SUMMARY:Bokcirkel
DESCRIPTION:Vi träffas och samtalar om Frälsarens nya gymnastikskor av Sebastian Avindell. För mer information\, besök personalen på bibliotekets bemannade öppettider eller maila på bibliotek.tjallmo@motala.se. Biblioteket bjuder på kaffe och te. Ta gärna med eget fikabröd.
URL:https://motalasjostad.se/ec-event/bokcirkel-7/
LOCATION:Tjällmo bibliotek\, Länsvägen\, Tjällmo\, 59190\, Sverige
CATEGORIES:Övriga evenemang
ATTACH;FMTTYPE=image/png:https://motalasjostad.se/wp-content/uploads/2026/01/Tjallmo-Bokcirkel.png
END:VEVENT
BEGIN:VEVENT
DTSTART;TZID=Europe/Paris:20260216T130000
DTEND;TZID=Europe/Paris:20260216T160000
DTSTAMP:20260424T220956
CREATED:20260123T110330Z
LAST-MODIFIED:20260123T110330Z
UID:10013751-1771246800-1771257600@motalasjostad.se
SUMMARY:Skapa Stop motion
DESCRIPTION:Från ca 8 år. Är du sugen på att göra en Stop motion-film? Välj bland olika bakgrunder\, karaktärer eller ta med eget så hjälper vi dig att skapa en liten animerad kortfilm! Drop-in i mån av plats.
URL:https://motalasjostad.se/ec-event/skapa-stop-motion/
LOCATION:Motala huvudbibliotek
CATEGORIES:Barn/ungdom
ATTACH;FMTTYPE=image/png:https://motalasjostad.se/wp-content/uploads/2026/01/Stop-motion.png
END:VEVENT
BEGIN:VEVENT
DTSTART;TZID=Europe/Paris:20260216T130000
DTEND;TZID=Europe/Paris:20260216T150000
DTSTAMP:20260424T220956
CREATED:20260213T100449Z
LAST-MODIFIED:20260213T100449Z
UID:10013892-1771246800-1771254000@motalasjostad.se
SUMMARY:Sportlovsmuralen
DESCRIPTION:Vad ska du hitta på under lovet? Fyll vårt vinterlandskap på slottet med snöbollskastare\, skidåkare\, varm choklad och istappar i ett gemensamt jättecollage som dekorerar slottet under veckan. Drop-in mellan 13 och 15! Du är med så länge du vill.
URL:https://motalasjostad.se/ec-event/sportlovsmuralen/
LOCATION:Charlottenborgs slott\, Strandvägen 71\, Motala\, 591 46\, Sweden
CATEGORIES:Barn/ungdom
ATTACH;FMTTYPE=image/webp:https://motalasjostad.se/wp-content/uploads/2026/02/sportlovsmuralen.webp
END:VEVENT
BEGIN:VEVENT
DTSTART;TZID=Europe/Paris:20260216T120000
DTEND;TZID=Europe/Paris:20260216T160000
DTSTAMP:20260424T220956
CREATED:20260213T092236Z
LAST-MODIFIED:20260213T094647Z
UID:10013881-1771243200-1771257600@motalasjostad.se
SUMMARY:Lös POÄNGJAKTEN
DESCRIPTION:Lös POÄNGJAKTEN på Charlottenborgs slott på Sportlovet.\nSamla poäng genom att lösa uppdrag och hitta ledtrådar i slottets rum och skrymslen. Skissa och gissa\, leta och hitta dig fram till en god belöning. \nUppdragsblad finns i receptionen under hela slottets öppettider vecka 8.
URL:https://motalasjostad.se/ec-event/los-poangjakten/2026-02-16/
LOCATION:Charlottenborgs slott\, Strandvägen 71\, Motala\, 591 46\, Sweden
CATEGORIES:Barn/ungdom
ATTACH;FMTTYPE=image/webp:https://motalasjostad.se/wp-content/uploads/2026/02/poangjakt.webp
END:VEVENT
BEGIN:VEVENT
DTSTART;TZID=Europe/Paris:20260216T103000
DTEND;TZID=Europe/Paris:20260216T120000
DTSTAMP:20260424T220956
CREATED:20260121T113156Z
LAST-MODIFIED:20260121T113156Z
UID:10013720-1771237800-1771243200@motalasjostad.se
SUMMARY:Våga fråga om det digitala
DESCRIPTION:DigidelCenter bjuder in till tre tematillfällen där vi kommer prata om allt från vad du bör tänka på när du handlar online till varför behövs inloggning och lösenord. Du kan komma på alla tre tillfällen eller endast det som låter mest intressant. Ingen anmälan. Ej drop-in. Vi bjuder på fika.
URL:https://motalasjostad.se/ec-event/vaga-fraga-om-det-digitala-3/2026-02-16/
LOCATION:Motala huvudbibliotek
CATEGORIES:Övriga evenemang
ATTACH;FMTTYPE=image/png:https://motalasjostad.se/wp-content/uploads/2026/01/Vaga-fraga-om-det-digitala-e1768995110924.png
END:VEVENT
BEGIN:VEVENT
DTSTART;TZID=Europe/Paris:20260216T100000
DTEND;TZID=Europe/Paris:20260216T150000
DTSTAMP:20260424T220956
CREATED:20260213T090645Z
LAST-MODIFIED:20260213T091759Z
UID:10013880-1771236000-1771254000@motalasjostad.se
SUMMARY:Prova på skidor i Krassbäck
DESCRIPTION:Godegårds SK öppnar upp sin anläggning hela vecka 8\, lördag-söndag 14-22 februari\, i Krassbäck\, Godegård mellan klockan 10:00-15:00. Här kan man testa på skidåkning\, grilla\, fika\, åka pulka och njuta av naturen. Det finns skidor och pjäxor att låna\, café är öppet och grillen är tänd. Ta med hela familjen och ha en fin dag i Krassbäck. Pulkabacken är öppen också! Det behövs ingen föranmälan. \nPlats: Krassbäck\, Godegård SK klubbhus\nDag: Lördag-söndag 14-22 februari.\nTid: 10:00-15:00\nKostnad: Gratis\nIngen föranmälan\nDet finns skidor att låna \nVarmt Välkomna\nGodegård SK
URL:https://motalasjostad.se/ec-event/prova-pa-skidor-i-krassback/2026-02-16/
LOCATION:Krassbäck\, Godegård 304\, Motala
CATEGORIES:Barn/ungdom,Sportevenemang
ATTACH;FMTTYPE=image/webp:https://motalasjostad.se/wp-content/uploads/2026/02/spoprtlovsvecka.webp
END:VEVENT
BEGIN:VEVENT
DTSTART;TZID=Europe/Paris:20260216T090000
DTEND;TZID=Europe/Paris:20260216T104500
DTSTAMP:20260424T220956
CREATED:20260123T103827Z
LAST-MODIFIED:20260123T103827Z
UID:10013782-1771232400-1771238700@motalasjostad.se
SUMMARY:Bio på bibblan - Sune i fjällen
DESCRIPTION:Rekommenderad ålder från 7 år. Sune och hans familj ska till fjällen för där är Sophie med en annan kille. Men ingen i Sunes familj kan åka skidor hur ska det gå? Speltid: 92 minuter. Anmäl dig på biblioteket eller på mail till bibliotek.tjallmo@motala.se. Begränsat antal platser först till kvarn
URL:https://motalasjostad.se/ec-event/bio-pa-bibblan-sune-i-fjallen/
LOCATION:Tjällmo bibliotek\, Länsvägen\, Tjällmo\, 59190\, Sverige
CATEGORIES:Barn/ungdom
ATTACH;FMTTYPE=image/png:https://motalasjostad.se/wp-content/uploads/2026/01/Bio-pa-bibblan-1-e1769164693265.png
END:VEVENT
BEGIN:VEVENT
DTSTART;TZID=Europe/Paris:20260215T130000
DTEND;TZID=Europe/Paris:20260215T160000
DTSTAMP:20260424T220956
CREATED:20260128T090350Z
LAST-MODIFIED:20260128T090350Z
UID:10013802-1771160400-1771171200@motalasjostad.se
SUMMARY:Konstutställning med Grafiska Rummet
DESCRIPTION:Grafiska rummet är en konstnärsgrupp verksam i K-Ringens grafikverkstad\, och som har grafiken som ett av flera konstnärliga uttryckssätt. I den här utställningen deltar tio av gruppens medlemmar och visar grafik som utförts i olika tekniker\, framför allt collografi och koppartryck
URL:https://motalasjostad.se/ec-event/konstutstallning-med-grafiska-rummet/2026-02-15/
LOCATION:Dubergska gården\, Bispmotalagatan 34\, Motala\, 59130
ATTACH;FMTTYPE=image/jpeg:https://motalasjostad.se/wp-content/uploads/2026/01/Grafiska-rummet-tom-bild-e1769591022303.jpg
ORGANIZER;CN="Motala Konstf%C3%B6rening":MAILTO:info@motalakonstforening.se
END:VEVENT
BEGIN:VEVENT
DTSTART;TZID=Europe/Paris:20260215T100000
DTEND;TZID=Europe/Paris:20260215T150000
DTSTAMP:20260424T220956
CREATED:20260213T091119Z
LAST-MODIFIED:20260213T091119Z
UID:10013874-1771149600-1771167600@motalasjostad.se
SUMMARY:Barnens Vasalopp
DESCRIPTION:Godegårds SK arrangerar Barnens Vasalopp i Krassbäck\, Godegård söndagen den 15 februari klockan 10:00-15:00. Skidloppet är 1 km långt\, men man åker så långt man vill. Det finns skidor att låna\, café är öppet och grillen är tänd. Ta med hela familjen och ha en fin dag i Krassbäck. Det behövs ingen föranmälan. \nPlats: Krassbäck\, Godegård SK klubbhus\nKostnad: Gratis\nIngen föranmälan\nDet finns skidor att låna \nVarmt Välkomna\nGodegård SK
URL:https://motalasjostad.se/ec-event/barnens-vasalopp/
LOCATION:Krassbäck\, Godegård 304\, Motala
CATEGORIES:Barn/ungdom,Sportevenemang
ATTACH;FMTTYPE=image/webp:https://motalasjostad.se/wp-content/uploads/2026/02/spoprtlovsvecka-1.webp
END:VEVENT
END:VCALENDAR