BEGIN:VCALENDAR
VERSION:2.0
PRODID:-//Motala Sjöstad - ECPv6.13.2.1//NONSGML v1.0//EN
CALSCALE:GREGORIAN
METHOD:PUBLISH
X-WR-CALNAME:Motala Sjöstad
X-ORIGINAL-URL:https://motalasjostad.se
X-WR-CALDESC:Händelser för Motala Sjöstad
REFRESH-INTERVAL;VALUE=DURATION:PT1H
X-Robots-Tag:noindex
X-PUBLISHED-TTL:PT1H
BEGIN:VTIMEZONE
TZID:Europe/Paris
BEGIN:DAYLIGHT
TZOFFSETFROM:+0100
TZOFFSETTO:+0200
TZNAME:CEST
DTSTART:20260329T010000
END:DAYLIGHT
BEGIN:STANDARD
TZOFFSETFROM:+0200
TZOFFSETTO:+0100
TZNAME:CET
DTSTART:20261025T010000
END:STANDARD
END:VTIMEZONE
BEGIN:VEVENT
DTSTART;TZID=Europe/Paris:20260216T120000
DTEND;TZID=Europe/Paris:20260216T160000
DTSTAMP:20260425T014135
CREATED:20260213T092236Z
LAST-MODIFIED:20260213T094647Z
UID:10013881-1771243200-1771257600@motalasjostad.se
SUMMARY:Lös POÄNGJAKTEN
DESCRIPTION:Lös POÄNGJAKTEN på Charlottenborgs slott på Sportlovet.\nSamla poäng genom att lösa uppdrag och hitta ledtrådar i slottets rum och skrymslen. Skissa och gissa\, leta och hitta dig fram till en god belöning. \nUppdragsblad finns i receptionen under hela slottets öppettider vecka 8.
URL:https://motalasjostad.se/ec-event/los-poangjakten/2026-02-16/
LOCATION:Charlottenborgs slott\, Strandvägen 71\, Motala\, 591 46\, Sweden
CATEGORIES:Barn/ungdom
ATTACH;FMTTYPE=image/webp:https://motalasjostad.se/wp-content/uploads/2026/02/poangjakt.webp
END:VEVENT
BEGIN:VEVENT
DTSTART;TZID=Europe/Paris:20260216T103000
DTEND;TZID=Europe/Paris:20260216T120000
DTSTAMP:20260425T014135
CREATED:20260121T113156Z
LAST-MODIFIED:20260121T113156Z
UID:10013720-1771237800-1771243200@motalasjostad.se
SUMMARY:Våga fråga om det digitala
DESCRIPTION:DigidelCenter bjuder in till tre tematillfällen där vi kommer prata om allt från vad du bör tänka på när du handlar online till varför behövs inloggning och lösenord. Du kan komma på alla tre tillfällen eller endast det som låter mest intressant. Ingen anmälan. Ej drop-in. Vi bjuder på fika.
URL:https://motalasjostad.se/ec-event/vaga-fraga-om-det-digitala-3/2026-02-16/
LOCATION:Motala huvudbibliotek
CATEGORIES:Övriga evenemang
ATTACH;FMTTYPE=image/png:https://motalasjostad.se/wp-content/uploads/2026/01/Vaga-fraga-om-det-digitala-e1768995110924.png
END:VEVENT
BEGIN:VEVENT
DTSTART;TZID=Europe/Paris:20260216T100000
DTEND;TZID=Europe/Paris:20260216T150000
DTSTAMP:20260425T014135
CREATED:20260213T090645Z
LAST-MODIFIED:20260213T091759Z
UID:10013880-1771236000-1771254000@motalasjostad.se
SUMMARY:Prova på skidor i Krassbäck
DESCRIPTION:Godegårds SK öppnar upp sin anläggning hela vecka 8\, lördag-söndag 14-22 februari\, i Krassbäck\, Godegård mellan klockan 10:00-15:00. Här kan man testa på skidåkning\, grilla\, fika\, åka pulka och njuta av naturen. Det finns skidor och pjäxor att låna\, café är öppet och grillen är tänd. Ta med hela familjen och ha en fin dag i Krassbäck. Pulkabacken är öppen också! Det behövs ingen föranmälan. \nPlats: Krassbäck\, Godegård SK klubbhus\nDag: Lördag-söndag 14-22 februari.\nTid: 10:00-15:00\nKostnad: Gratis\nIngen föranmälan\nDet finns skidor att låna \nVarmt Välkomna\nGodegård SK
URL:https://motalasjostad.se/ec-event/prova-pa-skidor-i-krassback/2026-02-16/
LOCATION:Krassbäck\, Godegård 304\, Motala
CATEGORIES:Barn/ungdom,Sportevenemang
ATTACH;FMTTYPE=image/webp:https://motalasjostad.se/wp-content/uploads/2026/02/spoprtlovsvecka.webp
END:VEVENT
BEGIN:VEVENT
DTSTART;TZID=Europe/Paris:20260216T090000
DTEND;TZID=Europe/Paris:20260216T104500
DTSTAMP:20260425T014135
CREATED:20260123T103827Z
LAST-MODIFIED:20260123T103827Z
UID:10013782-1771232400-1771238700@motalasjostad.se
SUMMARY:Bio på bibblan - Sune i fjällen
DESCRIPTION:Rekommenderad ålder från 7 år. Sune och hans familj ska till fjällen för där är Sophie med en annan kille. Men ingen i Sunes familj kan åka skidor hur ska det gå? Speltid: 92 minuter. Anmäl dig på biblioteket eller på mail till bibliotek.tjallmo@motala.se. Begränsat antal platser först till kvarn
URL:https://motalasjostad.se/ec-event/bio-pa-bibblan-sune-i-fjallen/
LOCATION:Tjällmo bibliotek\, Länsvägen\, Tjällmo\, 59190\, Sverige
CATEGORIES:Barn/ungdom
ATTACH;FMTTYPE=image/png:https://motalasjostad.se/wp-content/uploads/2026/01/Bio-pa-bibblan-1-e1769164693265.png
END:VEVENT
BEGIN:VEVENT
DTSTART;TZID=Europe/Paris:20260215T130000
DTEND;TZID=Europe/Paris:20260215T160000
DTSTAMP:20260425T014135
CREATED:20260128T090350Z
LAST-MODIFIED:20260128T090350Z
UID:10013802-1771160400-1771171200@motalasjostad.se
SUMMARY:Konstutställning med Grafiska Rummet
DESCRIPTION:Grafiska rummet är en konstnärsgrupp verksam i K-Ringens grafikverkstad\, och som har grafiken som ett av flera konstnärliga uttryckssätt. I den här utställningen deltar tio av gruppens medlemmar och visar grafik som utförts i olika tekniker\, framför allt collografi och koppartryck
URL:https://motalasjostad.se/ec-event/konstutstallning-med-grafiska-rummet/2026-02-15/
LOCATION:Dubergska gården\, Bispmotalagatan 34\, Motala\, 59130
ATTACH;FMTTYPE=image/jpeg:https://motalasjostad.se/wp-content/uploads/2026/01/Grafiska-rummet-tom-bild-e1769591022303.jpg
ORGANIZER;CN="Motala Konstf%C3%B6rening":MAILTO:info@motalakonstforening.se
END:VEVENT
BEGIN:VEVENT
DTSTART;TZID=Europe/Paris:20260215T100000
DTEND;TZID=Europe/Paris:20260215T150000
DTSTAMP:20260425T014135
CREATED:20260213T091119Z
LAST-MODIFIED:20260213T091119Z
UID:10013874-1771149600-1771167600@motalasjostad.se
SUMMARY:Barnens Vasalopp
DESCRIPTION:Godegårds SK arrangerar Barnens Vasalopp i Krassbäck\, Godegård söndagen den 15 februari klockan 10:00-15:00. Skidloppet är 1 km långt\, men man åker så långt man vill. Det finns skidor att låna\, café är öppet och grillen är tänd. Ta med hela familjen och ha en fin dag i Krassbäck. Det behövs ingen föranmälan. \nPlats: Krassbäck\, Godegård SK klubbhus\nKostnad: Gratis\nIngen föranmälan\nDet finns skidor att låna \nVarmt Välkomna\nGodegård SK
URL:https://motalasjostad.se/ec-event/barnens-vasalopp/
LOCATION:Krassbäck\, Godegård 304\, Motala
CATEGORIES:Barn/ungdom,Sportevenemang
ATTACH;FMTTYPE=image/webp:https://motalasjostad.se/wp-content/uploads/2026/02/spoprtlovsvecka-1.webp
END:VEVENT
BEGIN:VEVENT
DTSTART;TZID=Europe/Paris:20260214T210000
DTEND;TZID=Europe/Paris:20260214T210000
DTSTAMP:20260425T014135
CREATED:20260108T113338Z
LAST-MODIFIED:20260108T113338Z
UID:10013702-1771102800-1771102800@motalasjostad.se
SUMMARY:Ebba Gold
DESCRIPTION:Dörrarna öppnar 19:00\n\n\n\n\nEarly bird finns!\nEbba Gold kommer och tar oss igenom Thåströms alla klassiker nu med en egen alldeles färsk release ”Alltid rött alltid rätt”.\nBiljetter\nwww.tickster\,com/se/sv/events/zczv5uv07vxc3pf/2026-02-24/ebba-gold-800-thastrom
URL:https://motalasjostad.se/ec-event/ebba-gold/
LOCATION:Bomber Bar\, Prästgatan 3\, Motala\, 591 30\, Sweden
CATEGORIES:Musik
ATTACH;FMTTYPE=image/jpeg:https://motalasjostad.se/wp-content/uploads/2026/01/Ebba-gold.jpg
END:VEVENT
BEGIN:VEVENT
DTSTART;TZID=Europe/Paris:20260214T200000
DTEND;TZID=Europe/Paris:20260214T213000
DTSTAMP:20260425T014135
CREATED:20251028T075626Z
LAST-MODIFIED:20251028T075709Z
UID:10013497-1771099200-1771104600@motalasjostad.se
SUMMARY:Carl Stanley -Ursäkta min skånska
DESCRIPTION:Han har kallats en av de bästa\, en fantastisk kåsör och så skicklig att det är omöjligt att inte älska hans standup. Nu firar publikfavoriten Carl Stanley tio år som standup-komiker med soloföreställningen “Ursäkta min skånska”. Det blir en standupshow med humor från hjärtat\, om bland annat rådjur\, barn\, jeans\, giftermål\, en stöld och att bli vuxen på riktigt. \n”Ursäkta Min Skånska” hade premiär på Lunds stadsteater den 28/2 2025 och nu står det klart att turnén förlängs under 2026 med flera extraföreställningar och nya orter. \nFöreställningens längd är ca 90 minuter utan paus. \nIngen åldersgräns men showen rekommenderas från 16 år. \nEntrédörrarna öppnar kl 19. Vänligen kom i god tid för att hänga av era ytterkläder i garderoben\, 30kr/ytterplagg.
URL:https://motalasjostad.se/ec-event/carl-stanley-ursakta-min-skanska/
LOCATION:Teatersalongen Motala Folkets Hus\, Repslagaretagatan 3\, Motala\, 59130
CATEGORIES:Teater & show
ATTACH;FMTTYPE=image/jpeg:https://motalasjostad.se/wp-content/uploads/2025/10/carl-stanley-e1761638226835.jpg
END:VEVENT
BEGIN:VEVENT
DTSTART;TZID=Europe/Paris:20260214T120000
DTEND;TZID=Europe/Paris:20260215T160000
DTSTAMP:20260425T014135
CREATED:20260206T111819Z
LAST-MODIFIED:20260206T111819Z
UID:10013844-1771070400-1771171200@motalasjostad.se
SUMMARY:Konstutställning
DESCRIPTION:Årets första utställare på Galleri K-ringen är Peter Adbåge!Pågår 31/1 – 22/2. lör-sön 12-16\, tors 16-18Varmt välkomna!
URL:https://motalasjostad.se/ec-event/konstutstallning-11/2026-02-14/
LOCATION:Kulturverkstan K-Ringen
CATEGORIES:Utställning
ATTACH;FMTTYPE=image/jpeg:https://motalasjostad.se/wp-content/uploads/2026/02/peter-adbage-2.jpg
END:VEVENT
BEGIN:VEVENT
DTSTART;TZID=Europe/Paris:20260214T110000
DTEND;TZID=Europe/Paris:20260214T150000
DTSTAMP:20260425T014135
CREATED:20260128T090350Z
LAST-MODIFIED:20260128T090350Z
UID:10013801-1771066800-1771081200@motalasjostad.se
SUMMARY:Konstutställning med Grafiska Rummet
DESCRIPTION:Grafiska rummet är en konstnärsgrupp verksam i K-Ringens grafikverkstad\, och som har grafiken som ett av flera konstnärliga uttryckssätt. I den här utställningen deltar tio av gruppens medlemmar och visar grafik som utförts i olika tekniker\, framför allt collografi och koppartryck
URL:https://motalasjostad.se/ec-event/konstutstallning-med-grafiska-rummet/2026-02-14/
LOCATION:Dubergska gården\, Bispmotalagatan 34\, Motala\, 59130
ATTACH;FMTTYPE=image/jpeg:https://motalasjostad.se/wp-content/uploads/2026/01/Grafiska-rummet-tom-bild-e1769591022303.jpg
ORGANIZER;CN="Motala Konstf%C3%B6rening":MAILTO:info@motalakonstforening.se
END:VEVENT
BEGIN:VEVENT
DTSTART;TZID=Europe/Paris:20260214T100000
DTEND;TZID=Europe/Paris:20260214T150000
DTSTAMP:20260425T014135
CREATED:20260213T090645Z
LAST-MODIFIED:20260213T091759Z
UID:10013872-1771063200-1771081200@motalasjostad.se
SUMMARY:Prova på skidor i Krassbäck
DESCRIPTION:Godegårds SK öppnar upp sin anläggning hela vecka 8\, lördag-söndag 14-22 februari\, i Krassbäck\, Godegård mellan klockan 10:00-15:00. Här kan man testa på skidåkning\, grilla\, fika\, åka pulka och njuta av naturen. Det finns skidor och pjäxor att låna\, café är öppet och grillen är tänd. Ta med hela familjen och ha en fin dag i Krassbäck. Pulkabacken är öppen också! Det behövs ingen föranmälan. \nPlats: Krassbäck\, Godegård SK klubbhus\nDag: Lördag-söndag 14-22 februari.\nTid: 10:00-15:00\nKostnad: Gratis\nIngen föranmälan\nDet finns skidor att låna \nVarmt Välkomna\nGodegård SK
URL:https://motalasjostad.se/ec-event/prova-pa-skidor-i-krassback/2026-02-14/
LOCATION:Krassbäck\, Godegård 304\, Motala
CATEGORIES:Barn/ungdom,Sportevenemang
ATTACH;FMTTYPE=image/webp:https://motalasjostad.se/wp-content/uploads/2026/02/spoprtlovsvecka.webp
END:VEVENT
BEGIN:VEVENT
DTSTART;TZID=Europe/Paris:20260214T090000
DTEND;TZID=Europe/Paris:20260214T200000
DTSTAMP:20260425T014135
CREATED:20260210T110642Z
LAST-MODIFIED:20260210T110642Z
UID:10013851-1771059600-1771099200@motalasjostad.se
SUMMARY:Motala Futsalcup 2026
DESCRIPTION:Motala Futsalcup arrangeras i Motala Sporthall och Vätternrunda Arena den 14:e och 15:e februari. Kom gärna och se på härlig futsal i åldrarna 2010-2015. Det kostar 50 kronor i entré (barn under 9 år gratis).  Det kommer lag från hela Sverige. Ta med kompisar och heja fram Motala Futsal. \nPlats: Motala Sporthall och Vätternrunda Arena\nDag: 14/2 och 15/2\nTid: 9:00-20:00\nKostnad: 50 kronor\, barn under 9 år gratis. \nVarmt välkomna\nMotala Futsal
URL:https://motalasjostad.se/ec-event/motala-futsalcup-2026/
LOCATION:Motala Sporthall A-hall och Vätternrunda arena\, Motala
CATEGORIES:Barn/ungdom,Sportevenemang
ATTACH;FMTTYPE=image/webp:https://motalasjostad.se/wp-content/uploads/2026/02/futsal-cup.webp
ORGANIZER;CN="Motala Futsal":MAILTO:motalafutsalklubb@outlook.com
END:VEVENT
BEGIN:VEVENT
DTSTART;TZID=Europe/Paris:20260213T190000
DTEND;TZID=Europe/Paris:20260213T190000
DTSTAMP:20260425T014135
CREATED:20260122T112826Z
LAST-MODIFIED:20260122T112826Z
UID:10013747-1771009200-1771009200@motalasjostad.se
SUMMARY:Quiz Wettermagasinet
DESCRIPTION:Wohoo! Efterlängtat av många! YouHeys Quiz är tillbaka med quiz hos oss igen! \n100kr/lag( max6 personer) Vinnarlaget vinner presentkort hos oss! Vi erbjuder en quizmeny\, och en härlig kväll! Boka bord redan nu! \nTema: Djur & 1974. \nQuizmaster: Ulf-Henrik Östlund \nVarmt välkommen!
URL:https://motalasjostad.se/ec-event/quiz-wettermagasinet/
LOCATION:Wtetternmagasinet\, Platensgatan 4\, Motala
CATEGORIES:Musik
ATTACH;FMTTYPE=image/jpeg:https://motalasjostad.se/wp-content/uploads/2026/01/quiz-wetternmagasinet-e1769081298466.jpg
END:VEVENT
BEGIN:VEVENT
DTSTART;TZID=Europe/Paris:20260213T163000
DTEND;TZID=Europe/Paris:20260213T183000
DTSTAMP:20260425T014135
CREATED:20260211T093007Z
LAST-MODIFIED:20260211T093007Z
UID:10013861-1771000200-1771007400@motalasjostad.se
SUMMARY:Disco - Bill o Bulls Lekland
DESCRIPTION:❤️✨ Alla hjärtans dag‑disco! ✨❤️\nDen 13 februari släcker vi ner Leklandet och bjuder in till disco\, tipspromenad\, pyssel och fotohörna — för alla åldrar! \n🍿 Fiskedamm\, popcorn\, godis & dricka finns att köpa. \n🌸Inträde 120kr för barn \n🌸Vuxen går in gratis med barn \nKom och fira kärlek\, vänskap och massa skoj! 💖
URL:https://motalasjostad.se/ec-event/disco-bill-o-bulls-lekland/
LOCATION:Bill & Bulls Lekland\, Mineralvägen 16\, Motala\, 591\, Sweden
CATEGORIES:Barn/ungdom
ATTACH;FMTTYPE=image/jpeg:https://motalasjostad.se/wp-content/uploads/2026/02/Screenshot_20260210_192043_Gallery-e1770802199465.jpg
ORGANIZER;CN="Bill &amp%3B Bulls Lekland":MAILTO:info@billobulls.se
END:VEVENT
BEGIN:VEVENT
DTSTART;TZID=Europe/Paris:20260212T170000
DTEND;TZID=Europe/Paris:20260212T190000
DTSTAMP:20260425T014135
CREATED:20260121T112751Z
LAST-MODIFIED:20260121T112751Z
UID:10013731-1770915600-1770922800@motalasjostad.se
SUMMARY:Språkträning
DESCRIPTION:På Motala huvudbibliotek finns möjligheten att få hjälp med att träna på det svenska språket\, tyda krångliga brev\, skriva jobbansökningar med mera.\nI samarbete med Folkuniversitetet.
URL:https://motalasjostad.se/ec-event/spraktraning-42/2026-02-12/
LOCATION:Motala huvudbibliotek
CATEGORIES:Övriga evenemang
ATTACH;FMTTYPE=image/png:https://motalasjostad.se/wp-content/uploads/2026/01/Spraktraning-e1768994862527.png
END:VEVENT
BEGIN:VEVENT
DTSTART;TZID=Europe/Paris:20260212T160000
DTEND;TZID=Europe/Paris:20260212T180000
DTSTAMP:20260425T014135
CREATED:20260206T110017Z
LAST-MODIFIED:20260206T110017Z
UID:10013840-1770912000-1770919200@motalasjostad.se
SUMMARY:Konstutställning
DESCRIPTION:Årets första utställare på Galleri K-ringen är Peter Adbåge!Pågår 31/1 – 22/2. lör-sön 12-16\, tors 16-18Varmt välkomna!
URL:https://motalasjostad.se/ec-event/konstutstallning-10/2026-02-12/
LOCATION:Kulturverkstan K-Ringen
CATEGORIES:Utställning
ATTACH;FMTTYPE=image/jpeg:https://motalasjostad.se/wp-content/uploads/2026/02/peter-adbage.jpg
END:VEVENT
BEGIN:VEVENT
DTSTART;TZID=Europe/Paris:20260212T160000
DTEND;TZID=Europe/Paris:20260212T170000
DTSTAMP:20260425T014135
CREATED:20260123T110358Z
LAST-MODIFIED:20260123T110358Z
UID:10013750-1770912000-1770915600@motalasjostad.se
SUMMARY:Barnens bokval
DESCRIPTION:Hjälp oss att välja nya böcker att köpa till biblioteket! Träffa oss som arbetar med barnlitteratur och var med och bestäm vad vi ska köpa. Vi spanar och läser om vilka nya böcker som finns och som kommer att komma ut. Sist men inte minst väljer och säger du vad du tycker – din röst räknas! Tillsammans hittar vi de bästa böckerna för alla barn. Ingen anmälan.
URL:https://motalasjostad.se/ec-event/barnens-bokval-10/
LOCATION:Motala huvudbibliotek
CATEGORIES:Barn/ungdom
ATTACH;FMTTYPE=image/png:https://motalasjostad.se/wp-content/uploads/2026/01/Barnens-bokval.png
END:VEVENT
BEGIN:VEVENT
DTSTART;TZID=Europe/Paris:20260212T140000
DTEND;TZID=Europe/Paris:20260212T160000
DTSTAMP:20260425T014135
CREATED:20260123T104203Z
LAST-MODIFIED:20260123T104203Z
UID:10013776-1770904800-1770912000@motalasjostad.se
SUMMARY:Handarbeta på bibblan
DESCRIPTION:Ta med dig ditt handarbete och kom till bibblan för en trevlig stund. Biblioteket bjuder på kaffe och te. Ta gärna med eget fikabröd. Ingen anmälan.
URL:https://motalasjostad.se/ec-event/handarbeta-pa-bibblan-25/2026-02-12/
LOCATION:Tjällmo bibliotek\, Länsvägen\, Tjällmo\, 59190\, Sverige
CATEGORIES:Övriga evenemang
ATTACH;FMTTYPE=image/png:https://motalasjostad.se/wp-content/uploads/2026/01/Tjallmo-handarbetscafe.png
END:VEVENT
BEGIN:VEVENT
DTSTART;TZID=Europe/Paris:20260212T130000
DTEND;TZID=Europe/Paris:20260212T140000
DTSTAMP:20260425T014135
CREATED:20260123T104114Z
LAST-MODIFIED:20260123T104114Z
UID:10013779-1770901200-1770904800@motalasjostad.se
SUMMARY:Nyfiken på nya böcker
DESCRIPTION:Välkommen till biblioteket för att titta på vilka böcker som snart kommer att ges ut. Biblioteket bjuder på kaffe och te. Ta gärna med eget fikabröd. Ingen anmälan.
URL:https://motalasjostad.se/ec-event/nyfiken-pa-nya-bocker-7/
LOCATION:Tjällmo bibliotek\, Länsvägen\, Tjällmo\, 59190\, Sverige
CATEGORIES:Övriga evenemang
ATTACH;FMTTYPE=image/png:https://motalasjostad.se/wp-content/uploads/2026/01/Tjallmo-nyfiken-pa-nya-bocker.png
END:VEVENT
BEGIN:VEVENT
DTSTART;TZID=Europe/Paris:20260212T100000
DTEND;TZID=Europe/Paris:20260212T103000
DTSTAMP:20260425T014135
CREATED:20260123T104438Z
LAST-MODIFIED:20260123T104438Z
UID:10013772-1770890400-1770892200@motalasjostad.se
SUMMARY:Bokstund
DESCRIPTION:För barn 0 – 2 år och deras vuxna. Vi läser sagor\, sjunger och ramsar tillsammans. Vi ger dig boktips för att stötta barnets språkutveckling med hjälp av böcker tidigt i livet. Givetvis är syskon också välkomna. Träffen är på meröppettid\, insläpp sker vid klockan 10.00. Ta gärna med matsäck om du vill fika efteråt. Vi önskar att grupper föranmäler på biblioteket eller på 0141-22 58 75.
URL:https://motalasjostad.se/ec-event/bokstund-13/2026-02-12/
LOCATION:Borensbergs Bibliotek\, Husbyvägen 13\, Borensberg\, 59175
CATEGORIES:Barn/ungdom
ATTACH;FMTTYPE=image/png:https://motalasjostad.se/wp-content/uploads/2026/01/BBG-Bokstund.png
END:VEVENT
BEGIN:VEVENT
DTSTART;TZID=Europe/Paris:20260211T140000
DTEND;TZID=Europe/Paris:20260211T153000
DTSTAMP:20260425T014135
CREATED:20260121T112851Z
LAST-MODIFIED:20260121T112851Z
UID:10013726-1770818400-1770823800@motalasjostad.se
SUMMARY:Digitala första hjälpen
DESCRIPTION:Välkommen till vår drop-in där vi svarar på dina grundläggande frågor om IT. Ta gärna med din telefon\, surfplatta eller laptop. Här kan du även få hjälp med att hantera Konsumentverkets hemsida.
URL:https://motalasjostad.se/ec-event/digitala-forsta-hjalpen-70/2026-02-11/
LOCATION:Motala huvudbibliotek
CATEGORIES:Övriga evenemang
ATTACH;FMTTYPE=image/png:https://motalasjostad.se/wp-content/uploads/2026/01/DFH-1-e1768994923790.png
END:VEVENT
BEGIN:VEVENT
DTSTART;TZID=Europe/Paris:20260211T140000
DTEND;TZID=Europe/Paris:20260211T150000
DTSTAMP:20260425T014135
CREATED:20251216T103426Z
LAST-MODIFIED:20251216T103426Z
UID:10013681-1770818400-1770822000@motalasjostad.se
SUMMARY:Rådhuset\, Poppelhem och Villastaden
DESCRIPTION:Ett av Motalas finaste kvarter förr var villastaden och området kring gamla Poppelhem och herr Kapten Ahlboms villa\, idag känt som vårt Rådhus. Vi berättar om gamla tider och de gamla husen\, Poppelgatans storhetstid och hur allt förändrades när man rev för att bygga genomfarten på 1970-talet. \nTid: \n14.00-15.00 \n16.00-17.00 \n18.00-19.00 \nBiljetter: \nwww.sveciatravels.se/radhuset-poppelhem-villastaden \nBoka alltid din plats\, det är ofta fullbokad!Ring 0141-20 99 00 eller mail till info@sveciatravels.seVälkomna 
URL:https://motalasjostad.se/ec-event/radhuset-poppelhem-och-villastaden/
LOCATION:Svecia Travels kontor\, Poppelgatan 8\, Motala
CATEGORIES:Gudningar och föreläsningar
ATTACH;FMTTYPE=image/jpeg:https://motalasjostad.se/wp-content/uploads/2025/12/radhusetpoppelhem.jpg
ORGANIZER;CN="Svecia Travels Guidningar":MAILTO:info@sveciatravels.se
END:VEVENT
BEGIN:VEVENT
DTSTART;TZID=Europe/Paris:20260210T180000
DTEND;TZID=Europe/Paris:20260210T190000
DTSTAMP:20260425T014135
CREATED:20260121T112312Z
LAST-MODIFIED:20260121T112312Z
UID:10013738-1770746400-1770750000@motalasjostad.se
SUMMARY:Syster - Det speciella syskonskapet
DESCRIPTION:Therése Granwald är författare till boken Syster – en memoar om kärlek\, syskonskap och skuld. I boken berättar hon om sitt liv som syskon till en person med intellektuell funktionsnedsättning. Med utgångspunkt från boken\, delar Therése med sig av sina erfarenheter av att vara anhörig. Hon pratar också om hur vi som är anhöriga tillsammans kan stärka varandra\, finna hopp och framåtrörelse\, samt finnas där för våra kära på ett hållbart vis.\nGratisbiljett finns att hämta på biblioteket. \n 
URL:https://motalasjostad.se/ec-event/syster-det-speciella-syskonskapet/
LOCATION:Motala huvudbibliotek
CATEGORIES:Gudningar och föreläsningar
ATTACH;FMTTYPE=image/png:https://motalasjostad.se/wp-content/uploads/2026/01/Syster-e1768994585493.png
END:VEVENT
BEGIN:VEVENT
DTSTART;TZID=Europe/Paris:20260210T170000
DTEND;TZID=Europe/Paris:20260210T190000
DTSTAMP:20260425T014135
CREATED:20260121T112751Z
LAST-MODIFIED:20260121T112751Z
UID:10013730-1770742800-1770750000@motalasjostad.se
SUMMARY:Språkträning
DESCRIPTION:På Motala huvudbibliotek finns möjligheten att få hjälp med att träna på det svenska språket\, tyda krångliga brev\, skriva jobbansökningar med mera.\nI samarbete med Folkuniversitetet.
URL:https://motalasjostad.se/ec-event/spraktraning-42/2026-02-10/
LOCATION:Motala huvudbibliotek
CATEGORIES:Övriga evenemang
ATTACH;FMTTYPE=image/png:https://motalasjostad.se/wp-content/uploads/2026/01/Spraktraning-e1768994862527.png
END:VEVENT
BEGIN:VEVENT
DTSTART;TZID=Europe/Paris:20260210T153000
DTEND;TZID=Europe/Paris:20260210T163000
DTSTAMP:20260425T014135
CREATED:20260123T110426Z
LAST-MODIFIED:20260123T110426Z
UID:10013749-1770737400-1770741000@motalasjostad.se
SUMMARY:Låt spelet börja! - Brädspelet The Mind
DESCRIPTION:Från 8 år. En gång i månaden testar vi tillsammans några av alla spel vi har på biblioteket. Denna gång provar vi brädspelet The Mind. Samarbeta med dina medspelare för att spela korten i rätt nummerordning utan att prata. Fokusera och läs dina medspelares tankar! 2–4 spelare. Ingen anmälan.
URL:https://motalasjostad.se/ec-event/lat-spelet-borja-bradspelet-the-mind/
LOCATION:Motala huvudbibliotek
CATEGORIES:Barn/ungdom
ATTACH;FMTTYPE=image/png:https://motalasjostad.se/wp-content/uploads/2026/01/Lat-spelet-borja.png
END:VEVENT
BEGIN:VEVENT
DTSTART;TZID=Europe/Paris:20260210T103000
DTEND;TZID=Europe/Paris:20260210T120000
DTSTAMP:20260425T014135
CREATED:20260121T113054Z
LAST-MODIFIED:20260121T113054Z
UID:10013722-1770719400-1770724800@motalasjostad.se
SUMMARY:Digitala första hjälpen
DESCRIPTION:Välkommen till vår drop-in där vi svarar på dina grundläggande frågor om IT. Ta gärna med din telefon\, surfplatta eller laptop. Här kan du även få hjälp med att hantera Konsumentverkets hemsida.
URL:https://motalasjostad.se/ec-event/digitala-forsta-hjalpen-71/2026-02-10/
LOCATION:Motala huvudbibliotek
CATEGORIES:Övriga evenemang
ATTACH;FMTTYPE=image/png:https://motalasjostad.se/wp-content/uploads/2026/01/DFH-e1768995049814.png
END:VEVENT
BEGIN:VEVENT
DTSTART;TZID=Europe/Paris:20260210T093000
DTEND;TZID=Europe/Paris:20260210T100000
DTSTAMP:20260425T014135
CREATED:20260123T105106Z
LAST-MODIFIED:20260123T105106Z
UID:10013769-1770715800-1770717600@motalasjostad.se
SUMMARY:Saga och sång
DESCRIPTION:Från 2 år. Vi läser sagor och sjunger. Givetvis är syskon också välkomna. Ta gärna med matsäck om du vill fika efteråt. Vi önskar att grupper för-anmäler på biblioteket eller på 0141-22 58 75.
URL:https://motalasjostad.se/ec-event/saga-och-sang-15/2026-02-10/
LOCATION:Borensbergs Bibliotek\, Husbyvägen 13\, Borensberg\, 59175
CATEGORIES:Barn/ungdom
ATTACH;FMTTYPE=image/png:https://motalasjostad.se/wp-content/uploads/2026/01/BBG-Saga-och-sang.png
END:VEVENT
BEGIN:VEVENT
DTSTART;TZID=Europe/Paris:20260209T193000
DTEND;TZID=Europe/Paris:20260209T203000
DTSTAMP:20260425T014135
CREATED:20260120T102431Z
LAST-MODIFIED:20260120T102606Z
UID:10013716-1770665400-1770669000@motalasjostad.se
SUMMARY:Mina bästa vandringar i västra Östergötland
DESCRIPTION:Föreläsning med Fredrik Neregård där han tar oss med på vandringar i vår del av Östergötland. Öppen föreläsning för alla\, inget krav på medlemskap i Svenska turistföreningen (STF). Han berättar om sina vandringar och vi får tips och inspiration att själva ge oss ut på äventyr. Fredrik Neregård har skrivit flera böcker om vandring i olika delar av landet. \n(Föreläsningen startar efter STF Folkungas årsmöte) \n 
URL:https://motalasjostad.se/ec-event/mina-basta-vandringar-i-vastra-ostergotland/
LOCATION:Frisksportstugan\, Biskopsvägen 37\, Råssnäs\, Motala\, Sweden
CATEGORIES:Gudningar och föreläsningar
ATTACH;FMTTYPE=image/jpeg:https://motalasjostad.se/wp-content/uploads/2026/01/vandring-host-lagland-familj-e1768904762746.jpg
ORGANIZER;CN="STF Folkunga":MAILTO:stf.folkunga@la.stfturist.se
END:VEVENT
BEGIN:VEVENT
DTSTART;TZID=Europe/Paris:20260209T160000
DTEND;TZID=Europe/Paris:20260209T180000
DTSTAMP:20260425T014135
CREATED:20260123T110453Z
LAST-MODIFIED:20260123T110453Z
UID:10013748-1770652800-1770660000@motalasjostad.se
SUMMARY:Prova på schack
DESCRIPTION:Från 8 år. Vill du prova på och lära dig mer om att spela schack? Motala schacksällskap finns på plats på biblioteket och visar. Drop-in.
URL:https://motalasjostad.se/ec-event/prova-pa-schack-13/
LOCATION:Motala huvudbibliotek
CATEGORIES:Barn/ungdom
ATTACH;FMTTYPE=image/jpeg:https://motalasjostad.se/wp-content/uploads/2026/01/Prova-pa-schack.jpg
END:VEVENT
BEGIN:VEVENT
DTSTART;TZID=Europe/Paris:20260209T103000
DTEND;TZID=Europe/Paris:20260209T120000
DTSTAMP:20260425T014135
CREATED:20260121T113156Z
LAST-MODIFIED:20260121T113156Z
UID:10013719-1770633000-1770638400@motalasjostad.se
SUMMARY:Våga fråga om det digitala
DESCRIPTION:DigidelCenter bjuder in till tre tematillfällen där vi kommer prata om allt från vad du bör tänka på när du handlar online till varför behövs inloggning och lösenord. Du kan komma på alla tre tillfällen eller endast det som låter mest intressant. Ingen anmälan. Ej drop-in. Vi bjuder på fika.
URL:https://motalasjostad.se/ec-event/vaga-fraga-om-det-digitala-3/2026-02-09/
LOCATION:Motala huvudbibliotek
CATEGORIES:Övriga evenemang
ATTACH;FMTTYPE=image/png:https://motalasjostad.se/wp-content/uploads/2026/01/Vaga-fraga-om-det-digitala-e1768995110924.png
END:VEVENT
END:VCALENDAR