BEGIN:VCALENDAR
VERSION:2.0
PRODID:-//Motala Sjöstad - ECPv6.13.2.1//NONSGML v1.0//EN
CALSCALE:GREGORIAN
METHOD:PUBLISH
X-ORIGINAL-URL:https://motalasjostad.se
X-WR-CALDESC:Händelser för Motala Sjöstad
REFRESH-INTERVAL;VALUE=DURATION:PT1H
X-Robots-Tag:noindex
X-PUBLISHED-TTL:PT1H
BEGIN:VTIMEZONE
TZID:Europe/Paris
BEGIN:DAYLIGHT
TZOFFSETFROM:+0100
TZOFFSETTO:+0200
TZNAME:CEST
DTSTART:20250330T010000
END:DAYLIGHT
BEGIN:STANDARD
TZOFFSETFROM:+0200
TZOFFSETTO:+0100
TZNAME:CET
DTSTART:20251026T010000
END:STANDARD
BEGIN:DAYLIGHT
TZOFFSETFROM:+0100
TZOFFSETTO:+0200
TZNAME:CEST
DTSTART:20260329T010000
END:DAYLIGHT
BEGIN:STANDARD
TZOFFSETFROM:+0200
TZOFFSETTO:+0100
TZNAME:CET
DTSTART:20261025T010000
END:STANDARD
END:VTIMEZONE
BEGIN:VEVENT
DTSTART;TZID=Europe/Paris:20251226T150000
DTEND;TZID=Europe/Paris:20251226T170000
DTSTAMP:20260425T175500
CREATED:20251217T105505Z
LAST-MODIFIED:20251217T105505Z
UID:10013685-1766761200-1766768400@motalasjostad.se
SUMMARY:Juldisco
DESCRIPTION:Juldisco för barn. \nVi bjuder på snacks och dricka. \nPris till bästa utklädnad. \nFör vem: Barn 0-12 år. \nGodis regn! \nVälkomna!
URL:https://motalasjostad.se/ec-event/juldisco/
LOCATION:Södergården\, Holmsvägen 9\, Motala
CATEGORIES:Barn/ungdom
ATTACH;FMTTYPE=image/jpeg:https://motalasjostad.se/wp-content/uploads/2025/12/juldisco-e1765968900443.jpg
END:VEVENT
BEGIN:VEVENT
DTSTART;TZID=Europe/Paris:20251224T113000
DTEND;TZID=Europe/Paris:20251224T163000
DTSTAMP:20260425T175500
CREATED:20251125T101207Z
LAST-MODIFIED:20251125T101207Z
UID:10013576-1766575800-1766593800@motalasjostad.se
SUMMARY:Julcafé
DESCRIPTION:Hur firar du jul i år?Du vet väl om att dörren står öppen till vårt traditionsenliga Julcafé i Församlingshemmet i Motala. Här blandas julens toner\, dofter och smaker med värmande gemenskap. Liten som stor\, alla får plats på årets julfirande. Kom som du är\, kom ensam\, med familjen eller med vänner\, släkt och grannar. Tillsammans ser vi till att julen är för alla.\nJulafton 24 decemberDrop-inKostnadsfritt
URL:https://motalasjostad.se/ec-event/julcafe/
LOCATION:Församlingshemmet\, Sjögatan 9\, Motala
CATEGORIES:Mat & Dryck,Övriga evenemang
ATTACH;FMTTYPE=image/jpeg:https://motalasjostad.se/wp-content/uploads/2025/11/julcafe.jpg
END:VEVENT
BEGIN:VEVENT
DTSTART;TZID=Europe/Paris:20251221T180000
DTEND;TZID=Europe/Paris:20251221T200000
DTSTAMP:20260425T175500
CREATED:20251204T075841Z
LAST-MODIFIED:20251204T075841Z
UID:10013654-1766340000-1766347200@motalasjostad.se
SUMMARY:Julkonsert "Nu tändas tusen juleljus"
DESCRIPTION:Vi sjunger in julens sånger tillsammans med sångare och musiker. Solister: Elin Johansson\, Erik & Ulf Backman\, Karolina & Petter Gustavsson Hölne. Insamling till Majblomman\, lotterier\, glögg och pepparkaka.
URL:https://motalasjostad.se/ec-event/julkonsert-nu-tandas-tusen-juleljus-2/
LOCATION:Equmeniakyrkan Furulid\, Badstrandsvägen 8\, Motala\, 59170\, Sweden
CATEGORIES:Musik
ATTACH;FMTTYPE=image/jpeg:https://motalasjostad.se/wp-content/uploads/2025/12/Julkonsert-251221-FB-16-9.jpg
ORGANIZER;CN="Equmeniakyrkan Furulid":MAILTO:ingmarie@equmeniakyrkanmotala.se
END:VEVENT
BEGIN:VEVENT
DTSTART;TZID=Europe/Paris:20251221T150000
DTEND;TZID=Europe/Paris:20251221T170000
DTSTAMP:20260425T175500
CREATED:20251218T102612Z
LAST-MODIFIED:20251218T102730Z
UID:10013687-1766329200-1766336400@motalasjostad.se
SUMMARY:Tomtevandring
DESCRIPTION:Friluftsfrämjandet Borensberg hälsar alla välkomna till en mysig stund i skogen. Tomtefar och tomtemor har lovat att komma förbi och ta emot önskelistor. Kanske svansar även Mulle förbi en stund?\nMan kan gå sagostigen\, spela tomtebingo eller bara sitta vid brasan en stund och andas in lite julstämning.\nVi håller eldarna tända så att ni kan grilla er medhavda korv eller annat gott. I samarbete med ICA Borensberg bjuder vi på glögg och pepparkakor.\nÄven om vi tänder marschaller och ljusslingor så är det mörkt i skogen\, så ta på er reflexer och ta med pannlampan.\nEvenemanget är gratis och öppet för alla. Den som ändå vill bidra till vår verksamhet och underhåll av Stigsjölägret finns möjlighet att Swisha en slant.\nVarmt välkomna!
URL:https://motalasjostad.se/ec-event/tomtevandring/
LOCATION:Stigsjölägret\, Borensberg
CATEGORIES:Barn/ungdom,Övriga evenemang
ATTACH;FMTTYPE=image/jpeg:https://motalasjostad.se/wp-content/uploads/2025/12/tomtrvandring-e1766053647922.jpg
END:VEVENT
BEGIN:VEVENT
DTSTART;VALUE=DATE:20251221
DTEND;VALUE=DATE:20251222
DTSTAMP:20260425T175500
CREATED:20251218T103830Z
LAST-MODIFIED:20251218T103906Z
UID:10013686-1766275200-1766361599@motalasjostad.se
SUMMARY:Julmarknad 21/12 Kl 10-15
DESCRIPTION:Manges ost chark\, Fiskbil\, Kryddoteket\, \nFrancesco Camarda Italienska delikateser \nBrända mandlar\, Häst sko konst\, Putsmedel\,
URL:https://motalasjostad.se/ec-event/julmarknad-21-12-kl-10-15/
LOCATION:Blomsterglädje\, Södra Freberga\, Motala
CATEGORIES:Övriga evenemang
ATTACH;FMTTYPE=image/jpeg:https://motalasjostad.se/wp-content/uploads/2025/12/blomstergladje-e1766054342901.jpg
ORGANIZER;CN="Blomstergl%C3%A4dje":MAILTO:lillen1962@hotmail.com
END:VEVENT
BEGIN:VEVENT
DTSTART;TZID=Europe/Paris:20251220T110000
DTEND;TZID=Europe/Paris:20251220T110000
DTSTAMP:20260425T175500
CREATED:20251030T105227Z
LAST-MODIFIED:20251030T105323Z
UID:10013517-1766228400-1766228400@motalasjostad.se
SUMMARY:Juldoppet i Varamon2025
DESCRIPTION:Prick kl11 kastar sig alla glada orädda tomtar i Vätterns svalkande härliga vatten. Förra årets 200 badande tomtar ska vi väl slå i år?Välkomna tomtar och publik!\nPS. Skänk gärna en liten slant till vårt Sjöräddningssällskap som gör en livsviktig insats. Swish 900 5000. Märk betalning med Vadstena/Motala
URL:https://motalasjostad.se/ec-event/juldoppet-i-varamon2025/
LOCATION:Varamon\, Restaurang Sjövik\, Solskensvägen 8\, Motala
CATEGORIES:Övriga evenemang
ATTACH;FMTTYPE=image/jpeg:https://motalasjostad.se/wp-content/uploads/2025/10/juldoppet-2025-e1761821600227.jpg
END:VEVENT
BEGIN:VEVENT
DTSTART;TZID=Europe/Paris:20251219T210000
DTEND;TZID=Europe/Paris:20251219T210000
DTSTAMP:20260425T175500
CREATED:20250710T070120Z
LAST-MODIFIED:20250710T070208Z
UID:10007662-1766178000-1766178000@motalasjostad.se
SUMMARY:Coca Carola på Bomber Bar
DESCRIPTION:Coca Carola\nAktuella med 10” vinylen ”När sen är försent” som släpps i slutet av september.\nEftersom de tänkt fortsätta köra lite till\, inte bara vill spela låtar från förr och aldrig gjort en\n10” vinyl så skrev Winberg och Curre ihop låtar som under våren spelats in.\nFå band i landet\, om ens något\, är som Coca Carola det levande beviset på vikten av\nenvishet och jävlar anamma.\nFrån den lite vingliga starten 1986 som ett gäng leftovers och rejects till att bli ett av Sveriges\nmest populära punkband. Alltid med viljan och envisheten att göra saker och ska nåt bli gjort\när det lika bra att göra det själva.\nBiljetter:www.tickster.com
URL:https://motalasjostad.se/ec-event/coca-carola-pa-bomber-bar/
LOCATION:Bomber Bar\, Prästgatan 3\, Motala\, 591 30\, Sweden
CATEGORIES:Musik
ATTACH;FMTTYPE=image/jpeg:https://motalasjostad.se/wp-content/uploads/2025/07/Coca-carola-2025.jpg
ORGANIZER;CN="Bomber Bar Motala och Coca Carola":MAILTO:bomberbarmotala@gmail.com
END:VEVENT
BEGIN:VEVENT
DTSTART;TZID=Europe/Paris:20251219T190000
DTEND;TZID=Europe/Paris:20251219T204500
DTSTAMP:20260425T175500
CREATED:20250926T084840Z
LAST-MODIFIED:20250926T115711Z
UID:10009634-1766170800-1766177100@motalasjostad.se
SUMMARY:Juletid 2025
DESCRIPTION:I Juletid” levererar julkänsla ännu ett år – Årets Gästartist är Sonja Aldén\nSveriges mest omfattande Julturné som spridit julstämning\, gemenskap och musikalisk glädje i över 20 år är ”I Juletid” tillbaka även i år.Att få leverera en konsertupplevelse med sann julkänsla\, till vår trogna och fantastiska publik gör oss både glada och otroligt stolta.\nI år kommer vi\, tillsammans med vår gästartist\, den folkkära Sonja Aldén\, att få möta publiken ännu en gång. Att ha med oss en av Sveriges mest älskade artister\, med hennes strålande karisma och röst\, känns som en garanti för att få till en sann julkänsla som går rakt in i hjärtat på det svenska folket.\nSonja Aldén är en av Sveriges mest folkkära sångerskor. Det stora genombrottet kom i Melodifestivalen 2007 där hon tog sig hela vägen till final med jättehiten “För att du finns”.\nLåten kom att slå flera rekord och utsågs bland annat till “Årets låt” på Svensktoppen där denabonnerade på förstaplatsen i över ett halvår.\nEfter succén i Melodifestivalen släpptes debutalbumet “Till Dig”\, som sålde guld och belönades med ett flertal Grammisnomineringar samt gav Sonja en Rockbjörn i den prestigefulla kategorin “Årets Kvinnliga Artist”.\nSedan dess har hon hunnit ge ut ytterligare fem album och turnerar flitigt över hela Sverige.\nVi är så glada att välkomna Sonja till ”I Juletid” och ser fram emot att skapa en minnesvärd kväll i såväl kyrkor som teatrar och konserthus.\nVarmt Välkomna\, hoppas vi ses!Marcos Ubeda & Magnus Johansson\nSpeltid: kl. 19:00 vardagar\,Längd: ca 90 min utan pausLedsagare går fritt\nHemsida: www.guppy.nuTurnéproducent: Guppy Entertainment\n\n\n\n\n\n\nBiljetter\nsecure.tickster.com/c3899w70echm5ud
URL:https://motalasjostad.se/ec-event/juletid-2025/
LOCATION:Klockrike Kyrka\, Klockrike\, 591 78
CATEGORIES:Musik
ATTACH;FMTTYPE=image/jpeg:https://motalasjostad.se/wp-content/uploads/2025/09/juletid.jpg
ORGANIZER;CN="Guppy  Entertainment%2C Creativity by Jaiston":MAILTO:info@guppy.nu
END:VEVENT
BEGIN:VEVENT
DTSTART;VALUE=DATE:20251219
DTEND;VALUE=DATE:20260108
DTSTAMP:20260425T175500
CREATED:20251128T122903Z
LAST-MODIFIED:20251128T122903Z
UID:10013618-1766102400-1767830399@motalasjostad.se
SUMMARY:Nissejakt i Motala centrum
DESCRIPTION:Tomtens nissar har tagit lite för tidig semester från tomteverkstan i år. Nu behöver du ta upp jakten efter dem. Senast man såg till de\, höll de till på stadens torg men nu ryktas det att de gömt sig i affärernas skyltfönster\, för att undvika allt julstök. Promenera runt i centrum och leta reda på i vilka skyltfönster nissarna har gömt sig i. Du behöver inte gå in i affärerna för nissarna sitter med all säkerhet och tittar ut på alla människor som stressar förbi. Talong finns att hämta på biblioteket och i Gallerian. Lämna din ifyllda talong i brevlådan som finns inne i Gallerian för chans att vinna priser.\nEtt samarbete mellan Motala centrum\, Tillväxt Motala och Motala bibliotek. \n 
URL:https://motalasjostad.se/ec-event/nissejakt-i-motala-centrum/
LOCATION:Motala huvudbibliotek
CATEGORIES:Barn/ungdom
ATTACH;FMTTYPE=image/png:https://motalasjostad.se/wp-content/uploads/2025/11/Nissejakt-e1764332936481.png
END:VEVENT
BEGIN:VEVENT
DTSTART;VALUE=DATE:20251219
DTEND;VALUE=DATE:20260108
DTSTAMP:20260425T175500
CREATED:20251127T124229Z
LAST-MODIFIED:20251127T124229Z
UID:10013615-1766102400-1767830399@motalasjostad.se
SUMMARY:Julläsbingo för barn
DESCRIPTION:För dig mellan 6-12 år. Passa på att fylla lediga lovstunder med härlig läsning! Läs minst 20 minuter per tillfälle och kryssa därefter i en cirkel.\nNär brickan är helt fylld lämna in den till ditt bibliotek och få en present.
URL:https://motalasjostad.se/ec-event/jullasbingo-for-barn/
LOCATION:Motala Bibliotek
CATEGORIES:Barn/ungdom
ATTACH;FMTTYPE=image/png:https://motalasjostad.se/wp-content/uploads/2025/11/Jullasbingo-e1764247343493.png
END:VEVENT
BEGIN:VEVENT
DTSTART;TZID=Europe/Paris:20251218T170000
DTEND;TZID=Europe/Paris:20251218T200000
DTSTAMP:20260425T175500
CREATED:20251212T090919Z
LAST-MODIFIED:20251212T090919Z
UID:10013670-1766077200-1766088000@motalasjostad.se
SUMMARY:Tomtenatta i Motala centrum
DESCRIPTION:Den 18 december är det dags för Tomtenatta i Motala centrum – en kväll med extraöppet till klockan 20 och det perfekta tillfället att fixa de sista julklapparna! \nKlockan 19.30 är det dragning i jultävlingen ”Juljakten”\, så passa på att samla dina sista stämplar och lämna in stämpelkortet i Gallerian under kvällen för chans att vinna fina priser! För att vinna måste du vara på plats!\nButikerna\, salongerna och övriga aktörer har fina erbjudanden och tävlingar under kvällen.\nI Gallerian finns möjlighet att träffa tomten\, testa fiskdammen\, gå på julmarknad på nedre plan och massa annat.\nTa med dig partnern\, familjen\, vännerna eller någon annan och julmys i Motala centrum!\n—-Evenemanget arrangeras i samarbete mellan Motala centrums nätverk\, Gallerian\, Tillväxt Motala och Carlsunds försäljnings- och serviceprogram.
URL:https://motalasjostad.se/ec-event/tomtenatta-i-motala-centrum-2/
LOCATION:Motala centrum\, Motala
CATEGORIES:Övriga evenemang
ATTACH;FMTTYPE=image/jpeg:https://motalasjostad.se/wp-content/uploads/2025/12/tomtenatta-1.jpg
END:VEVENT
BEGIN:VEVENT
DTSTART;TZID=Europe/Paris:20251218T170000
DTEND;TZID=Europe/Paris:20251218T190000
DTSTAMP:20260425T175500
CREATED:20251126T113727Z
LAST-MODIFIED:20251126T113727Z
UID:10013590-1766077200-1766084400@motalasjostad.se
SUMMARY:Språkträning
DESCRIPTION:På Motala huvudbibliotek finns möjligheten att få hjälp med att träna på det svenska språket\, tyda krångliga brev\, skriva jobbansökningar med mera. I samarbete med Folkuniversitetet \n 
URL:https://motalasjostad.se/ec-event/spraktraning-41/2025-12-18/
LOCATION:Motala huvudbibliotek
CATEGORIES:Övriga evenemang
ATTACH;FMTTYPE=image/png:https://motalasjostad.se/wp-content/uploads/2025/11/Spraktraning-HT-25-e1764157035137.png
END:VEVENT
BEGIN:VEVENT
DTSTART;TZID=Europe/Paris:20251218T170000
DTEND;TZID=Europe/Paris:20251218T190000
DTSTAMP:20260425T175500
CREATED:20251010T063447Z
LAST-MODIFIED:20251010T063447Z
UID:10013374-1766077200-1766084400@motalasjostad.se
SUMMARY:Julklappskväll i Borensberg
DESCRIPTION:Handla dina sista julklappar med hjärtat – lokalt i Borensberg. \nVåra butiker och salonger håller öppet lite extra och hjälper dig gärna.\nKl.17-19
URL:https://motalasjostad.se/ec-event/julklappskvall-i-borensberg/
LOCATION:Borensberg\, Borensberg
CATEGORIES:Övriga evenemang
ATTACH;FMTTYPE=image/jpeg:https://motalasjostad.se/wp-content/uploads/2025/10/image0-3.jpeg
ORGANIZER;CN="Borensbergs Handel och Turismf%C3%B6rening":MAILTO:Bbgnytt@boremail.com
END:VEVENT
BEGIN:VEVENT
DTSTART;TZID=Europe/Paris:20251218T160000
DTEND;TZID=Europe/Paris:20251218T170000
DTSTAMP:20260425T175500
CREATED:20251126T112413Z
LAST-MODIFIED:20251126T112413Z
UID:10013602-1766073600-1766077200@motalasjostad.se
SUMMARY:Barnens bokval
DESCRIPTION:Hjälp oss att välja nya böcker att köpa till biblioteket! Träffa oss som arbetar med barnlitteratur och var med och bestäm vad vi ska köpa. Vi spanar och läser om vilka nya böcker som finns och som kommer att komma ut. Sist men inte minst väljer och säger du vad du tycker – din röst räknas! Tillsammans hittar vi de bästa böckerna för alla barn. Ingen anmälan.
URL:https://motalasjostad.se/ec-event/barnens-bokval-8/
LOCATION:Motala huvudbibliotek
CATEGORIES:Barn/ungdom
ATTACH;FMTTYPE=image/png:https://motalasjostad.se/wp-content/uploads/2025/11/Barnens-bokval-e1764156246868.png
END:VEVENT
BEGIN:VEVENT
DTSTART;TZID=Europe/Paris:20251217T140000
DTEND;TZID=Europe/Paris:20251217T163000
DTSTAMP:20260425T175500
CREATED:20251126T113824Z
LAST-MODIFIED:20251126T113824Z
UID:10013584-1765980000-1765989000@motalasjostad.se
SUMMARY:Digitala första hjälpen
DESCRIPTION:Välkommen till vår drop-in där vi svarar på dina grundläggande frågor om IT. Ta gärna med din telefon\, surfplatta eller laptop. Här kan du även få hjälp med att hantera Konsumentverkets hemsida.
URL:https://motalasjostad.se/ec-event/digitala-forsta-hjalpen-68/2025-12-17/
LOCATION:Motala huvudbibliotek
CATEGORIES:Övriga evenemang
ATTACH;FMTTYPE=image/png:https://motalasjostad.se/wp-content/uploads/2025/11/DFH-HT25-1-e1764157085598.png
END:VEVENT
BEGIN:VEVENT
DTSTART;TZID=Europe/Paris:20251216T170000
DTEND;TZID=Europe/Paris:20251216T190000
DTSTAMP:20260425T175500
CREATED:20251126T113727Z
LAST-MODIFIED:20251126T113727Z
UID:10013589-1765904400-1765911600@motalasjostad.se
SUMMARY:Språkträning
DESCRIPTION:På Motala huvudbibliotek finns möjligheten att få hjälp med att träna på det svenska språket\, tyda krångliga brev\, skriva jobbansökningar med mera. I samarbete med Folkuniversitetet \n 
URL:https://motalasjostad.se/ec-event/spraktraning-41/2025-12-16/
LOCATION:Motala huvudbibliotek
CATEGORIES:Övriga evenemang
ATTACH;FMTTYPE=image/png:https://motalasjostad.se/wp-content/uploads/2025/11/Spraktraning-HT-25-e1764157035137.png
END:VEVENT
BEGIN:VEVENT
DTSTART;TZID=Europe/Paris:20251216T100000
DTEND;TZID=Europe/Paris:20251216T113000
DTSTAMP:20260425T175500
CREATED:20251126T113916Z
LAST-MODIFIED:20251126T113916Z
UID:10013581-1765879200-1765884600@motalasjostad.se
SUMMARY:Digitala första hjälpen
DESCRIPTION:Välkommen till vår drop-in där vi svarar på dina grundläggande frågor om IT. Ta gärna med din telefon\, surfplatta eller laptop. Här kan du även få hjälp med att hantera Konsumentverkets hemsida. \n 
URL:https://motalasjostad.se/ec-event/digitala-forsta-hjalpen-69/2025-12-16/
LOCATION:Motala huvudbibliotek
CATEGORIES:Övriga evenemang
ATTACH;FMTTYPE=image/png:https://motalasjostad.se/wp-content/uploads/2025/11/DFH-HT25-e1764157145913.png
END:VEVENT
BEGIN:VEVENT
DTSTART;TZID=Europe/Paris:20251216T093000
DTEND;TZID=Europe/Paris:20251216T110000
DTSTAMP:20260425T175500
CREATED:20251126T111854Z
LAST-MODIFIED:20251126T111854Z
UID:10013607-1765877400-1765882800@motalasjostad.se
SUMMARY:Julsagor och julsånger
DESCRIPTION:För barn 0-5 år. Vi tittar på böcker\, sjunger och fikar tillsammans efteråt. Biblioteket bjuder på kaffe och te men ta gärna med egen matsäck. Gäst: Församlingspedagog Kristina Johansson från Svenska kyrkan sjunger med oss. Ingen anmälan. \n 
URL:https://motalasjostad.se/ec-event/julsagor-och-julsanger-2/
LOCATION:Borensbergs Bibliotek\, Husbyvägen 13\, Borensberg\, 59175
CATEGORIES:Barn/ungdom
ATTACH;FMTTYPE=image/png:https://motalasjostad.se/wp-content/uploads/2025/11/Julsagor-och-julsanger-e1764155929348.png
END:VEVENT
BEGIN:VEVENT
DTSTART;TZID=Europe/Paris:20251215T140000
DTEND;TZID=Europe/Paris:20251215T160000
DTSTAMP:20260425T175500
CREATED:20251126T111229Z
LAST-MODIFIED:20251126T111229Z
UID:10013612-1765807200-1765814400@motalasjostad.se
SUMMARY:Bokcirkel
DESCRIPTION:Vi träffas och samtalar om God Jul av Jonas Karlsson. För mer information\, besök personalen på bibliotekets bemannade öppettider eller maila på bibliotek.tjallmo@motala.se. Biblioteket bjuder på kaffe och te. Ta gärna med eget fikabröd.
URL:https://motalasjostad.se/ec-event/bokcirkel-5/
LOCATION:Tjällmo bibliotek\, Länsvägen\, Tjällmo\, 59190\, Sverige
CATEGORIES:Övriga evenemang
ATTACH;FMTTYPE=image/png:https://motalasjostad.se/wp-content/uploads/2025/11/Bokcirkel-Tjallmo-e1764155543501.png
END:VEVENT
BEGIN:VEVENT
DTSTART;TZID=Europe/Paris:20251215T100000
DTEND;TZID=Europe/Paris:20251215T120000
DTSTAMP:20260425T175500
CREATED:20251127T123802Z
LAST-MODIFIED:20251127T123802Z
UID:10013617-1765792800-1765800000@motalasjostad.se
SUMMARY:Våga fråga om det digitala
DESCRIPTION:DigidelCenter har bjudit in till tre tematillfällen där vi pratat om allt från vad du bör tänka på när du handlar online till varför behövs inloggning och lösenord. Denna sista gång svarar vi på dina digitala frågor. Du behöver inte ha deltagit på de två föregående träffarna för att delta. Ingen anmälan. Ej drop-in. Vi bjuder på fika.
URL:https://motalasjostad.se/ec-event/vaga-fraga-om-det-digitala-2/
LOCATION:Motala huvudbibliotek
CATEGORIES:Övriga evenemang
ATTACH;FMTTYPE=image/png:https://motalasjostad.se/wp-content/uploads/2025/11/Vaga-stall-dina-digitala-fragor-e1764247075829.png
END:VEVENT
BEGIN:VEVENT
DTSTART;TZID=Europe/Paris:20251214T150000
DTEND;TZID=Europe/Paris:20251214T170000
DTSTAMP:20260425T175500
CREATED:20251202T090528Z
LAST-MODIFIED:20251202T090613Z
UID:10013650-1765724400-1765731600@motalasjostad.se
SUMMARY:Välkommen på Tomtesmyg
DESCRIPTION:Vill du träffa tomten och hans nissar? \nSöndagen den 14/12 arrangerar Klubb Team LeWa Sport Tomtesmyg i Råssnäs. ta en mysig promenad runt elljusspåret och passa på att lämna önskelistan till tomtefar. Start och mål är vid föreningens klubbstuga och alla barn får bulle och varm saft när de vandrat färdigt. \nVad? Tipspromenad runt elljusspåret(1\,2 km) där tomtefar och hans nissar finns utspridda. \nPris? 40  kronor/barn (inkluderar starttalong till tipspromenad\, något från tomtens säck\, varm saft och bulle). För vuxna som vill fika kommer det att finnas kaffe och bulle för 25 kronor. \n 
URL:https://motalasjostad.se/ec-event/valkommen-pa-tomtesmyg-2/
LOCATION:Team Lewa klubbstuga Råssnäs\, Råssnäs\, Motala
CATEGORIES:Barn/ungdom
ATTACH;FMTTYPE=image/jpeg:https://motalasjostad.se/wp-content/uploads/2025/12/tomtesmyg-e1764666369965.jpg
END:VEVENT
BEGIN:VEVENT
DTSTART;TZID=Europe/Paris:20251214T110000
DTEND;TZID=Europe/Paris:20251214T110000
DTSTAMP:20260425T175500
CREATED:20250710T072847Z
LAST-MODIFIED:20250908T112824Z
UID:10007663-1765710000-1765710000@motalasjostad.se
SUMMARY:Alfons Åberg firar jul
DESCRIPTION:Alfons Åberg funderar på om han verkligen har varit snäll i år\, tänk om tomten inte kommer! Tillsammans med sina vänner Viktor och Milla hjälper han pappa och farmor att julpynta inför den stundande julen. Vi följer med i spänningen innan tomten kommer. Snart är det äntligen julafton! \nEn mysig julföreställning om att längta till julen. Efter Gunilla Bergströms bokfigur Alfons Åberg. \nBaseras på böcker om Alfons Åberg av Gunilla Bergström. \n©Bok-Makaren AB \nManus: Johan Asplund\nRegi: Leif Grönqvist \nEn föreställning i 1 akt\, ca 30 minuter\nRekommenderas från minimumålder 2 år.\nIngen paus. \nArrangör: Teater Bristol\nBiljetter: www.teaterbristol.se
URL:https://motalasjostad.se/ec-event/alfons-aberg-firar-jul/
LOCATION:Teatersalongen Motala Folkets Hus\, Repslagaretagatan 3\, Motala\, 59130
CATEGORIES:Barn/ungdom,Teater & show
ATTACH;FMTTYPE=image/jpeg:https://motalasjostad.se/wp-content/uploads/2025/07/AlfonsFirarLiggande1920x1005-1536x804-1.jpg
END:VEVENT
BEGIN:VEVENT
DTSTART;TZID=Europe/Paris:20251213T200000
DTEND;TZID=Europe/Paris:20251213T230000
DTSTAMP:20260425T175500
CREATED:20251205T075844Z
LAST-MODIFIED:20251205T075949Z
UID:10013655-1765656000-1765666800@motalasjostad.se
SUMMARY:Trubadurkväll
DESCRIPTION:Trubadurkväll med Johan Holmbom. \nVälkomna på en trevlig kväll med mat\, dryck och musik.
URL:https://motalasjostad.se/ec-event/trubadurkvall-3/
LOCATION:Jack Burger´s\, Kungsgatan 5\, Motala
CATEGORIES:Musik
ATTACH;FMTTYPE=image/jpeg:https://motalasjostad.se/wp-content/uploads/2025/12/jack-burgers-e1764921585722.jpg
ORGANIZER;CN="Jack%C2%B4s Burger":MAILTO:info@jacksburger.se
END:VEVENT
BEGIN:VEVENT
DTSTART;TZID=Europe/Paris:20251213T180000
DTEND;TZID=Europe/Paris:20251213T180000
DTSTAMP:20260425T175500
CREATED:20251205T075654Z
LAST-MODIFIED:20251205T075654Z
UID:10013656-1765648800-1765648800@motalasjostad.se
SUMMARY:Motala kyrkas Motettkör
DESCRIPTION:På Luciadagen\, alltså lördagen den 13 december kl 18.00 sjunger Motettkören traditionsenligt in julen i Motala kyrka. Den här gången medverkar också en stråkkvartett under ledning av Anna Ighe samt de två sångsolisterna Clara Hallenberg och Joel Lindberg\, som studerar både på Sång- och pianoakademin i Vadstena och på Musikhögskolan i Örebro.\n\n\nProgrammet består av typiskt svensk musik för den här tiden på året\, med sånger som Gören portarna vida\, Sankta Lucia och Nu tändas tusen juleljus. Samtidigt blir programmet en vandring från advent\, via Lucia och Marias väntan till julnatten och avslutas med de tre vise männen och Betlehemsstjärnan.\n\n\nPassa på att komma och njuta av vår julfina kyrka tillsammans med Motettkören i full julstämning och samtidigt få lite tid för eftertanke och vila!\n\n\nVarmt välkomna!
URL:https://motalasjostad.se/ec-event/motala-kyrkas-motettkor/
LOCATION:Motala Kyrka\, Sjögatan 9\, Motala
CATEGORIES:Musik
ATTACH;FMTTYPE=image/jpeg:https://motalasjostad.se/wp-content/uploads/2025/12/motetekor.jpg
END:VEVENT
BEGIN:VEVENT
DTSTART;TZID=Europe/Paris:20251213T160000
DTEND;TZID=Europe/Paris:20251213T170000
DTSTAMP:20260425T175500
CREATED:20251201T103920Z
LAST-MODIFIED:20251209T114246Z
UID:10013638-1765641600-1765645200@motalasjostad.se
SUMMARY:Lucia och julkonsert
DESCRIPTION:Lucia och Julkonsert \nBarnkören Lollipop och kören hARMONIPatric Lilja\, basMarcus Johansson\, piano\nLuciamingel efteråt\nVarmt välkommen! \nI samarbete med Sensus.
URL:https://motalasjostad.se/ec-event/lucia-och-julkonsert/
LOCATION:Lillkyrkan\, Borensvägen 42\, Motala\, Sweden
CATEGORIES:Musik
ATTACH;FMTTYPE=image/jpeg:https://motalasjostad.se/wp-content/uploads/2025/12/lucia-e1764585607786.jpg
ORGANIZER;CN="Lillkyrkan Svenska kyrkan Motala":MAILTO:motala.forsamling@svenskakyrkan.se
END:VEVENT
BEGIN:VEVENT
DTSTART;TZID=Europe/Paris:20251213T150000
DTEND;TZID=Europe/Paris:20251213T163000
DTSTAMP:20260425T175500
CREATED:20251209T115843Z
LAST-MODIFIED:20251209T115843Z
UID:10013668-1765638000-1765643400@motalasjostad.se
SUMMARY:Morfs Julshow 2025
DESCRIPTION:Varmt välkomna till en stämningsfull och glädjefylld show som firar in julen tillsammans med Motala Ryttarförening. \nLuciatåg och flera härliga uppträdanden i olika former. \nVarmt välkomna!
URL:https://motalasjostad.se/ec-event/morfs-julshow-2025/
LOCATION:Motala Ryttarförening\, Medevivägen 104\, Motala
CATEGORIES:Övriga evenemang,Teater & show
ATTACH;FMTTYPE=image/jpeg:https://motalasjostad.se/wp-content/uploads/2025/12/morfs-julshow-e1765281519490.jpg
ORGANIZER;CN="Motala Ryttarf%C3%B6rening":MAILTO:kontoret@motallafr.com
END:VEVENT
BEGIN:VEVENT
DTSTART;TZID=Europe/Paris:20251213T140000
DTEND;TZID=Europe/Paris:20251213T143000
DTSTAMP:20260425T175500
CREATED:20251126T112501Z
LAST-MODIFIED:20251126T112501Z
UID:10013601-1765634400-1765636200@motalasjostad.se
SUMMARY:Sagor på tigrinska
DESCRIPTION:För dig som är ca 3-8 år. Vi träffas en lördag i månaden för att lyssna på berättelser på tigrinska. Ingen anmälan.
URL:https://motalasjostad.se/ec-event/sagor-pa-tigrinska-15/
LOCATION:Motala huvudbibliotek
CATEGORIES:Barn/ungdom
ATTACH;FMTTYPE=image/png:https://motalasjostad.se/wp-content/uploads/2025/11/Sagostund-pa-tigrinska-e1764156292893.png
END:VEVENT
BEGIN:VEVENT
DTSTART;TZID=Europe/Paris:20251213T130000
DTEND;TZID=Europe/Paris:20251213T133000
DTSTAMP:20260425T175500
CREATED:20251126T112555Z
LAST-MODIFIED:20251126T112555Z
UID:10013600-1765630800-1765632600@motalasjostad.se
SUMMARY:Sagor på arabiska
DESCRIPTION:För dig som är ca 3-8 år. Vi träffas en lördag i månaden för att lyssna på berättelser på arabiska. Ingen anmälan.
URL:https://motalasjostad.se/ec-event/sagor-pa-arabiska-18/
LOCATION:Motala huvudbibliotek
CATEGORIES:Barn/ungdom
ATTACH;FMTTYPE=image/png:https://motalasjostad.se/wp-content/uploads/2025/11/Arabisk-sagostund-VT25-e1764156339452.png
END:VEVENT
BEGIN:VEVENT
DTSTART;TZID=Europe/Paris:20251213T120000
DTEND;TZID=Europe/Paris:20251213T123000
DTSTAMP:20260425T175500
CREATED:20251126T112909Z
LAST-MODIFIED:20251126T112909Z
UID:10013599-1765627200-1765629000@motalasjostad.se
SUMMARY:Sagor på somaliska
DESCRIPTION:För dig som är ca 3-8 år. Vi träffas en lördag i månaden för att lyssna på berättelser på somaliska. Ingen anmälan.
URL:https://motalasjostad.se/ec-event/sagor-pa-somaliska-17/
LOCATION:Motala huvudbibliotek
CATEGORIES:Barn/ungdom
ATTACH;FMTTYPE=image/png:https://motalasjostad.se/wp-content/uploads/2025/11/Sagor-pa-somaliska-VT-25-e1764156543684.png
END:VEVENT
BEGIN:VEVENT
DTSTART;TZID=Europe/Paris:20251212T150000
DTEND;TZID=Europe/Paris:20251212T153000
DTSTAMP:20260425T175500
CREATED:20251126T113012Z
LAST-MODIFIED:20251126T113012Z
UID:10013598-1765551600-1765553400@motalasjostad.se
SUMMARY:Småttestund
DESCRIPTION:För dig mellan 1-2 år. En fredag i månaden är alla småttingar extra välkomna till biblioteket. Det blir en stund där vi tillsammans läser\, ramsar och sjunger. Ingen anmälan.
URL:https://motalasjostad.se/ec-event/smattestund-13/
LOCATION:Motala huvudbibliotek
CATEGORIES:Barn/ungdom
ATTACH;FMTTYPE=image/png:https://motalasjostad.se/wp-content/uploads/2025/11/Smattestund-HT25-e1764156602345.png
END:VEVENT
END:VCALENDAR