BEGIN:VCALENDAR
VERSION:2.0
PRODID:-//Motala Sjöstad - ECPv6.13.2.1//NONSGML v1.0//EN
CALSCALE:GREGORIAN
METHOD:PUBLISH
X-WR-CALNAME:Motala Sjöstad
X-ORIGINAL-URL:https://motalasjostad.se
X-WR-CALDESC:Händelser för Motala Sjöstad
REFRESH-INTERVAL;VALUE=DURATION:PT1H
X-Robots-Tag:noindex
X-PUBLISHED-TTL:PT1H
BEGIN:VTIMEZONE
TZID:Europe/Paris
BEGIN:DAYLIGHT
TZOFFSETFROM:+0100
TZOFFSETTO:+0200
TZNAME:CEST
DTSTART:20260329T010000
END:DAYLIGHT
BEGIN:STANDARD
TZOFFSETFROM:+0200
TZOFFSETTO:+0100
TZNAME:CET
DTSTART:20261025T010000
END:STANDARD
END:VTIMEZONE
BEGIN:VEVENT
DTSTART;TZID=Europe/Paris:20260416T170000
DTEND;TZID=Europe/Paris:20260416T190000
DTSTAMP:20260423T050521
CREATED:20260323T083249Z
LAST-MODIFIED:20260323T083249Z
UID:10014033-1776358800-1776366000@motalasjostad.se
SUMMARY:Språkträning
DESCRIPTION:På Motala huvudbibliotek finns möjligheten att få hjälp med att träna på det svenska språket\, tyda krångliga brev\, skriva jobbansökningar med mera. I samarbete med Folkuniversitetet. \n 
URL:https://motalasjostad.se/ec-event/spraktraning-46/2026-04-16/
LOCATION:Motala huvudbibliotek
CATEGORIES:Övriga evenemang
ATTACH;FMTTYPE=image/png:https://motalasjostad.se/wp-content/uploads/2026/03/Spraktraning.png
END:VEVENT
BEGIN:VEVENT
DTSTART;TZID=Europe/Paris:20260416T160000
DTEND;TZID=Europe/Paris:20260416T180000
DTSTAMP:20260423T050521
CREATED:20260330T064424Z
LAST-MODIFIED:20260330T064556Z
UID:10014123-1776355200-1776362400@motalasjostad.se
SUMMARY:Konstutställning
DESCRIPTION:Alma Linda Carleke- måleri\nAnna-Karin – keramik
URL:https://motalasjostad.se/ec-event/konstutstallning-14/2026-04-16/
LOCATION:Galleri K-ringen\, Ringgatan 6\, Motala\, Östergötland.\, 591 60
CATEGORIES:Utställning
ATTACH;FMTTYPE=image/jpeg:https://motalasjostad.se/wp-content/uploads/2026/03/insta-1080x1080pix-26-03-28-e1774853151463.jpg
END:VEVENT
BEGIN:VEVENT
DTSTART;TZID=Europe/Paris:20260416T140000
DTEND;TZID=Europe/Paris:20260416T160000
DTSTAMP:20260423T050521
CREATED:20260323T113653Z
LAST-MODIFIED:20260323T113653Z
UID:10014089-1776348000-1776355200@motalasjostad.se
SUMMARY:Handarbeta på bibblan
DESCRIPTION:Ta med dig ditt handarbete och kom till bibblan för en trevlig stund. Biblioteket bjuder på kaffe och te. Ta gärna med eget fikabröd. Ingen anmälan.
URL:https://motalasjostad.se/ec-event/handarbeta-pa-bibblan-27/2026-04-16/
LOCATION:Tjällmo bibliotek\, Länsvägen\, Tjällmo\, 59190\, Sverige
CATEGORIES:Övriga evenemang
ATTACH;FMTTYPE=image/png:https://motalasjostad.se/wp-content/uploads/2026/03/Tjallmo-handarbetscafe.png
END:VEVENT
BEGIN:VEVENT
DTSTART;TZID=Europe/Paris:20260416T130000
DTEND;TZID=Europe/Paris:20260416T140000
DTSTAMP:20260423T050521
CREATED:20260323T113603Z
LAST-MODIFIED:20260323T113603Z
UID:10014093-1776344400-1776348000@motalasjostad.se
SUMMARY:Nyfiken på nya böcker
DESCRIPTION:Välkommen till biblioteket för att titta på vilka böcker som snart kommer att ges ut. Biblioteket bjuder på kaffe och te. Ta gärna med eget fikabröd. Ingen anmälan.
URL:https://motalasjostad.se/ec-event/nyfiken-pa-nya-bocker-9/
LOCATION:Tjällmo bibliotek\, Länsvägen\, Tjällmo\, 59190\, Sverige
CATEGORIES:Övriga evenemang
ATTACH;FMTTYPE=image/png:https://motalasjostad.se/wp-content/uploads/2026/03/Tjallmo-nyfiken-pa-nya-bocker.png
END:VEVENT
BEGIN:VEVENT
DTSTART;TZID=Europe/Paris:20260416T100000
DTEND;TZID=Europe/Paris:20260416T103000
DTSTAMP:20260423T050521
CREATED:20260323T113904Z
LAST-MODIFIED:20260323T113904Z
UID:10014081-1776333600-1776335400@motalasjostad.se
SUMMARY:Bokstund
DESCRIPTION:För barn 0-2 år och deras vuxna. Vi läser sagor\, sjunger och ramsar tillsammans. Vi ger dig boktips för att stötta barnets språkutveckling med hjälp av böcker tidigt i livet. Givetvis är syskon också välkomna. Träffen är på meröppettid\, insläpp sker vid klockan 10.00. Ta gärna med matsäck om du vill fika efteråt. Vi önskar att grupper föranmäler på biblioteket eller på 0141-22 58 75.
URL:https://motalasjostad.se/ec-event/bokstund-15/2026-04-16/
LOCATION:Borensbergs Bibliotek\, Husbyvägen 13\, Borensberg\, 59175
CATEGORIES:Barn/ungdom
ATTACH;FMTTYPE=image/png:https://motalasjostad.se/wp-content/uploads/2026/03/BBG-Bokstund.png
END:VEVENT
BEGIN:VEVENT
DTSTART;TZID=Europe/Paris:20260415T183000
DTEND;TZID=Europe/Paris:20260415T193000
DTSTAMP:20260423T050521
CREATED:20260323T082643Z
LAST-MODIFIED:20260323T082643Z
UID:10014046-1776277800-1776281400@motalasjostad.se
SUMMARY:Författarstafett
DESCRIPTION:Fyra författare samtalar om sina fackböcker. Medverkande: Christoph Andersson – Stasis svenska agenter\, Toivo Jokkala – Rörelsesocialism\, Eva Mattsson – Furstinnan\, Johan Sievers – Lyckans smala hav. \n 
URL:https://motalasjostad.se/ec-event/forfattarstafett/
LOCATION:Motala huvudbibliotek
CATEGORIES:Övriga evenemang
ATTACH;FMTTYPE=image/png:https://motalasjostad.se/wp-content/uploads/2026/03/Forfattarstafett.png
END:VEVENT
BEGIN:VEVENT
DTSTART;TZID=Europe/Paris:20260415T140000
DTEND;TZID=Europe/Paris:20260415T153000
DTSTAMP:20260423T050521
CREATED:20260324T073253Z
LAST-MODIFIED:20260324T073253Z
UID:10014039-1776261600-1776267000@motalasjostad.se
SUMMARY:Lättläst nyhetscafé
DESCRIPTION:Välkomna på nyhetscafé där vi läser enkla nyheter tillsammans. Vi bjuder på kaffe\, te och kaka. Plats: Eköns Gemensamhetslokal\, Styvingevägen 14. \n 
URL:https://motalasjostad.se/ec-event/lattlast-nyhetscafe-2/2026-04-15/
LOCATION:Gemensamhetslokalen\, Ekön\, Styvingevägen 14\, Motala
CATEGORIES:Övriga evenemang
ATTACH;FMTTYPE=image/png:https://motalasjostad.se/wp-content/uploads/2026/03/lattlast-nyhetscafe.png
END:VEVENT
BEGIN:VEVENT
DTSTART;TZID=Europe/Paris:20260415T140000
DTEND;TZID=Europe/Paris:20260415T153000
DTSTAMP:20260423T050521
CREATED:20260323T083313Z
LAST-MODIFIED:20260323T083313Z
UID:10014027-1776261600-1776267000@motalasjostad.se
SUMMARY:Digitala första hjälpen
DESCRIPTION:Välkommen till vår drop-in där vi svarar på dina grundläggande frågor om IT. Ta gärna med din telefon\, surfplatta eller laptop. Här kan du även få hjälp med att hantera Konsumentverkets hemsida.
URL:https://motalasjostad.se/ec-event/digitala-forsta-hjalpen-78/2026-04-15/
LOCATION:Motala huvudbibliotek
CATEGORIES:Övriga evenemang
ATTACH;FMTTYPE=image/png:https://motalasjostad.se/wp-content/uploads/2026/03/DFH-1.png
END:VEVENT
BEGIN:VEVENT
DTSTART;TZID=Europe/Paris:20260414T180000
DTEND;TZID=Europe/Paris:20260414T190000
DTSTAMP:20260423T050521
CREATED:20260323T113422Z
LAST-MODIFIED:20260323T113422Z
UID:10014097-1776189600-1776193200@motalasjostad.se
SUMMARY:Punktskriften 200 år
DESCRIPTION:En föreläsning om synhjälpmedel\, punktskrift och livet som synskadad. Föreläsare: Jenny-Ann Karlsson\, kurator på Syncentralen. Synskadades Riksförbund Östergötland och Motala-Vadstena finns på plats och informerar om sin verksamhet. \n 
URL:https://motalasjostad.se/ec-event/punktskriften-200-ar-2/
LOCATION:Motala huvudbibliotek
CATEGORIES:Gudningar och föreläsningar
ATTACH;FMTTYPE=image/png:https://motalasjostad.se/wp-content/uploads/2026/03/Punktskriften-201-ar.png
END:VEVENT
BEGIN:VEVENT
DTSTART;TZID=Europe/Paris:20260414T170000
DTEND;TZID=Europe/Paris:20260414T190000
DTSTAMP:20260423T050521
CREATED:20260323T083249Z
LAST-MODIFIED:20260323T083249Z
UID:10014032-1776186000-1776193200@motalasjostad.se
SUMMARY:Språkträning
DESCRIPTION:På Motala huvudbibliotek finns möjligheten att få hjälp med att träna på det svenska språket\, tyda krångliga brev\, skriva jobbansökningar med mera. I samarbete med Folkuniversitetet. \n 
URL:https://motalasjostad.se/ec-event/spraktraning-46/2026-04-14/
LOCATION:Motala huvudbibliotek
CATEGORIES:Övriga evenemang
ATTACH;FMTTYPE=image/png:https://motalasjostad.se/wp-content/uploads/2026/03/Spraktraning.png
END:VEVENT
BEGIN:VEVENT
DTSTART;TZID=Europe/Paris:20260414T153000
DTEND;TZID=Europe/Paris:20260414T163000
DTSTAMP:20260423T050521
CREATED:20260323T114437Z
LAST-MODIFIED:20260323T114437Z
UID:10014061-1776180600-1776184200@motalasjostad.se
SUMMARY:Låt spelet börja - Blue Prince
DESCRIPTION:Från ca 10 år. En gång i månaden testar vi tillsammans några av alla spel vi har på biblioteket. Denna gång provar vi på Blue Prince på bibblans PS5: a. I spelet utforskar du en mystisk herrgård med 45 rum. Ditt mål för att få ett gigantiskt stort arv är att hitta det hemliga 46:e rummet. Men huset byter skepnad för varje dörr som öppnas! Går det att hitta en strategi och bygga den perfekta vägen? Ingen anmälan.
URL:https://motalasjostad.se/ec-event/lat-spelet-borja-blue-prince/
LOCATION:Motala huvudbibliotek
CATEGORIES:Barn/ungdom
ATTACH;FMTTYPE=image/png:https://motalasjostad.se/wp-content/uploads/2026/03/Lat-spelet-borja.png
END:VEVENT
BEGIN:VEVENT
DTSTART;TZID=Europe/Paris:20260414T100000
DTEND;TZID=Europe/Paris:20260414T113000
DTSTAMP:20260423T050521
CREATED:20260323T083332Z
LAST-MODIFIED:20260323T083332Z
UID:10014022-1776160800-1776166200@motalasjostad.se
SUMMARY:Digitala första hjälpen
DESCRIPTION:Välkommen till vår drop-in där vi svarar på dina grundläggande frågor om IT. Ta gärna med din telefon\, surfplatta eller laptop. Här kan du även få hjälp med att hantera Konsumentverkets hemsida.
URL:https://motalasjostad.se/ec-event/digitala-forsta-hjalpen-79/2026-04-14/
LOCATION:Motala huvudbibliotek
CATEGORIES:Övriga evenemang
ATTACH;FMTTYPE=image/png:https://motalasjostad.se/wp-content/uploads/2026/03/DFH.png
END:VEVENT
BEGIN:VEVENT
DTSTART;TZID=Europe/Paris:20260414T093000
DTEND;TZID=Europe/Paris:20260414T100000
DTSTAMP:20260423T050521
CREATED:20260323T113923Z
LAST-MODIFIED:20260323T113923Z
UID:10014078-1776159000-1776160800@motalasjostad.se
SUMMARY:Saga och sång
DESCRIPTION:Från 2 år. Vi läser sagor och sjunger. Givetvis är syskon också välkomna. Ta gärna med matsäck om du vill fika efteråt. Vi önskar att grupper för-anmäler på biblioteket eller på 0141-22 58 75.
URL:https://motalasjostad.se/ec-event/saga-och-sang-18/2026-04-14/
LOCATION:Borensbergs Bibliotek\, Husbyvägen 13\, Borensberg\, 59175
CATEGORIES:Barn/ungdom
ATTACH;FMTTYPE=image/png:https://motalasjostad.se/wp-content/uploads/2026/03/BBG-Saga-och-sang.png
END:VEVENT
BEGIN:VEVENT
DTSTART;TZID=Europe/Paris:20260413T170000
DTEND;TZID=Europe/Paris:20260413T180000
DTSTAMP:20260423T050521
CREATED:20260323T114120Z
LAST-MODIFIED:20260323T114120Z
UID:10014072-1776099600-1776103200@motalasjostad.se
SUMMARY:Bokcafé
DESCRIPTION:Personalen tipsar om nya böcker\, vi fikar\, ger varandra boktips och har det trevligt.
URL:https://motalasjostad.se/ec-event/bokcafe-13/
LOCATION:Borensbergs Bibliotek\, Husbyvägen 13\, Borensberg\, 59175
CATEGORIES:Övriga evenemang
ATTACH;FMTTYPE=image/jpeg:https://motalasjostad.se/wp-content/uploads/2026/03/BBG-Bokcafel.jpg
END:VEVENT
BEGIN:VEVENT
DTSTART;TZID=Europe/Paris:20260413T160000
DTEND;TZID=Europe/Paris:20260413T180000
DTSTAMP:20260423T050521
CREATED:20260323T114455Z
LAST-MODIFIED:20260323T114455Z
UID:10014060-1776096000-1776103200@motalasjostad.se
SUMMARY:Prova på schack
DESCRIPTION:Från 8 år. Vill du prova på och lära dig mer om att spela schack? Motala schacksällskap finns på plats på biblioteket och visar. Drop-in.
URL:https://motalasjostad.se/ec-event/prova-pa-schack-15/
LOCATION:Motala huvudbibliotek
CATEGORIES:Barn/ungdom
ATTACH;FMTTYPE=image/jpeg:https://motalasjostad.se/wp-content/uploads/2026/03/Prova-pa-schack.jpg
END:VEVENT
BEGIN:VEVENT
DTSTART;TZID=Europe/Paris:20260413T140000
DTEND;TZID=Europe/Paris:20260413T160000
DTSTAMP:20260423T050521
CREATED:20260323T113622Z
LAST-MODIFIED:20260323T113622Z
UID:10014092-1776088800-1776096000@motalasjostad.se
SUMMARY:Bokcirkel
DESCRIPTION:Vi träffas och samtalar om Simma med de drunknade av Lars Mytting. För mer information\, besök personalen på bibliotekets bemannade öppettider eller maila på bibliotek.tjallmo@motala.se. Biblioteket bjuder på kaffe och te. Ta gärna med eget fikabröd.
URL:https://motalasjostad.se/ec-event/bokcirkel-9/
LOCATION:Tjällmo bibliotek\, Länsvägen\, Tjällmo\, 59190\, Sverige
CATEGORIES:Övriga evenemang
ATTACH;FMTTYPE=image/png:https://motalasjostad.se/wp-content/uploads/2026/03/Tjallmo-Bokcirkel.png
END:VEVENT
BEGIN:VEVENT
DTSTART;TZID=Europe/Paris:20260413T100000
DTEND;TZID=Europe/Paris:20260413T113000
DTSTAMP:20260423T050521
CREATED:20260225T092410Z
LAST-MODIFIED:20260225T092410Z
UID:10013927-1776074400-1776079800@motalasjostad.se
SUMMARY:Boktugg - anmäl dig redan nu!
DESCRIPTION:För barn 0-12 månader med föräldrar. Välkommen på fyra träffar där vi läser\, sjunger\, ramsar och pratar om barns språkutveckling. Vi vill visa att det kan vara roligt och relativt enkelt att stödja sitt barns språkutveckling med hjälp av böcker tidigt i livet. Vi avslutar varje träff med en fika. Vi ser gärna att du som anmäler dig är med alla fyra gånger. Anmäl dig på biblioteket eller på 0141-22 51 00. Kommande tillfällen: 20/4\, 27/4 och 11/5. \n 
URL:https://motalasjostad.se/ec-event/boktugg-anmal-dig-redan-nu-3/
LOCATION:Motala huvudbibliotek
CATEGORIES:Barn/ungdom,Övriga evenemang
ATTACH;FMTTYPE=image/png:https://motalasjostad.se/wp-content/uploads/2026/02/Boktugg.png
END:VEVENT
BEGIN:VEVENT
DTSTART;TZID=Europe/Paris:20260412T140000
DTEND;TZID=Europe/Paris:20260412T160000
DTSTAMP:20260423T050521
CREATED:20260326T094218Z
LAST-MODIFIED:20260326T094218Z
UID:10014019-1776002400-1776009600@motalasjostad.se
SUMMARY:Exkursion  runt området Gamla Motala Verkstad
DESCRIPTION:Under cirka en timme vandrar vi runt i området Gamla Motala Verkstad. Vi får veta bakgrunden till byggandet och utförandet av Göta Kanal samt anläggandet av företaget Motala Verkstad. Dessutom ser vi lite på området och samtalar om olika verksamheter. \nDen som guidar oss är: PG Igelström\, pensionerad historielärare\, som under hela livet varit engagerad i Gamla Motalaverkstadsområdet. \nAnmälan görs senast 11 april till: s.ingesson@gmail.com eller sms till 070-5091371
URL:https://motalasjostad.se/ec-event/exkursion-runt-omradet-gamla-motala-verkstad/
LOCATION:Mallboden Motala\, Varvsgatan 19\, Motala\, Sverige\, 59160\, Sweden
CATEGORIES:Gudningar och föreläsningar
ATTACH;FMTTYPE=image/jpeg:https://motalasjostad.se/wp-content/uploads/2026/03/Motala-verkstad-scaled.jpg
ORGANIZER;CN="Historief%C3%B6reningen Sverker":MAILTO:s.ingesson@gmail.com
END:VEVENT
BEGIN:VEVENT
DTSTART;TZID=Europe/Paris:20260412T080000
DTEND;TZID=Europe/Paris:20260412T170000
DTSTAMP:20260423T050521
CREATED:20260330T064424Z
LAST-MODIFIED:20260330T064556Z
UID:10014130-1775980800-1776013200@motalasjostad.se
SUMMARY:Konstutställning
DESCRIPTION:Alma Linda Carleke- måleri\nAnna-Karin – keramik
URL:https://motalasjostad.se/ec-event/konstutstallning-14/2026-04-12/
LOCATION:Galleri K-ringen\, Ringgatan 6\, Motala\, Östergötland.\, 591 60
CATEGORIES:Utställning
ATTACH;FMTTYPE=image/jpeg:https://motalasjostad.se/wp-content/uploads/2026/03/insta-1080x1080pix-26-03-28-e1774853151463.jpg
END:VEVENT
BEGIN:VEVENT
DTSTART;TZID=Europe/Paris:20260411T210000
DTEND;TZID=Europe/Paris:20260411T210000
DTSTAMP:20260423T050521
CREATED:20260210T103423Z
LAST-MODIFIED:20260210T103423Z
UID:10013848-1775941200-1775941200@motalasjostad.se
SUMMARY:Glanzig
DESCRIPTION:Förköp via www.tickster.comDörrarna öppnar 19:00På scen efter 21:30\nGLANZIG ( Danzig & Misfits covers)
URL:https://motalasjostad.se/ec-event/glanzig/
LOCATION:Bomber Bar\, Prästgatan 3\, Motala\, 591 30\, Sweden
CATEGORIES:Musik
ATTACH;FMTTYPE=image/jpeg:https://motalasjostad.se/wp-content/uploads/2026/02/glanzig.jpg
END:VEVENT
BEGIN:VEVENT
DTSTART;TZID=Europe/Paris:20260411T180000
DTEND;TZID=Europe/Paris:20260411T220000
DTSTAMP:20260423T050521
CREATED:20260320T093723Z
LAST-MODIFIED:20260320T093723Z
UID:10014013-1775930400-1775944800@motalasjostad.se
SUMMARY:Tommy Körberg Dinner show
DESCRIPTION:Upplev en unik och intim kväll tillsammans med Sveriges största röst genom tiderna – Tommy Körberg.\n3-rätters middag\, gott i glasen och underbar musik! \nUnder 90 oförglömliga minuter bjuder Tommy på ett noga urval ur sin långa musikaliska karriär\, blandat med sin omisskännliga humor och spännande historier från hans liv.\nDet blir en underbar kväll att minnas länge.\nMed sig på scenen har han den fantastiska pianisten Carl Flemsten.
URL:https://motalasjostad.se/ec-event/tommy-korberg-dinner-show/
LOCATION:Saluhallen
CATEGORIES:Mat & Dryck,Musik
ATTACH;FMTTYPE=image/jpeg:https://motalasjostad.se/wp-content/uploads/2026/03/etunaeventkalender-liggande-1000x526-1.jpeg
ORGANIZER;CN="Karlsson Live! AB":MAILTO:oskar@karlssonlive.se
END:VEVENT
BEGIN:VEVENT
DTSTART;TZID=Europe/Paris:20260411T110000
DTEND;TZID=Europe/Paris:20260411T120000
DTSTAMP:20260423T050521
CREATED:20251124T120028Z
LAST-MODIFIED:20251124T120028Z
UID:10013572-1775905200-1775908800@motalasjostad.se
SUMMARY:Talangshowen -Alex Hermansson
DESCRIPTION:Välkomna till en underhållande\, actionfylld och rolig show i form av en talangjakt där multitalangen Alex själv agerar samtliga deltagare. Att få se trix i form av akrobatik\, breakdance och trolleri av en och samma person lämnar tittarna med stor inspiration till rörelseglädje och att ingenting är omöjligt. \nVilka är då Juryn? Publiken såklart! \nFöreställningen riktar sig främst mot barn mellan 4-13 år. Längden är ca 50 minuter lång utan paus. Insläpp sker ca 30 min innan show och det är onumrerade platser om inget annat anges. \nEfteråt får man träffa Alex för att ta bild\, då finns även chans att köpa merch av olika slag. \nBarn under två år går in gratis utan biljett men måste sitta i förälders knä. \nEventuella frågor besvaras på biljetter@alexhermansson.se
URL:https://motalasjostad.se/ec-event/talangshowen-alex-hermansson/
LOCATION:Teatersalongen Motala Folkets Hus\, Repslagaretagatan 3\, Motala\, 59130
CATEGORIES:Barn/ungdom,Teater & show
ATTACH;FMTTYPE=image/jpeg:https://motalasjostad.se/wp-content/uploads/2025/11/talangshowen.jpg
ORGANIZER;CN="Alex hermansson":MAILTO:biljetter@alexhermansson.se
END:VEVENT
BEGIN:VEVENT
DTSTART;TZID=Europe/Paris:20260411T110000
DTEND;TZID=Europe/Paris:20260411T113000
DTSTAMP:20260423T050521
CREATED:20260323T114512Z
LAST-MODIFIED:20260323T114512Z
UID:10014059-1775905200-1775907000@motalasjostad.se
SUMMARY:Småttestund
DESCRIPTION:För dig mellan 1–2 år. En lördag i månaden är alla småttingar extra välkomna till biblioteket. Det blir en stund där vi tillsammans läser\, ramsar och sjunger.\nIngen anmälan.
URL:https://motalasjostad.se/ec-event/smattestund-16/
LOCATION:Motala huvudbibliotek
CATEGORIES:Barn/ungdom
ATTACH;FMTTYPE=image/png:https://motalasjostad.se/wp-content/uploads/2026/03/Smattestund.png
END:VEVENT
BEGIN:VEVENT
DTSTART;TZID=Europe/Paris:20260411T110000
DTEND;TZID=Europe/Paris:20260411T110000
DTSTAMP:20260423T050521
CREATED:20260407T092008Z
LAST-MODIFIED:20260407T092008Z
UID:10014144-1775905200-1775905200@motalasjostad.se
SUMMARY:Gemensam hundpromenad med Arken Zoo
DESCRIPTION:Tassa med på vår promenad för renare gator\, där vi uppmärksammar vikten av att plocka upp efter sig. Alla som deltar får en rulle bajspåsar. Vi har dessutom 30% på hundbajsrelaterade produkter vid köp av 2 st. (30/3-12/4)\nIngen föranmälan krävs. Välkomna att tassa med!
URL:https://motalasjostad.se/ec-event/gemensam-hundpromenad-med-arken-zoo/
LOCATION:Arken Zoo Bråstorp centrum\, Hökaretorget 3\, Motala
CATEGORIES:Övriga evenemang
ATTACH;FMTTYPE=image/jpeg:https://motalasjostad.se/wp-content/uploads/2026/04/hundpromenad.jpg
END:VEVENT
BEGIN:VEVENT
DTSTART;TZID=Europe/Paris:20260411T080000
DTEND;TZID=Europe/Paris:20260411T170000
DTSTAMP:20260423T050521
CREATED:20260330T064424Z
LAST-MODIFIED:20260330T064556Z
UID:10014129-1775894400-1775926800@motalasjostad.se
SUMMARY:Konstutställning
DESCRIPTION:Alma Linda Carleke- måleri\nAnna-Karin – keramik
URL:https://motalasjostad.se/ec-event/konstutstallning-14/2026-04-11/
LOCATION:Galleri K-ringen\, Ringgatan 6\, Motala\, Östergötland.\, 591 60
CATEGORIES:Utställning
ATTACH;FMTTYPE=image/jpeg:https://motalasjostad.se/wp-content/uploads/2026/03/insta-1080x1080pix-26-03-28-e1774853151463.jpg
END:VEVENT
BEGIN:VEVENT
DTSTART;TZID=Europe/Paris:20260410T150000
DTEND;TZID=Europe/Paris:20260410T160000
DTSTAMP:20260423T050521
CREATED:20260324T094332Z
LAST-MODIFIED:20260407T085234Z
UID:10014101-1775833200-1775836800@motalasjostad.se
SUMMARY:INSTÄLLT - Räddningstjänsten läser Flammy
DESCRIPTION:Från 3 år. Välkommen till eftermiddag med brandsskyddsföreningens maskot Flammy i centrum. Vi börjar med att brandinspektör Anna-Karin Edepil läser boken Flammy och popcornbranden. Vi fortsätter sedan med att prata brandskydd och pyssla. Och om vi håller tummarna så kanske vi också får träffa Flammy på biblioteket. Ingen anmälan.
URL:https://motalasjostad.se/ec-event/raddningstjansten-laser-flammy/
LOCATION:Motala huvudbibliotek
CATEGORIES:Barn/ungdom
ATTACH;FMTTYPE=image/png:https://motalasjostad.se/wp-content/uploads/2026/03/Raddningstjansten-laser-Flammy.png
END:VEVENT
BEGIN:VEVENT
DTSTART;TZID=Europe/Paris:20260410T103000
DTEND;TZID=Europe/Paris:20260410T113000
DTSTAMP:20260423T050521
CREATED:20260323T114238Z
LAST-MODIFIED:20260323T114238Z
UID:10014068-1775817000-1775820600@motalasjostad.se
SUMMARY:Digitala första hjälpen
DESCRIPTION:Välkommen till vår drop-in där vi svarar på dina grundläggande frågor om IT. Ta gärna med din telefon\, surfplatta eller laptop. Du kan även boka en tid någon annan dag om fredagar inte passar.
URL:https://motalasjostad.se/ec-event/digitala-forsta-hjalpen-81/
LOCATION:Borensbergs Bibliotek\, Husbyvägen 13\, Borensberg\, 59175
CATEGORIES:Övriga evenemang
ATTACH;FMTTYPE=image/png:https://motalasjostad.se/wp-content/uploads/2026/03/BBG-DFH.png
END:VEVENT
BEGIN:VEVENT
DTSTART;TZID=Europe/Paris:20260410T094500
DTEND;TZID=Europe/Paris:20260410T120000
DTSTAMP:20260423T050521
CREATED:20260323T081132Z
LAST-MODIFIED:20260323T081132Z
UID:10014056-1775814300-1775822400@motalasjostad.se
SUMMARY:Minecraftcafé
DESCRIPTION:Minecraft är ett av världens mest spelade spel och går ut på att hitta\, skapa\, bygga och förbättra. Man kan i praktiken bygga vad som helst. Under denna träff bygger du din egen labyrint\, fyller den med monster och till sist provar vi att lösa varandras labyrinter. Vi tar en liten fikapaus i mitten av träffen. Aktiviteten sker utanför öppettid. Anmäl dig på biblioteket eller till Leslie på 0141-22 54 86. \n 
URL:https://motalasjostad.se/ec-event/minecraftcafe-3/
LOCATION:Motala huvudbibliotek
CATEGORIES:Barn/ungdom
ATTACH;FMTTYPE=image/jpeg:https://motalasjostad.se/wp-content/uploads/2026/03/minecraftcafe.jpg
END:VEVENT
BEGIN:VEVENT
DTSTART;TZID=Europe/Paris:20260409T183000
DTEND;TZID=Europe/Paris:20260409T193000
DTSTAMP:20260423T050521
CREATED:20260323T082711Z
LAST-MODIFIED:20260323T082711Z
UID:10014045-1775759400-1775763000@motalasjostad.se
SUMMARY:Att lyckas som rom och kvinna
DESCRIPTION:Föreläsare Zofia Selimi\, matkreatör och kokboksförfattare med rötter från Balkan. När kokboken Zofias romska balkanmat kom ut tog hon ett modigt steg genom att öppet berätta om sina romska rötter. Zofia vill sprida kunskap om den romska matkulturen och bryta ned de fördomar som fortfarande finns kring romer. Hon använder matlagning som ett verktyg för att berätta historier och skapa förbindelser mellan människor.
URL:https://motalasjostad.se/ec-event/att-lyckas-som-rom-och-kvinna/
LOCATION:Motala huvudbibliotek
CATEGORIES:Gudningar och föreläsningar
ATTACH;FMTTYPE=image/png:https://motalasjostad.se/wp-content/uploads/2026/03/Att-lyckas-som-rom-och-kvinna.png
END:VEVENT
BEGIN:VEVENT
DTSTART;TZID=Europe/Paris:20260409T170000
DTEND;TZID=Europe/Paris:20260409T190000
DTSTAMP:20260423T050521
CREATED:20260323T083249Z
LAST-MODIFIED:20260323T083249Z
UID:10014031-1775754000-1775761200@motalasjostad.se
SUMMARY:Språkträning
DESCRIPTION:På Motala huvudbibliotek finns möjligheten att få hjälp med att träna på det svenska språket\, tyda krångliga brev\, skriva jobbansökningar med mera. I samarbete med Folkuniversitetet. \n 
URL:https://motalasjostad.se/ec-event/spraktraning-46/2026-04-09/
LOCATION:Motala huvudbibliotek
CATEGORIES:Övriga evenemang
ATTACH;FMTTYPE=image/png:https://motalasjostad.se/wp-content/uploads/2026/03/Spraktraning.png
END:VEVENT
END:VCALENDAR