BEGIN:VCALENDAR
VERSION:2.0
PRODID:-//Motala Sjöstad - ECPv6.13.2.1//NONSGML v1.0//EN
CALSCALE:GREGORIAN
METHOD:PUBLISH
X-WR-CALNAME:Motala Sjöstad
X-ORIGINAL-URL:https://motalasjostad.se
X-WR-CALDESC:Händelser för Motala Sjöstad
REFRESH-INTERVAL;VALUE=DURATION:PT1H
X-Robots-Tag:noindex
X-PUBLISHED-TTL:PT1H
BEGIN:VTIMEZONE
TZID:Europe/Paris
BEGIN:DAYLIGHT
TZOFFSETFROM:+0100
TZOFFSETTO:+0200
TZNAME:CEST
DTSTART:20250330T010000
END:DAYLIGHT
BEGIN:STANDARD
TZOFFSETFROM:+0200
TZOFFSETTO:+0100
TZNAME:CET
DTSTART:20251026T010000
END:STANDARD
END:VTIMEZONE
BEGIN:VEVENT
DTSTART;TZID=Europe/Paris:20251211T170000
DTEND;TZID=Europe/Paris:20251211T190000
DTSTAMP:20260425T232938
CREATED:20251126T113727Z
LAST-MODIFIED:20251126T113727Z
UID:10013588-1765472400-1765479600@motalasjostad.se
SUMMARY:Språkträning
DESCRIPTION:På Motala huvudbibliotek finns möjligheten att få hjälp med att träna på det svenska språket\, tyda krångliga brev\, skriva jobbansökningar med mera. I samarbete med Folkuniversitetet \n 
URL:https://motalasjostad.se/ec-event/spraktraning-41/2025-12-11/
LOCATION:Motala huvudbibliotek
CATEGORIES:Övriga evenemang
ATTACH;FMTTYPE=image/png:https://motalasjostad.se/wp-content/uploads/2025/11/Spraktraning-HT-25-e1764157035137.png
END:VEVENT
BEGIN:VEVENT
DTSTART;TZID=Europe/Paris:20251211T170000
DTEND;TZID=Europe/Paris:20251211T190000
DTSTAMP:20260425T232938
CREATED:20251117T094043Z
LAST-MODIFIED:20251117T094044Z
UID:10013551-1765472400-1765479600@motalasjostad.se
SUMMARY:Medlemsutställning
DESCRIPTION:Nu är det dags igen för Motala Konstförenings medlemsutställning!\n\nVälkomna att upptäcka kreativiteten och mångsidigheten hos våra egna medlemmar.
URL:https://motalasjostad.se/ec-event/medlemsutstallning/2025-12-11/
LOCATION:Dubergska gården\, Bispmotalagatan 34\, Motala\, 59130
ATTACH;FMTTYPE=image/jpeg:https://motalasjostad.se/wp-content/uploads/2025/11/Vernissagekort-Medlemsutstallning-2025-e1763372515509.jpg
ORGANIZER;CN="Motala Konstf%C3%B6rening":MAILTO:info@motalakonstforening.se
END:VEVENT
BEGIN:VEVENT
DTSTART;TZID=Europe/Paris:20251211T160000
DTEND;TZID=Europe/Paris:20251211T170000
DTSTAMP:20260425T232938
CREATED:20251126T112206Z
LAST-MODIFIED:20251126T112206Z
UID:10013604-1765468800-1765472400@motalasjostad.se
SUMMARY:Torsdagsbokcirkel
DESCRIPTION:Vi läser boken När jorden brister av Clare Leslie Hall. Biblioteket bjuder på kaffe och te. Ta gärna med eget fikabröd.
URL:https://motalasjostad.se/ec-event/torsdagsbokcirkel-11/
LOCATION:Borensbergs Bibliotek\, Husbyvägen 13\, Borensberg\, 59175
CATEGORIES:Övriga evenemang
ATTACH;FMTTYPE=image/png:https://motalasjostad.se/wp-content/uploads/2025/11/Torsdagsbokcirkel-HT25-BBG-e1764156115469.png
END:VEVENT
BEGIN:VEVENT
DTSTART;TZID=Europe/Paris:20251211T140000
DTEND;TZID=Europe/Paris:20251211T160000
DTSTAMP:20260425T232938
CREATED:20251126T111554Z
LAST-MODIFIED:20251126T111554Z
UID:10013610-1765461600-1765468800@motalasjostad.se
SUMMARY:Handarbeta på bibblan
DESCRIPTION:Ta med ditt handarbete och kom till bibblan för en trevlig stund. Biblioteket bjuder på kaffe och te. Ta gärna med eget fikabröd. Ingen anmälan.
URL:https://motalasjostad.se/ec-event/handarbeta-pa-bibblan-23/2025-12-11/
LOCATION:Tjällmo bibliotek\, Länsvägen\, Tjällmo\, 59190\, Sverige
CATEGORIES:Övriga evenemang
ATTACH;FMTTYPE=image/png:https://motalasjostad.se/wp-content/uploads/2025/11/Stickcafe-Tjallmo-e1764155736103.png
END:VEVENT
BEGIN:VEVENT
DTSTART;TZID=Europe/Paris:20251210T170000
DTEND;TZID=Europe/Paris:20251210T190000
DTSTAMP:20260425T232938
CREATED:20251117T094043Z
LAST-MODIFIED:20251117T094044Z
UID:10013550-1765386000-1765393200@motalasjostad.se
SUMMARY:Medlemsutställning
DESCRIPTION:Nu är det dags igen för Motala Konstförenings medlemsutställning!\n\nVälkomna att upptäcka kreativiteten och mångsidigheten hos våra egna medlemmar.
URL:https://motalasjostad.se/ec-event/medlemsutstallning/2025-12-10/
LOCATION:Dubergska gården\, Bispmotalagatan 34\, Motala\, 59130
ATTACH;FMTTYPE=image/jpeg:https://motalasjostad.se/wp-content/uploads/2025/11/Vernissagekort-Medlemsutstallning-2025-e1763372515509.jpg
ORGANIZER;CN="Motala Konstf%C3%B6rening":MAILTO:info@motalakonstforening.se
END:VEVENT
BEGIN:VEVENT
DTSTART;TZID=Europe/Paris:20251210T160000
DTEND;TZID=Europe/Paris:20251210T180000
DTSTAMP:20260425T232938
CREATED:20251126T113108Z
LAST-MODIFIED:20251126T113108Z
UID:10013597-1765382400-1765389600@motalasjostad.se
SUMMARY:Prova på schack
DESCRIPTION:Från 8 år. Vill du prova på att lära dig mer om att spela schack? Motala schacksällskap finns på plats på biblioteket och visar. Drop-in.
URL:https://motalasjostad.se/ec-event/prova-pa-schack-11/
LOCATION:Motala huvudbibliotek
CATEGORIES:Barn/ungdom
ATTACH;FMTTYPE=image/jpeg:https://motalasjostad.se/wp-content/uploads/2025/11/Prova-pa-schack-HT24-e1764156661193.jpg
END:VEVENT
BEGIN:VEVENT
DTSTART;TZID=Europe/Paris:20251210T140000
DTEND;TZID=Europe/Paris:20251210T163000
DTSTAMP:20260425T232938
CREATED:20251126T113824Z
LAST-MODIFIED:20251126T113824Z
UID:10013583-1765375200-1765384200@motalasjostad.se
SUMMARY:Digitala första hjälpen
DESCRIPTION:Välkommen till vår drop-in där vi svarar på dina grundläggande frågor om IT. Ta gärna med din telefon\, surfplatta eller laptop. Här kan du även få hjälp med att hantera Konsumentverkets hemsida.
URL:https://motalasjostad.se/ec-event/digitala-forsta-hjalpen-68/2025-12-10/
LOCATION:Motala huvudbibliotek
CATEGORIES:Övriga evenemang
ATTACH;FMTTYPE=image/png:https://motalasjostad.se/wp-content/uploads/2025/11/DFH-HT25-1-e1764157085598.png
END:VEVENT
BEGIN:VEVENT
DTSTART;TZID=Europe/Paris:20251210T140000
DTEND;TZID=Europe/Paris:20251210T150000
DTSTAMP:20260425T232938
CREATED:20251201T112525Z
LAST-MODIFIED:20251201T112525Z
UID:10013648-1765375200-1765378800@motalasjostad.se
SUMMARY:Motalas gårdar - extra insatt
DESCRIPTION:Höstens föredrag om Motalas gårdar var uppskattat!\nHårstorp\, Duvedal\, Bergsätter och Bondebacka – idag stadsdelar i Motala\, förr stora gårdar med lång historia. Vi berättar om människorna som bodde där\, historien\, anekdoter och deras roll i staden Motalas utveckling.\nSå för er som inte fick plats så finns en chans till innan jul.\nOnsdag den 10 december kl 14-15\, boka din plats här: https://www.sveciatravels.se/motalas-gardar-extra\nEller ring oss 0141-20 99 00 eller mail info@sveciatravels.se\nwww.sveciatravels.se\nVälkomna
URL:https://motalasjostad.se/ec-event/motalas-gardar-extra-insatt/
LOCATION:Svecia Travels\, Poppelgatan 8\, Motala\, 591 35\, Sweden
CATEGORIES:Gudningar och föreläsningar
ATTACH;FMTTYPE=image/jpeg:https://motalasjostad.se/wp-content/uploads/2025/12/motalas-gardar-1-e1764588318517.jpg
ORGANIZER;CN="Svecia Travels Guidningar":MAILTO:info@sveciatravels.se
END:VEVENT
BEGIN:VEVENT
DTSTART;TZID=Europe/Paris:20251209T190000
DTEND;TZID=Europe/Paris:20251209T210000
DTSTAMP:20260425T232938
CREATED:20250925T091407Z
LAST-MODIFIED:20250925T091548Z
UID:10009631-1765306800-1765314000@motalasjostad.se
SUMMARY:"Christmas with Elvis"
DESCRIPTION:”Christmas with Elvis”\nJulsuccén är tillbaka! En stämningsfull julkonsert med Henrik ”Elvis” Åberg. Gästartist: Jerry ”Lee” Carlson.\n”Sveriges Elvis” Henrik Åberg är äntligen tillbaks med sin hyllade julkonsert\, där Elvis jul och gospel låtar står i centrum. Med som gästartist är kollegan Jerry Carlson\, vida känd för sina tolkningar av Jerry Lee Lewis\, Elvis ständige rival.\nTillsammans med skickliga musiker bjuder dom på en oförglömlig julkonsert!\nNjut av allt från klassiska jul-hits\, till låtar som exempelvis Blue Christmas\, How Great Thou Art\, Silent Night och Great Balls Of Fire som får nostalgins vindar att värma i det kyliga December.\nHenrik Åberg och Jerry Carlson har vi tidigare sett i b.l.a TV4:s tittarsuccé ”Sikta mot Stjärnorna”. Men även i hyllade konsertturnéer som ”The Legends”\, ”Så minns vi Elvis”\, och ”Kings of Rock’n Roll” samt en rad andra shower\, tv- och radioprogram genom åren i Sverige såväl som utomlands.\nKonsertlängd: 120 min. inkl. paus\n\n\n\n\n\n\nBiljetter\nwww.tickster.com/se/sv/events/4t58t84lrezv1eh/2025-12-09/christmas-with-elvis
URL:https://motalasjostad.se/ec-event/christmas-with-elvis/
LOCATION:Folkets Hus\, Repslagargatan 3\, Motala\, 591 30
CATEGORIES:Musik
ATTACH;FMTTYPE=image/jpeg:https://motalasjostad.se/wp-content/uploads/2025/09/elvis-e1758791743662.jpg
END:VEVENT
BEGIN:VEVENT
DTSTART;TZID=Europe/Paris:20251209T170000
DTEND;TZID=Europe/Paris:20251209T190000
DTSTAMP:20260425T232938
CREATED:20251126T113727Z
LAST-MODIFIED:20251126T113727Z
UID:10013587-1765299600-1765306800@motalasjostad.se
SUMMARY:Språkträning
DESCRIPTION:På Motala huvudbibliotek finns möjligheten att få hjälp med att träna på det svenska språket\, tyda krångliga brev\, skriva jobbansökningar med mera. I samarbete med Folkuniversitetet \n 
URL:https://motalasjostad.se/ec-event/spraktraning-41/2025-12-09/
LOCATION:Motala huvudbibliotek
CATEGORIES:Övriga evenemang
ATTACH;FMTTYPE=image/png:https://motalasjostad.se/wp-content/uploads/2025/11/Spraktraning-HT-25-e1764157035137.png
END:VEVENT
BEGIN:VEVENT
DTSTART;TZID=Europe/Paris:20251209T170000
DTEND;TZID=Europe/Paris:20251209T190000
DTSTAMP:20260425T232938
CREATED:20251117T094043Z
LAST-MODIFIED:20251117T094044Z
UID:10013549-1765299600-1765306800@motalasjostad.se
SUMMARY:Medlemsutställning
DESCRIPTION:Nu är det dags igen för Motala Konstförenings medlemsutställning!\n\nVälkomna att upptäcka kreativiteten och mångsidigheten hos våra egna medlemmar.
URL:https://motalasjostad.se/ec-event/medlemsutstallning/2025-12-09/
LOCATION:Dubergska gården\, Bispmotalagatan 34\, Motala\, 59130
ATTACH;FMTTYPE=image/jpeg:https://motalasjostad.se/wp-content/uploads/2025/11/Vernissagekort-Medlemsutstallning-2025-e1763372515509.jpg
ORGANIZER;CN="Motala Konstf%C3%B6rening":MAILTO:info@motalakonstforening.se
END:VEVENT
BEGIN:VEVENT
DTSTART;TZID=Europe/Paris:20251209T153000
DTEND;TZID=Europe/Paris:20251209T163000
DTSTAMP:20260425T232938
CREATED:20251126T113159Z
LAST-MODIFIED:20251126T113159Z
UID:10013596-1765294200-1765297800@motalasjostad.se
SUMMARY:MangaMania - Slice of life
DESCRIPTION:Gillar du att läsa manga eller titta på anime? Gillar du att ge eller få bok- och filmtips? Då är MangaMania något för dig! Denna gång pratar vi manga som visar vardagsbekymmer och skolliv. Vi kommer bland annat prata om Yotsuba&!\, Horimiya och A Silent Voice. Ingen anmälan.
URL:https://motalasjostad.se/ec-event/mangamania-slice-of-life/
LOCATION:Motala huvudbibliotek
CATEGORIES:Barn/ungdom
ATTACH;FMTTYPE=image/png:https://motalasjostad.se/wp-content/uploads/2025/11/MangaMania-Slice-of-life-e1764156711247.png
END:VEVENT
BEGIN:VEVENT
DTSTART;TZID=Europe/Paris:20251209T140000
DTEND;TZID=Europe/Paris:20251209T150000
DTSTAMP:20260425T232938
CREATED:20251203T075920Z
LAST-MODIFIED:20251203T075920Z
UID:10013652-1765288800-1765292400@motalasjostad.se
SUMMARY:Extra insatt föreläsning - Det glada nöjeslivet i Motala på 1900-talet
DESCRIPTION:Nöjeslivet i Motala var glatt och livligt under 1900-talet. Vi berättar om gamla och nya Folkets Hus/Park\, Rivoli\, alla olika biograferna som fanns—Royal\, Regina\, Saga med flera. Och såklart det glada livet på Motala Stadshotell\, Gästis och dansbanorna!\nPris: 140 kr per person\, betalas på plats med swish eller med jämna kontanter.Boka alltid din plats\, det är ofta fullbokat!Ring 0141-20 99 00 eller skicka ett mail till info@sveciatravels.seLäs mer på www.sveciatravels.seVälkomna!
URL:https://motalasjostad.se/ec-event/extra-insatt-forelasning-det-glada-nojeslivet-i-motala-pa-1900-talet/
LOCATION:Svecia Travels kontor\, Poppelgatan 8\, Motala
CATEGORIES:Gudningar och föreläsningar
ATTACH;FMTTYPE=image/jpeg:https://motalasjostad.se/wp-content/uploads/2025/12/det-glada-nojes-livet-e1764748756530.jpg
ORGANIZER;CN="Svecia Travels Guidningar":MAILTO:info@sveciatravels.se
END:VEVENT
BEGIN:VEVENT
DTSTART;TZID=Europe/Paris:20251209T100000
DTEND;TZID=Europe/Paris:20251209T113000
DTSTAMP:20260425T232938
CREATED:20251126T113916Z
LAST-MODIFIED:20251126T113916Z
UID:10013580-1765274400-1765279800@motalasjostad.se
SUMMARY:Digitala första hjälpen
DESCRIPTION:Välkommen till vår drop-in där vi svarar på dina grundläggande frågor om IT. Ta gärna med din telefon\, surfplatta eller laptop. Här kan du även få hjälp med att hantera Konsumentverkets hemsida. \n 
URL:https://motalasjostad.se/ec-event/digitala-forsta-hjalpen-69/2025-12-09/
LOCATION:Motala huvudbibliotek
CATEGORIES:Övriga evenemang
ATTACH;FMTTYPE=image/png:https://motalasjostad.se/wp-content/uploads/2025/11/DFH-HT25-e1764157145913.png
END:VEVENT
BEGIN:VEVENT
DTSTART;TZID=Europe/Paris:20251209T093000
DTEND;TZID=Europe/Paris:20251209T100000
DTSTAMP:20260425T232938
CREATED:20251126T112001Z
LAST-MODIFIED:20251126T112001Z
UID:10013606-1765272600-1765274400@motalasjostad.se
SUMMARY:Minibio - Jims vinter
DESCRIPTION:Passar från 2 år. En gång i månaden visar vi film för de yngsta. Denna gång visar vi den bilderboksbaserade filmen Jims vinter. Anmälan på biblioteket eller på 0141-22 58 75. Ta gärna med matsäck om du vill fika efteråt.
URL:https://motalasjostad.se/ec-event/minibio-jims-vinter-2/
LOCATION:Borensbergs Bibliotek\, Husbyvägen 13\, Borensberg\, 59175
CATEGORIES:Barn/ungdom
ATTACH;FMTTYPE=image/png:https://motalasjostad.se/wp-content/uploads/2025/11/Minibio-HT25-e1764155993130.png
END:VEVENT
BEGIN:VEVENT
DTSTART;TZID=Europe/Paris:20251208T140000
DTEND;TZID=Europe/Paris:20251208T153000
DTSTAMP:20260425T232938
CREATED:20251126T113638Z
LAST-MODIFIED:20251126T113638Z
UID:10013591-1765202400-1765207800@motalasjostad.se
SUMMARY:Läsa tillsammans
DESCRIPTION:Välkommen till Läsa tillsammans – högläsning för vuxna där vi läser noveller och dikter högt tillsammans och samtalar om det vi läser. Det krävs inga förberedelser. Anmälan till biblioteket på 0141-22 51 00 eller på e-post till bibl.info@motala.se eller till Seniorcenter på 0141-22 24 60 eller på e-post till seniorcenter@motala.se senast onsdag 3 december. OBS! Plats: Seniorcenter\, Båtsmansgatan 7 \n 
URL:https://motalasjostad.se/ec-event/lasa-tillsammans-9/
LOCATION:Seniorcenter\, Båtsmansgatan 7
CATEGORIES:Övriga evenemang
ATTACH;FMTTYPE=image/png:https://motalasjostad.se/wp-content/uploads/2025/11/Lasa-tillsammans1-e1764156993310.png
END:VEVENT
BEGIN:VEVENT
DTSTART;TZID=Europe/Paris:20251208T100000
DTEND;TZID=Europe/Paris:20251208T120000
DTSTAMP:20260425T232938
CREATED:20251126T114000Z
LAST-MODIFIED:20251126T114000Z
UID:10013578-1765188000-1765195200@motalasjostad.se
SUMMARY:Våga fråga om det digitala
DESCRIPTION:DigidelCenter bjuder in till tre tematillfällen där vi kommer prata om allt från vad du bör tänka på när du handlar online till varför behövs inloggning och lösenord. Du kan komma på alla tre tillfällena eller endast det som låter mest intressant. Ingen anmälan. Ej drop-in. Vi bjuder på fika. Vid detta andra tillfället tar vi upp e-handel. Kommande tillfälle: 15/12.
URL:https://motalasjostad.se/ec-event/vaga-fraga-om-det-digitala/
LOCATION:Motala huvudbibliotek
CATEGORIES:Övriga evenemang
ATTACH;FMTTYPE=image/png:https://motalasjostad.se/wp-content/uploads/2025/11/Vaga-fraga-e-handel-e1764157194933.png
END:VEVENT
BEGIN:VEVENT
DTSTART;TZID=Europe/Paris:20251207T160000
DTEND;TZID=Europe/Paris:20251207T180000
DTSTAMP:20260425T232938
CREATED:20251028T081436Z
LAST-MODIFIED:20251028T081612Z
UID:10013507-1765123200-1765130400@motalasjostad.se
SUMMARY:Julkonsert
DESCRIPTION:Som traditionen bjuder ger Motala Kammarkör i samarbete med Bostadsstiftelsen Platen och Motala Teaterförening en julkonsert i Folkets Hus stora scen. Även i år är underbara Frida Knutsson gästartist.\nBiljetter finns på https://www.riksteatern.se/…/julkonsert-med-motala…/\nBiljetter säljs via Tickster och Rapps Foto i Motala/Linköping samt i foajén 1 timma innan föreställning Ordinarie 150 kr\, Scenpass 100 kr\, Platenkort 75 kr (max 2/kort)\, Ungdom under 25 år 75 kr. För bokning av HK-plats vänligen kontakta Motala Teaterförening på motala.tf@gmail.com\nVarmt välkommen!
URL:https://motalasjostad.se/ec-event/julkonsert-3/
LOCATION:Folkets Hus\, Teatersalongen\, Sjögatan 5\, Motala\, 591 50\, Sweden
CATEGORIES:Musik
ATTACH;FMTTYPE=image/jpeg:https://motalasjostad.se/wp-content/uploads/2025/10/julkonsert-e1761639368118.jpg
END:VEVENT
BEGIN:VEVENT
DTSTART;TZID=Europe/Paris:20251207T130000
DTEND;TZID=Europe/Paris:20251207T160000
DTSTAMP:20260425T232938
CREATED:20251117T094043Z
LAST-MODIFIED:20251117T094044Z
UID:10013548-1765112400-1765123200@motalasjostad.se
SUMMARY:Medlemsutställning
DESCRIPTION:Nu är det dags igen för Motala Konstförenings medlemsutställning!\n\nVälkomna att upptäcka kreativiteten och mångsidigheten hos våra egna medlemmar.
URL:https://motalasjostad.se/ec-event/medlemsutstallning/2025-12-07/
LOCATION:Dubergska gården\, Bispmotalagatan 34\, Motala\, 59130
ATTACH;FMTTYPE=image/jpeg:https://motalasjostad.se/wp-content/uploads/2025/11/Vernissagekort-Medlemsutstallning-2025-e1763372515509.jpg
ORGANIZER;CN="Motala Konstf%C3%B6rening":MAILTO:info@motalakonstforening.se
END:VEVENT
BEGIN:VEVENT
DTSTART;TZID=Europe/Paris:20251207T110000
DTEND;TZID=Europe/Paris:20251207T160000
DTSTAMP:20260425T232938
CREATED:20251105T103612Z
LAST-MODIFIED:20251105T104337Z
UID:10013533-1765105200-1765123200@motalasjostad.se
SUMMARY:Julmarknad - Medevi Brunn
DESCRIPTION:Den andra advent (6-7 december) kommer vi att ha julmarknad på Medevi Brunns området. Utställare/försäljare kommer fylla stora matsalen och utomhus längs stora gången.\nPå torget arrangeras ponnyridning och käpphästtävling. I Societetsbyggnaden finns fika att köpa\, och både där och i kyrkan bjuds det på musik. I Wärdshuset dukas det upp till julbord. Under båda dagarna hålls dessutom drop-in-guidningar.
URL:https://motalasjostad.se/ec-event/julmarknad-medevi-brunn/2025-12-07/
LOCATION:Medevi brunn\, Medevi Brunn 6b\, Motala
CATEGORIES:Övriga evenemang
ATTACH;FMTTYPE=image/jpeg:https://motalasjostad.se/wp-content/uploads/2025/11/jul-medevi-1-e1762339411963.jpg
END:VEVENT
BEGIN:VEVENT
DTSTART;TZID=Europe/Paris:20251207T100000
DTEND;TZID=Europe/Paris:20251207T180000
DTSTAMP:20260425T232938
CREATED:20250926T112241Z
LAST-MODIFIED:20250926T112722Z
UID:10009637-1765101600-1765130400@motalasjostad.se
SUMMARY:Julmarknad
DESCRIPTION:Julmarknaden är en livlig marknad fylld till brädden med julens glädje. Ta emot en kopp rykande varm Brunneby Glögg och strosa omkring bland marknadsstånden som fyllts med hantverk\, mathantverk och hemslöjd.  Tomten kommer lördag och söndag\, ta gärna med önskelistan! I barnens pysselhörna får man prova gammaldags julpyssel. På restaurangen serveras god julmat\, matiga smörgåsar och fika. \nUnder julen inbäddas Brunneby Musteri i magisk julstämning. Doften av glögg\, pepparkakor och julens goda smaker letar sig fram till ditt hjärta. Vi klär gården i juleskrud\, med granar\, granris och juleljus! Välkommen in i den varma ombonade Gårdsbutiken. Här hittar du allt som hör julen till\, julhandla dina favoriter i vår mysiga Gårdsbutik! Våra populära presentpåsar och korgar är omtyckta julklappar. Missa inte vår goda glögg i olika smaker samt julmust!
URL:https://motalasjostad.se/ec-event/julmarknad-3/2025-12-07/
LOCATION:Brunneby Musteri\, Brunneby Gård\, Borensberg\, 59177
ATTACH;FMTTYPE=image/jpeg:https://motalasjostad.se/wp-content/uploads/2025/09/jul-brunneby-2-e1758886034920.jpg
ORGANIZER;CN="Brunneby Musteri":MAILTO:info@brunnebymusteri.se
END:VEVENT
BEGIN:VEVENT
DTSTART;TZID=Europe/Paris:20251206T190000
DTEND;TZID=Europe/Paris:20251206T190000
DTSTAMP:20260425T232938
CREATED:20250710T065113Z
LAST-MODIFIED:20250710T070241Z
UID:10007661-1765047600-1765047600@motalasjostad.se
SUMMARY:Lastkaj 14 på Bomber Bar
DESCRIPTION:Lastkaj 14 bildades av Stryparn (Pierre Pettersson\, bas/sång) och Dr. Dille (Olle Ferner\, trummor/sång). Senare anslöt Kapten Grå (Markus Johansson\, gitarr/sång) 2012 och Bulten (Ammy Olofsson\, gitarr/sång) 2015\, vilket formade Deras musik kännetecknas av snabb trallpunk med melodiska inslag och starka politiska texter.den nuvarande kvartetten.\nBiljetter: www.tickster.com
URL:https://motalasjostad.se/ec-event/lastkaj-14-pa-bomber-bar/
LOCATION:Bomber Bar\, Prästgatan 3\, Motala\, 591 30\, Sweden
CATEGORIES:Musik
ATTACH;FMTTYPE=image/jpeg:https://motalasjostad.se/wp-content/uploads/2025/07/Lastkaj-14-2025.jpg
ORGANIZER;CN="Bomber Bar":MAILTO:bomberbarmotala@gmail.com
END:VEVENT
BEGIN:VEVENT
DTSTART;TZID=Europe/Paris:20251206T130000
DTEND;TZID=Europe/Paris:20251206T140000
DTSTAMP:20260425T232938
CREATED:20251126T113255Z
LAST-MODIFIED:20251126T113255Z
UID:10013595-1765026000-1765029600@motalasjostad.se
SUMMARY:Sagolördag - Jul
DESCRIPTION:För dig mellan 3-5 år som älskar berättelser och pyssel. Denna lördag blir det saga på temat jul. Efteråt pysslar vi tillsammans. Ingen anmälan.
URL:https://motalasjostad.se/ec-event/sagolordag-jul/
LOCATION:Motala huvudbibliotek
CATEGORIES:Barn/ungdom
ATTACH;FMTTYPE=image/png:https://motalasjostad.se/wp-content/uploads/2025/11/Sagolordag-HT-25-e1764156767393.png
END:VEVENT
BEGIN:VEVENT
DTSTART;TZID=Europe/Paris:20251206T120000
DTEND;TZID=Europe/Paris:20251206T150000
DTSTAMP:20260425T232938
CREATED:20250822T083736Z
LAST-MODIFIED:20250822T083736Z
UID:10009521-1765022400-1765033200@motalasjostad.se
SUMMARY:Vinlunch Bordeaux
DESCRIPTION:Sista resan för denna höstsäsong stannar vår resa i Bordeaux\, ett av världens mest kända och ansedda vindistrikt. Distriktet är mest känt för sina röda viner som oftast tillverkas på en blandning av druvor och som är lagringsdugliga. Några av dessa i kombination med fantastiska franska rätter serveras vid denna vinlunch. \nLunchen i sin helhet \nNi är varmt välkomna till Restaurang Sjöbris kl.12.00. Här presenteras en 2:rätters meny inklusive bubbelmingel vid er ankomst samt vin till både förrätt och varmrätt. Föreläsning hålls av Zoran Stanic. Vinlunchen avslutas ca 15.00. (För de som önskar kan man köpa till kaffe och efterrätt efter avslutad vinlunch.) \nEj Återköp på köpt biljett. \nVill du veta mer och även prova mat och vin från Bordeaux\, se då till att boka din plats redan idag. \nBiljetterna köper ni via Tickster.com. \n– Varmt välkomna!
URL:https://motalasjostad.se/ec-event/vinlunch-bordeaux/
LOCATION:Restaurang Sjöbris\, Sjögatan 1\, Motala
CATEGORIES:Mat & Dryck
ATTACH;FMTTYPE=image/png:https://motalasjostad.se/wp-content/uploads/2025/08/Vinlunch-Bordeaux-6.12-e1755851851437.png
ORGANIZER;CN="Restaurang Sj%C3%B6bris":MAILTO:info@motalafolketshus.se
END:VEVENT
BEGIN:VEVENT
DTSTART;TZID=Europe/Paris:20251206T110000
DTEND;TZID=Europe/Paris:20251206T160000
DTSTAMP:20260425T232938
CREATED:20251105T103612Z
LAST-MODIFIED:20251105T104337Z
UID:10013534-1765018800-1765036800@motalasjostad.se
SUMMARY:Julmarknad - Medevi Brunn
DESCRIPTION:Den andra advent (6-7 december) kommer vi att ha julmarknad på Medevi Brunns området. Utställare/försäljare kommer fylla stora matsalen och utomhus längs stora gången.\nPå torget arrangeras ponnyridning och käpphästtävling. I Societetsbyggnaden finns fika att köpa\, och både där och i kyrkan bjuds det på musik. I Wärdshuset dukas det upp till julbord. Under båda dagarna hålls dessutom drop-in-guidningar.
URL:https://motalasjostad.se/ec-event/julmarknad-medevi-brunn/2025-12-06/
LOCATION:Medevi brunn\, Medevi Brunn 6b\, Motala
CATEGORIES:Övriga evenemang
ATTACH;FMTTYPE=image/jpeg:https://motalasjostad.se/wp-content/uploads/2025/11/jul-medevi-1-e1762339411963.jpg
END:VEVENT
BEGIN:VEVENT
DTSTART;TZID=Europe/Paris:20251206T110000
DTEND;TZID=Europe/Paris:20251206T150000
DTSTAMP:20260425T232938
CREATED:20251117T094043Z
LAST-MODIFIED:20251117T094044Z
UID:10013547-1765018800-1765033200@motalasjostad.se
SUMMARY:Medlemsutställning
DESCRIPTION:Nu är det dags igen för Motala Konstförenings medlemsutställning!\n\nVälkomna att upptäcka kreativiteten och mångsidigheten hos våra egna medlemmar.
URL:https://motalasjostad.se/ec-event/medlemsutstallning/2025-12-06/
LOCATION:Dubergska gården\, Bispmotalagatan 34\, Motala\, 59130
ATTACH;FMTTYPE=image/jpeg:https://motalasjostad.se/wp-content/uploads/2025/11/Vernissagekort-Medlemsutstallning-2025-e1763372515509.jpg
ORGANIZER;CN="Motala Konstf%C3%B6rening":MAILTO:info@motalakonstforening.se
END:VEVENT
BEGIN:VEVENT
DTSTART;TZID=Europe/Paris:20251206T110000
DTEND;TZID=Europe/Paris:20251206T113000
DTSTAMP:20260425T232938
CREATED:20251126T113357Z
LAST-MODIFIED:20251126T113357Z
UID:10013594-1765018800-1765020600@motalasjostad.se
SUMMARY:Lilla Luciatåget
DESCRIPTION:Kulturskolans yngsta kör Novastar har luciatåg i biblioteket. Ingen anmälan. \n 
URL:https://motalasjostad.se/ec-event/lilla-luciataget-2/
LOCATION:Motala huvudbibliotek
CATEGORIES:Barn/ungdom
ATTACH;FMTTYPE=image/png:https://motalasjostad.se/wp-content/uploads/2025/11/Lilla-Luciataget-e1764156825267.png
END:VEVENT
BEGIN:VEVENT
DTSTART;TZID=Europe/Paris:20251206T100000
DTEND;TZID=Europe/Paris:20251206T180000
DTSTAMP:20260425T232938
CREATED:20250926T112241Z
LAST-MODIFIED:20250926T112722Z
UID:10009636-1765015200-1765044000@motalasjostad.se
SUMMARY:Julmarknad
DESCRIPTION:Julmarknaden är en livlig marknad fylld till brädden med julens glädje. Ta emot en kopp rykande varm Brunneby Glögg och strosa omkring bland marknadsstånden som fyllts med hantverk\, mathantverk och hemslöjd.  Tomten kommer lördag och söndag\, ta gärna med önskelistan! I barnens pysselhörna får man prova gammaldags julpyssel. På restaurangen serveras god julmat\, matiga smörgåsar och fika. \nUnder julen inbäddas Brunneby Musteri i magisk julstämning. Doften av glögg\, pepparkakor och julens goda smaker letar sig fram till ditt hjärta. Vi klär gården i juleskrud\, med granar\, granris och juleljus! Välkommen in i den varma ombonade Gårdsbutiken. Här hittar du allt som hör julen till\, julhandla dina favoriter i vår mysiga Gårdsbutik! Våra populära presentpåsar och korgar är omtyckta julklappar. Missa inte vår goda glögg i olika smaker samt julmust!
URL:https://motalasjostad.se/ec-event/julmarknad-3/2025-12-06/
LOCATION:Brunneby Musteri\, Brunneby Gård\, Borensberg\, 59177
ATTACH;FMTTYPE=image/jpeg:https://motalasjostad.se/wp-content/uploads/2025/09/jul-brunneby-2-e1758886034920.jpg
ORGANIZER;CN="Brunneby Musteri":MAILTO:info@brunnebymusteri.se
END:VEVENT
BEGIN:VEVENT
DTSTART;TZID=Europe/Paris:20251206T100000
DTEND;TZID=Europe/Paris:20251206T150000
DTSTAMP:20260425T232938
CREATED:20251111T122933Z
LAST-MODIFIED:20251111T123015Z
UID:10013543-1765015200-1765033200@motalasjostad.se
SUMMARY:Julmarknad i Ekebyborna
DESCRIPTION:Välkomna på traditionell julmarknad i Ekebyborna Gamla Prästgård. Hantverkare ställer ut kransar\, stickat\, trådslöjd\, mattor\, ljus\, trä hantverk\, keramik\,  mat hantverk mm. Kaffeservering med hembakat. \nPå eftermiddagen kommer lucia med tärnor och sjunger.
URL:https://motalasjostad.se/ec-event/julmarknad-i-ekebyborna-2/
LOCATION:Ekebyborna 365\, Ekebyborna 365\, Motala\, Sweden
CATEGORIES:Övriga evenemang
ATTACH;FMTTYPE=image/jpeg:https://motalasjostad.se/wp-content/uploads/2025/11/Bild-Inbjudan-jul-2024-JPG-e1762864211889.jpg
ORGANIZER;CN="Ask-Ekebyborna hembygdsf%C3%B6rening":MAILTO:askekebyborna@gmail.com
END:VEVENT
BEGIN:VEVENT
DTSTART;TZID=Europe/Paris:20251206T100000
DTEND;TZID=Europe/Paris:20251206T130000
DTSTAMP:20260425T232938
CREATED:20251106T080517Z
LAST-MODIFIED:20251106T080624Z
UID:10013536-1765015200-1765026000@motalasjostad.se
SUMMARY:Julkul i kyrkan!
DESCRIPTION:Vad var det som hände den första julen?\nHjälp de vise männen\, änglarna och herdarna att hitta fram till Jeususbarnet!\nDrop-in
URL:https://motalasjostad.se/ec-event/julkul-i-kyrkan/
LOCATION:Motala Kyrka\, Sjögatan 9\, Motala
CATEGORIES:Barn/ungdom
ATTACH;FMTTYPE=image/jpeg:https://motalasjostad.se/wp-content/uploads/2025/11/Julkrubba-e1762416380999.jpg
ORGANIZER;CN="Motala f%C3%B6rsamling":MAILTO:motala.forsamling@svenskakyrkan.se
END:VEVENT
END:VCALENDAR