BEGIN:VCALENDAR
VERSION:2.0
PRODID:-//Motala Sjöstad - ECPv6.13.2.1//NONSGML v1.0//EN
CALSCALE:GREGORIAN
METHOD:PUBLISH
X-ORIGINAL-URL:https://motalasjostad.se
X-WR-CALDESC:Händelser för Motala Sjöstad
REFRESH-INTERVAL;VALUE=DURATION:PT1H
X-Robots-Tag:noindex
X-PUBLISHED-TTL:PT1H
BEGIN:VTIMEZONE
TZID:Europe/Paris
BEGIN:DAYLIGHT
TZOFFSETFROM:+0100
TZOFFSETTO:+0200
TZNAME:CEST
DTSTART:20250330T010000
END:DAYLIGHT
BEGIN:STANDARD
TZOFFSETFROM:+0200
TZOFFSETTO:+0100
TZNAME:CET
DTSTART:20251026T010000
END:STANDARD
BEGIN:DAYLIGHT
TZOFFSETFROM:+0100
TZOFFSETTO:+0200
TZNAME:CEST
DTSTART:20260329T010000
END:DAYLIGHT
BEGIN:STANDARD
TZOFFSETFROM:+0200
TZOFFSETTO:+0100
TZNAME:CET
DTSTART:20261025T010000
END:STANDARD
END:VTIMEZONE
BEGIN:VEVENT
DTSTART;TZID=Europe/Paris:20251206T110000
DTEND;TZID=Europe/Paris:20251206T160000
DTSTAMP:20260426T030116
CREATED:20251105T103612Z
LAST-MODIFIED:20251105T104337Z
UID:10013534-1765018800-1765036800@motalasjostad.se
SUMMARY:Julmarknad - Medevi Brunn
DESCRIPTION:Den andra advent (6-7 december) kommer vi att ha julmarknad på Medevi Brunns området. Utställare/försäljare kommer fylla stora matsalen och utomhus längs stora gången.\nPå torget arrangeras ponnyridning och käpphästtävling. I Societetsbyggnaden finns fika att köpa\, och både där och i kyrkan bjuds det på musik. I Wärdshuset dukas det upp till julbord. Under båda dagarna hålls dessutom drop-in-guidningar.
URL:https://motalasjostad.se/ec-event/julmarknad-medevi-brunn/2025-12-06/
LOCATION:Medevi brunn\, Medevi Brunn 6b\, Motala
CATEGORIES:Övriga evenemang
ATTACH;FMTTYPE=image/jpeg:https://motalasjostad.se/wp-content/uploads/2025/11/jul-medevi-1-e1762339411963.jpg
END:VEVENT
BEGIN:VEVENT
DTSTART;TZID=Europe/Paris:20251206T110000
DTEND;TZID=Europe/Paris:20251206T150000
DTSTAMP:20260426T030116
CREATED:20251117T094043Z
LAST-MODIFIED:20251117T094044Z
UID:10013547-1765018800-1765033200@motalasjostad.se
SUMMARY:Medlemsutställning
DESCRIPTION:Nu är det dags igen för Motala Konstförenings medlemsutställning!\n\nVälkomna att upptäcka kreativiteten och mångsidigheten hos våra egna medlemmar.
URL:https://motalasjostad.se/ec-event/medlemsutstallning/2025-12-06/
LOCATION:Dubergska gården\, Bispmotalagatan 34\, Motala\, 59130
ATTACH;FMTTYPE=image/jpeg:https://motalasjostad.se/wp-content/uploads/2025/11/Vernissagekort-Medlemsutstallning-2025-e1763372515509.jpg
ORGANIZER;CN="Motala Konstf%C3%B6rening":MAILTO:info@motalakonstforening.se
END:VEVENT
BEGIN:VEVENT
DTSTART;TZID=Europe/Paris:20251206T110000
DTEND;TZID=Europe/Paris:20251206T113000
DTSTAMP:20260426T030116
CREATED:20251126T113357Z
LAST-MODIFIED:20251126T113357Z
UID:10013594-1765018800-1765020600@motalasjostad.se
SUMMARY:Lilla Luciatåget
DESCRIPTION:Kulturskolans yngsta kör Novastar har luciatåg i biblioteket. Ingen anmälan. \n 
URL:https://motalasjostad.se/ec-event/lilla-luciataget-2/
LOCATION:Motala huvudbibliotek
CATEGORIES:Barn/ungdom
ATTACH;FMTTYPE=image/png:https://motalasjostad.se/wp-content/uploads/2025/11/Lilla-Luciataget-e1764156825267.png
END:VEVENT
BEGIN:VEVENT
DTSTART;TZID=Europe/Paris:20251206T100000
DTEND;TZID=Europe/Paris:20251206T180000
DTSTAMP:20260426T030116
CREATED:20250926T112241Z
LAST-MODIFIED:20250926T112722Z
UID:10009636-1765015200-1765044000@motalasjostad.se
SUMMARY:Julmarknad
DESCRIPTION:Julmarknaden är en livlig marknad fylld till brädden med julens glädje. Ta emot en kopp rykande varm Brunneby Glögg och strosa omkring bland marknadsstånden som fyllts med hantverk\, mathantverk och hemslöjd.  Tomten kommer lördag och söndag\, ta gärna med önskelistan! I barnens pysselhörna får man prova gammaldags julpyssel. På restaurangen serveras god julmat\, matiga smörgåsar och fika. \nUnder julen inbäddas Brunneby Musteri i magisk julstämning. Doften av glögg\, pepparkakor och julens goda smaker letar sig fram till ditt hjärta. Vi klär gården i juleskrud\, med granar\, granris och juleljus! Välkommen in i den varma ombonade Gårdsbutiken. Här hittar du allt som hör julen till\, julhandla dina favoriter i vår mysiga Gårdsbutik! Våra populära presentpåsar och korgar är omtyckta julklappar. Missa inte vår goda glögg i olika smaker samt julmust!
URL:https://motalasjostad.se/ec-event/julmarknad-3/2025-12-06/
LOCATION:Brunneby Musteri\, Brunneby Gård\, Borensberg\, 59177
ATTACH;FMTTYPE=image/jpeg:https://motalasjostad.se/wp-content/uploads/2025/09/jul-brunneby-2-e1758886034920.jpg
ORGANIZER;CN="Brunneby Musteri":MAILTO:info@brunnebymusteri.se
END:VEVENT
BEGIN:VEVENT
DTSTART;TZID=Europe/Paris:20251206T100000
DTEND;TZID=Europe/Paris:20251206T150000
DTSTAMP:20260426T030116
CREATED:20251111T122933Z
LAST-MODIFIED:20251111T123015Z
UID:10013543-1765015200-1765033200@motalasjostad.se
SUMMARY:Julmarknad i Ekebyborna
DESCRIPTION:Välkomna på traditionell julmarknad i Ekebyborna Gamla Prästgård. Hantverkare ställer ut kransar\, stickat\, trådslöjd\, mattor\, ljus\, trä hantverk\, keramik\,  mat hantverk mm. Kaffeservering med hembakat. \nPå eftermiddagen kommer lucia med tärnor och sjunger.
URL:https://motalasjostad.se/ec-event/julmarknad-i-ekebyborna-2/
LOCATION:Ekebyborna 365\, Ekebyborna 365\, Motala\, Sweden
CATEGORIES:Övriga evenemang
ATTACH;FMTTYPE=image/jpeg:https://motalasjostad.se/wp-content/uploads/2025/11/Bild-Inbjudan-jul-2024-JPG-e1762864211889.jpg
ORGANIZER;CN="Ask-Ekebyborna hembygdsf%C3%B6rening":MAILTO:askekebyborna@gmail.com
END:VEVENT
BEGIN:VEVENT
DTSTART;TZID=Europe/Paris:20251206T100000
DTEND;TZID=Europe/Paris:20251206T130000
DTSTAMP:20260426T030116
CREATED:20251106T080517Z
LAST-MODIFIED:20251106T080624Z
UID:10013536-1765015200-1765026000@motalasjostad.se
SUMMARY:Julkul i kyrkan!
DESCRIPTION:Vad var det som hände den första julen?\nHjälp de vise männen\, änglarna och herdarna att hitta fram till Jeususbarnet!\nDrop-in
URL:https://motalasjostad.se/ec-event/julkul-i-kyrkan/
LOCATION:Motala Kyrka\, Sjögatan 9\, Motala
CATEGORIES:Barn/ungdom
ATTACH;FMTTYPE=image/jpeg:https://motalasjostad.se/wp-content/uploads/2025/11/Julkrubba-e1762416380999.jpg
ORGANIZER;CN="Motala f%C3%B6rsamling":MAILTO:motala.forsamling@svenskakyrkan.se
END:VEVENT
BEGIN:VEVENT
DTSTART;TZID=Europe/Paris:20251205T150000
DTEND;TZID=Europe/Paris:20251205T153000
DTSTAMP:20260426T030116
CREATED:20251126T113459Z
LAST-MODIFIED:20251126T113459Z
UID:10013593-1764946800-1764948600@motalasjostad.se
SUMMARY:Minibio - Lill-Gruffalon
DESCRIPTION:Rekommenderad ålder från ca 3 år. En snöig natt smyger Lill-Gruffalon ut i skogen trots varning från sin pappa för att söka efter den stora stygga musen. Hon möter en orm\, en uggla och en räv men inget spår efter den omtalade musen. Lill-Gruffalon börjar tro att det inte finns någon stor stark mus\, eller… Baserad på boken med samma namn av Julia Donaldson. Anmäl dig på biblioteket eller på 0141-22 51 00. Speltid 26 minuter.
URL:https://motalasjostad.se/ec-event/minibio-lill-gruffalon-2/
LOCATION:Motala huvudbibliotek
CATEGORIES:Barn/ungdom
ATTACH;FMTTYPE=image/png:https://motalasjostad.se/wp-content/uploads/2025/11/Minibio-Lill-gruffalon-e1764156894596.png
END:VEVENT
BEGIN:VEVENT
DTSTART;TZID=Europe/Paris:20251205T100000
DTEND;TZID=Europe/Paris:20251205T180000
DTSTAMP:20260426T030116
CREATED:20250926T112241Z
LAST-MODIFIED:20250926T112722Z
UID:10009638-1764928800-1764957600@motalasjostad.se
SUMMARY:Julmarknad
DESCRIPTION:Julmarknaden är en livlig marknad fylld till brädden med julens glädje. Ta emot en kopp rykande varm Brunneby Glögg och strosa omkring bland marknadsstånden som fyllts med hantverk\, mathantverk och hemslöjd.  Tomten kommer lördag och söndag\, ta gärna med önskelistan! I barnens pysselhörna får man prova gammaldags julpyssel. På restaurangen serveras god julmat\, matiga smörgåsar och fika. \nUnder julen inbäddas Brunneby Musteri i magisk julstämning. Doften av glögg\, pepparkakor och julens goda smaker letar sig fram till ditt hjärta. Vi klär gården i juleskrud\, med granar\, granris och juleljus! Välkommen in i den varma ombonade Gårdsbutiken. Här hittar du allt som hör julen till\, julhandla dina favoriter i vår mysiga Gårdsbutik! Våra populära presentpåsar och korgar är omtyckta julklappar. Missa inte vår goda glögg i olika smaker samt julmust!
URL:https://motalasjostad.se/ec-event/julmarknad-3/2025-12-05/
LOCATION:Brunneby Musteri\, Brunneby Gård\, Borensberg\, 59177
ATTACH;FMTTYPE=image/jpeg:https://motalasjostad.se/wp-content/uploads/2025/09/jul-brunneby-2-e1758886034920.jpg
ORGANIZER;CN="Brunneby Musteri":MAILTO:info@brunnebymusteri.se
END:VEVENT
BEGIN:VEVENT
DTSTART;TZID=Europe/Paris:20251204T170000
DTEND;TZID=Europe/Paris:20251204T190000
DTSTAMP:20260426T030116
CREATED:20251126T113727Z
LAST-MODIFIED:20251126T113727Z
UID:10013586-1764867600-1764874800@motalasjostad.se
SUMMARY:Språkträning
DESCRIPTION:På Motala huvudbibliotek finns möjligheten att få hjälp med att träna på det svenska språket\, tyda krångliga brev\, skriva jobbansökningar med mera. I samarbete med Folkuniversitetet \n 
URL:https://motalasjostad.se/ec-event/spraktraning-41/2025-12-04/
LOCATION:Motala huvudbibliotek
CATEGORIES:Övriga evenemang
ATTACH;FMTTYPE=image/png:https://motalasjostad.se/wp-content/uploads/2025/11/Spraktraning-HT-25-e1764157035137.png
END:VEVENT
BEGIN:VEVENT
DTSTART;TZID=Europe/Paris:20251204T140000
DTEND;TZID=Europe/Paris:20251204T160000
DTSTAMP:20260426T030116
CREATED:20251126T111554Z
LAST-MODIFIED:20251126T111554Z
UID:10013609-1764856800-1764864000@motalasjostad.se
SUMMARY:Handarbeta på bibblan
DESCRIPTION:Ta med ditt handarbete och kom till bibblan för en trevlig stund. Biblioteket bjuder på kaffe och te. Ta gärna med eget fikabröd. Ingen anmälan.
URL:https://motalasjostad.se/ec-event/handarbeta-pa-bibblan-23/2025-12-04/
LOCATION:Tjällmo bibliotek\, Länsvägen\, Tjällmo\, 59190\, Sverige
CATEGORIES:Övriga evenemang
ATTACH;FMTTYPE=image/png:https://motalasjostad.se/wp-content/uploads/2025/11/Stickcafe-Tjallmo-e1764155736103.png
END:VEVENT
BEGIN:VEVENT
DTSTART;TZID=Europe/Paris:20251204T100000
DTEND;TZID=Europe/Paris:20251204T180000
DTSTAMP:20260426T030116
CREATED:20250926T112241Z
LAST-MODIFIED:20250926T112722Z
UID:10009635-1764842400-1764871200@motalasjostad.se
SUMMARY:Julmarknad
DESCRIPTION:Julmarknaden är en livlig marknad fylld till brädden med julens glädje. Ta emot en kopp rykande varm Brunneby Glögg och strosa omkring bland marknadsstånden som fyllts med hantverk\, mathantverk och hemslöjd.  Tomten kommer lördag och söndag\, ta gärna med önskelistan! I barnens pysselhörna får man prova gammaldags julpyssel. På restaurangen serveras god julmat\, matiga smörgåsar och fika. \nUnder julen inbäddas Brunneby Musteri i magisk julstämning. Doften av glögg\, pepparkakor och julens goda smaker letar sig fram till ditt hjärta. Vi klär gården i juleskrud\, med granar\, granris och juleljus! Välkommen in i den varma ombonade Gårdsbutiken. Här hittar du allt som hör julen till\, julhandla dina favoriter i vår mysiga Gårdsbutik! Våra populära presentpåsar och korgar är omtyckta julklappar. Missa inte vår goda glögg i olika smaker samt julmust!
URL:https://motalasjostad.se/ec-event/julmarknad-3/2025-12-04/
LOCATION:Brunneby Musteri\, Brunneby Gård\, Borensberg\, 59177
ATTACH;FMTTYPE=image/jpeg:https://motalasjostad.se/wp-content/uploads/2025/09/jul-brunneby-2-e1758886034920.jpg
ORGANIZER;CN="Brunneby Musteri":MAILTO:info@brunnebymusteri.se
END:VEVENT
BEGIN:VEVENT
DTSTART;TZID=Europe/Paris:20251203T180000
DTEND;TZID=Europe/Paris:20251203T190000
DTSTAMP:20260426T030116
CREATED:20250819T101447Z
LAST-MODIFIED:20250821T090527Z
UID:10007783-1764784800-1764788400@motalasjostad.se
SUMMARY:Föreläsning - Motalas mörka historia
DESCRIPTION:I Motala avrättades den sista personen år 1834. Hör den spännande historien om galgbacken i Fålehagen\, arrestlokal och tingsplats vid Gästis\, den stora kyrkstölden och en del människoöden\, allt från tjuv till bödel. \nFörboka plats på 0141-20 99 00 eller info@sveciatravels.se. \nDatum: Onsdag 3 december 2025\nTid:\n14.00 -15.00\n16.00-17.00\n18.00-19.00\nPlats: Svecia Travels kontor på Poppelgatan 8 i Motala\nPris: 140 kr per person
URL:https://motalasjostad.se/ec-event/forelasning-motalas-morka-historia-2/2025-12-03/3/
LOCATION:Svecia Travels kontor\, Poppelgatan 8\, Motala
CATEGORIES:Gudningar och föreläsningar
ATTACH;FMTTYPE=image/jpeg:https://motalasjostad.se/wp-content/uploads/2025/08/Arrestlokal-Motala.jpg
ORGANIZER;CN="Svecia Travels":MAILTO:info@sveciatravels.se
END:VEVENT
BEGIN:VEVENT
DTSTART;TZID=Europe/Paris:20251203T163000
DTEND;TZID=Europe/Paris:20251203T190000
DTSTAMP:20260426T030116
CREATED:20251126T112313Z
LAST-MODIFIED:20251126T112313Z
UID:10013603-1764779400-1764788400@motalasjostad.se
SUMMARY:Släktforskning
DESCRIPTION:Kom och släktforska med andra släktforskare. Ta med din dator eller ditt material. DIS-Filbyter finns på plats för att ge tips och råd. För mer information kontakta bibliotekets personal på 0141-22 58 75. OBS! Träffen är under meröppettid.
URL:https://motalasjostad.se/ec-event/slaktforskning-23/
LOCATION:Borensbergs Bibliotek\, Husbyvägen 13\, Borensberg\, 59175
CATEGORIES:Övriga evenemang
ATTACH;FMTTYPE=image/png:https://motalasjostad.se/wp-content/uploads/2025/11/Slaktforskning-e1764156187828.png
END:VEVENT
BEGIN:VEVENT
DTSTART;TZID=Europe/Paris:20251203T160000
DTEND;TZID=Europe/Paris:20251203T170000
DTSTAMP:20260426T030116
CREATED:20250819T101447Z
LAST-MODIFIED:20250821T090527Z
UID:10007782-1764777600-1764781200@motalasjostad.se
SUMMARY:Föreläsning - Motalas mörka historia
DESCRIPTION:I Motala avrättades den sista personen år 1834. Hör den spännande historien om galgbacken i Fålehagen\, arrestlokal och tingsplats vid Gästis\, den stora kyrkstölden och en del människoöden\, allt från tjuv till bödel. \nFörboka plats på 0141-20 99 00 eller info@sveciatravels.se. \nDatum: Onsdag 3 december 2025\nTid:\n14.00 -15.00\n16.00-17.00\n18.00-19.00\nPlats: Svecia Travels kontor på Poppelgatan 8 i Motala\nPris: 140 kr per person
URL:https://motalasjostad.se/ec-event/forelasning-motalas-morka-historia-2/2025-12-03/2/
LOCATION:Svecia Travels kontor\, Poppelgatan 8\, Motala
CATEGORIES:Gudningar och föreläsningar
ATTACH;FMTTYPE=image/jpeg:https://motalasjostad.se/wp-content/uploads/2025/08/Arrestlokal-Motala.jpg
ORGANIZER;CN="Svecia Travels":MAILTO:info@sveciatravels.se
END:VEVENT
BEGIN:VEVENT
DTSTART;TZID=Europe/Paris:20251203T140000
DTEND;TZID=Europe/Paris:20251203T163000
DTSTAMP:20260426T030116
CREATED:20251126T113824Z
LAST-MODIFIED:20251126T113824Z
UID:10013582-1764770400-1764779400@motalasjostad.se
SUMMARY:Digitala första hjälpen
DESCRIPTION:Välkommen till vår drop-in där vi svarar på dina grundläggande frågor om IT. Ta gärna med din telefon\, surfplatta eller laptop. Här kan du även få hjälp med att hantera Konsumentverkets hemsida.
URL:https://motalasjostad.se/ec-event/digitala-forsta-hjalpen-68/2025-12-03/
LOCATION:Motala huvudbibliotek
CATEGORIES:Övriga evenemang
ATTACH;FMTTYPE=image/png:https://motalasjostad.se/wp-content/uploads/2025/11/DFH-HT25-1-e1764157085598.png
END:VEVENT
BEGIN:VEVENT
DTSTART;TZID=Europe/Paris:20251203T140000
DTEND;TZID=Europe/Paris:20251203T150000
DTSTAMP:20260426T030116
CREATED:20250819T101447Z
LAST-MODIFIED:20250821T090527Z
UID:10007763-1764770400-1764774000@motalasjostad.se
SUMMARY:Föreläsning - Motalas mörka historia
DESCRIPTION:I Motala avrättades den sista personen år 1834. Hör den spännande historien om galgbacken i Fålehagen\, arrestlokal och tingsplats vid Gästis\, den stora kyrkstölden och en del människoöden\, allt från tjuv till bödel. \nFörboka plats på 0141-20 99 00 eller info@sveciatravels.se. \nDatum: Onsdag 3 december 2025\nTid:\n14.00 -15.00\n16.00-17.00\n18.00-19.00\nPlats: Svecia Travels kontor på Poppelgatan 8 i Motala\nPris: 140 kr per person
URL:https://motalasjostad.se/ec-event/forelasning-motalas-morka-historia-2/2025-12-03/1/
LOCATION:Svecia Travels kontor\, Poppelgatan 8\, Motala
CATEGORIES:Gudningar och föreläsningar
ATTACH;FMTTYPE=image/jpeg:https://motalasjostad.se/wp-content/uploads/2025/08/Arrestlokal-Motala.jpg
ORGANIZER;CN="Svecia Travels":MAILTO:info@sveciatravels.se
END:VEVENT
BEGIN:VEVENT
DTSTART;TZID=Europe/Paris:20251202T183000
DTEND;TZID=Europe/Paris:20251202T193000
DTSTAMP:20260426T030116
CREATED:20251120T100016Z
LAST-MODIFIED:20251120T100016Z
UID:10013566-1764700200-1764703800@motalasjostad.se
SUMMARY:Aaron Isaac - Sveriges första jude
DESCRIPTION:Föreläsare Carl Henrik Carlsson är docent i historia vid Uppsala universitet och har i flera decennier forskat\, skrivit och undervisat om svensk-judisk historia ur olika aspekter. 1775 fick Aaron Isaac tillstånd att som första jude bosätta sig permanent i Sverige utan att konvertera till kristendomen. Här lade han grunden till judiskt liv i landet\, samtidigt som han hade många judefientliga aktörer att kämpa emot. Gratisbiljett finns att hämta på biblioteket. \n 
URL:https://motalasjostad.se/ec-event/aaron-isaac-sveriges-forsta-jude/
LOCATION:Motala huvudbibliotek
CATEGORIES:Gudningar och föreläsningar
ATTACH;FMTTYPE=image/png:https://motalasjostad.se/wp-content/uploads/2025/11/Aaron-Isaac.png
END:VEVENT
BEGIN:VEVENT
DTSTART;TZID=Europe/Paris:20251202T170000
DTEND;TZID=Europe/Paris:20251202T190000
DTSTAMP:20260426T030116
CREATED:20251126T113727Z
LAST-MODIFIED:20251126T113727Z
UID:10013585-1764694800-1764702000@motalasjostad.se
SUMMARY:Språkträning
DESCRIPTION:På Motala huvudbibliotek finns möjligheten att få hjälp med att träna på det svenska språket\, tyda krångliga brev\, skriva jobbansökningar med mera. I samarbete med Folkuniversitetet \n 
URL:https://motalasjostad.se/ec-event/spraktraning-41/2025-12-02/
LOCATION:Motala huvudbibliotek
CATEGORIES:Övriga evenemang
ATTACH;FMTTYPE=image/png:https://motalasjostad.se/wp-content/uploads/2025/11/Spraktraning-HT-25-e1764157035137.png
END:VEVENT
BEGIN:VEVENT
DTSTART;TZID=Europe/Paris:20251202T153000
DTEND;TZID=Europe/Paris:20251202T163000
DTSTAMP:20260426T030116
CREATED:20251126T113551Z
LAST-MODIFIED:20251126T113551Z
UID:10013592-1764689400-1764693000@motalasjostad.se
SUMMARY:Låt spelet börja! - Dinosauriernas tid
DESCRIPTION:Från 6 år. En gång i månaden testar vi tillsammans några av alla spel vi har på biblioteket. Denna gång provar vi tillsammans soloäventyrsboken Dinosauriernas tid av Ævar Þór Benediktsson. En lekfull bok där vi tillsammans bestämmer hur äventyret ska fortsätta och vi försöker ta de rätta besluten som leder oss oskadda igenom det. Klarar vi det? Det får vi hoppas… Ingen anmälan.
URL:https://motalasjostad.se/ec-event/lat-spelet-borja-dinosauriernas-tid/
LOCATION:Motala huvudbibliotek
CATEGORIES:Barn/ungdom
ATTACH;FMTTYPE=image/png:https://motalasjostad.se/wp-content/uploads/2025/11/Lat-spelet-borja-Dinosauriernas-tid--e1764156942529.png
END:VEVENT
BEGIN:VEVENT
DTSTART;TZID=Europe/Paris:20251202T100000
DTEND;TZID=Europe/Paris:20251202T113000
DTSTAMP:20260426T030116
CREATED:20251126T113916Z
LAST-MODIFIED:20251126T113916Z
UID:10013579-1764669600-1764675000@motalasjostad.se
SUMMARY:Digitala första hjälpen
DESCRIPTION:Välkommen till vår drop-in där vi svarar på dina grundläggande frågor om IT. Ta gärna med din telefon\, surfplatta eller laptop. Här kan du även få hjälp med att hantera Konsumentverkets hemsida. \n 
URL:https://motalasjostad.se/ec-event/digitala-forsta-hjalpen-69/2025-12-02/
LOCATION:Motala huvudbibliotek
CATEGORIES:Övriga evenemang
ATTACH;FMTTYPE=image/png:https://motalasjostad.se/wp-content/uploads/2025/11/DFH-HT25-e1764157145913.png
END:VEVENT
BEGIN:VEVENT
DTSTART;TZID=Europe/Paris:20251202T093000
DTEND;TZID=Europe/Paris:20251202T100000
DTSTAMP:20260426T030116
CREATED:20251126T112101Z
LAST-MODIFIED:20251126T112101Z
UID:10013605-1764667800-1764669600@motalasjostad.se
SUMMARY:Bokstund
DESCRIPTION:För barn 0-2 år och deras vuxna. Vi läser\, sjunger och ramsar tillsammans. Vi ger dig boktips för att stötta barnets språkutveckling med hjälp av böcker tidigt i livet. Ta gärna med matsäck om du vill fika efteråt. Ingen anmälan. \n 
URL:https://motalasjostad.se/ec-event/bokstund-10/
LOCATION:Borensbergs Bibliotek\, Husbyvägen 13\, Borensberg\, 59175
CATEGORIES:Barn/ungdom
ATTACH;FMTTYPE=image/png:https://motalasjostad.se/wp-content/uploads/2025/11/Bokstund-BBG-e1764156055314.png
END:VEVENT
BEGIN:VEVENT
DTSTART;TZID=Europe/Paris:20251201T100000
DTEND;TZID=Europe/Paris:20251201T120000
DTSTAMP:20260426T030116
CREATED:20251126T114042Z
LAST-MODIFIED:20251128T124511Z
UID:10013577-1764583200-1764590400@motalasjostad.se
SUMMARY:Våga fråga om det digitala
DESCRIPTION:DigidelCenter bjuder in till tre tematillfällen där vi kommer prata om allt från vad du bör tänka på när du handlar online till varför behövs inloggning och lösenord. Du kan komma på alla tre tillfällena eller endast det som låter mest intressant. Ingen anmälan. Ej drop-in. Vi bjuder på fika. Vid detta tillfället tar vi upp vikten av lösenord och användarkonton. Kommande tillfällen: 8/12 och 15/12.
URL:https://motalasjostad.se/ec-event/vaga-fraga-om-det-figitala/
LOCATION:Motala huvudbibliotek
CATEGORIES:Övriga evenemang
ATTACH;FMTTYPE=image/png:https://motalasjostad.se/wp-content/uploads/2025/11/Vaga-fraga-losenord-e1764157235969.png
END:VEVENT
BEGIN:VEVENT
DTSTART;VALUE=DATE:20251201
DTEND;VALUE=DATE:20260108
DTSTAMP:20260426T030116
CREATED:20251127T124303Z
LAST-MODIFIED:20251127T124303Z
UID:10013614-1764547200-1767830399@motalasjostad.se
SUMMARY:Julbingo för vuxna
DESCRIPTION:Utmana dig själv i vårt läsbingo i jul! Tävla mot vänner\, familj eller mot dig själv. När du läst en bok kryssar du i motsvarande nummer på bingobrickan. När du kryssat för en hel rad lämnar du in din folder till ditt bibliotek och får en bok. Din rad kan vara vågrät\, lodrät eller diagonal. Trevlig läsning!
URL:https://motalasjostad.se/ec-event/julbingo-for-vuxna-4/
LOCATION:Motala Bibliotek
CATEGORIES:Övriga evenemang
ATTACH;FMTTYPE=image/png:https://motalasjostad.se/wp-content/uploads/2025/11/Julbingo-for-vuxna-25-e1764247379146.png
END:VEVENT
BEGIN:VEVENT
DTSTART;TZID=Europe/Paris:20251130T140000
DTEND;TZID=Europe/Paris:20251130T170000
DTSTAMP:20260426T030116
CREATED:20251111T122728Z
LAST-MODIFIED:20251111T122728Z
UID:10013544-1764511200-1764522000@motalasjostad.se
SUMMARY:En stjärna lyser så klar
DESCRIPTION:Kom i julstämning tillsammans med sångare\, skådespelare\, musiker och dansare från Kulturskolan i årets julföreställning ”En stjärna lyser så klar” 🌟 Tid: Kl. 14 och kl. 16.
URL:https://motalasjostad.se/ec-event/en-stjarna-lyser-sa-klar/
LOCATION:Kulturakademin Motala\, Urban Hjärnes väg 6\, Motala\, 59130
CATEGORIES:Barn/ungdom,Musik,Teater & show
ATTACH;FMTTYPE=image/jpeg:https://motalasjostad.se/wp-content/uploads/2025/11/En-stjarna-lyser-sa-klar-2-scaled-e1762864042460.jpg
ORGANIZER;CN="Kulturskolan Motala":MAILTO:kulturskolan@motala.se
END:VEVENT
BEGIN:VEVENT
DTSTART;TZID=Europe/Paris:20251130T123000
DTEND;TZID=Europe/Paris:20251130T160000
DTSTAMP:20260426T030116
CREATED:20251106T080748Z
LAST-MODIFIED:20251106T080842Z
UID:10013535-1764505800-1764518400@motalasjostad.se
SUMMARY:Julpyssel för alla
DESCRIPTION:Julpyssel i Församlingshemmet\, nedervåningen\, Sjögatan 11.\nPysslet är gratis och det finns något som passar alla\, små som stora.\nEnkelt julfika till självkostnadspris. Välkomna!
URL:https://motalasjostad.se/ec-event/julpyssel-for-alla/
LOCATION:Församlingshemmet\, Sjögatan 9\, Motala
CATEGORIES:Barn/ungdom,Övriga evenemang
ATTACH;FMTTYPE=image/jpeg:https://motalasjostad.se/wp-content/uploads/2025/11/Julpyssel-e1762416518659.jpg
ORGANIZER;CN="Motala f%C3%B6rsamling":MAILTO:sara.nobrant@svenskakyrkan.se
END:VEVENT
BEGIN:VEVENT
DTSTART;TZID=Europe/Paris:20251130T120000
DTEND;TZID=Europe/Paris:20251130T160000
DTSTAMP:20260426T030116
CREATED:20251027T094243Z
LAST-MODIFIED:20251027T103517Z
UID:10013455-1764504000-1764518400@motalasjostad.se
SUMMARY:Konstutställning
DESCRIPTION:Konstutställning – Olle Medin från Kumla som visar måleri och skulptur.\nI mörka november\, konstnären Olle Medin är född 1938 och är verksam som målare och skulptör sen 80-talet. Olles ”skrytlista” är lång\, han har ställt ut och finns representerad på en mängd platser i Sverige och utomlands\, bland annat på Island och Grönland! \nollemedin – Start
URL:https://motalasjostad.se/ec-event/konstutstallning-7/2025-11-30/
LOCATION:Galleri K-ringen\, Ringgatan 6\, Motala\, Östergötland.\, 591 60
CATEGORIES:Utställning
ATTACH;FMTTYPE=image/jpeg:https://motalasjostad.se/wp-content/uploads/2025/10/Olle-Medin-bild2-scaled-e1761562255426.jpg
ORGANIZER;CN="Galleri K-ringen":MAILTO:info@k-ringenmotala.se
END:VEVENT
BEGIN:VEVENT
DTSTART;TZID=Europe/Paris:20251130T110000
DTEND;TZID=Europe/Paris:20251130T160000
DTSTAMP:20260426T030116
CREATED:20250715T140735Z
LAST-MODIFIED:20251120T081436Z
UID:10007695-1764500400-1764518400@motalasjostad.se
SUMMARY:Sjöstadsjul på Stora torget 2025
DESCRIPTION:Första advent är det dags för årets Sjöstadsjul på Stora torget i Motala! \nPå Stora torget kommer du att hitta:• Smycken• Bakverk• Godis• Choklad• Juldekorationer• Kransar• Julblommor• Keramik• Delikatesser• Charkuterier• Lotterier• Virkat• Träsniderier• Churros• Kebab• Bokbussen• Tomte• Barnaktivitet\n\nÅrets utställare:Annorlunda creations\, Antero Nybacka\, Better Lifestyle UF\, Bokbussen\, Butik i trädgården\, CatrinDesign\, Creationsbylojsan\, Doris skafferi\, eh Design\, Ett kilo socker\, Fina rum\, Gränna delikatesser\, Jafaris\, Leona UF\, MariaS keramik och inredning Mix & Mums UF\, Nithima Kraikhuntot\, Nordisk glöd UF\, Patricia Rylander\, Piraterna Speedway\, Ready for anything UF\, StreetbitebyB\, Ninko virkar\, Tallemo torp\, Vedemö trädgårdssnickeri.\nSå ta med dig familjen och vännerna till Motala centrum och besök årets julmarknad – men glöm inte heller att ta en tur i centrums alla julöppna butiker.
URL:https://motalasjostad.se/ec-event/sjostadsjul-pa-stora-torget-2025/
LOCATION:Motala centrum\, Motala
CATEGORIES:Övriga evenemang,Större evenemang
ATTACH;FMTTYPE=image/jpeg:https://motalasjostad.se/wp-content/uploads/2025/07/PetraLeandersson_Sjostadjul18-scaled-e1758786801730.jpg
END:VEVENT
BEGIN:VEVENT
DTSTART;TZID=Europe/Paris:20251130T100000
DTEND;TZID=Europe/Paris:20251130T150000
DTSTAMP:20260426T030116
CREATED:20251128T094638Z
LAST-MODIFIED:20251128T102814Z
UID:10013619-1764496800-1764514800@motalasjostad.se
SUMMARY:Julsmyckade EPA - traktorer i Motala hamn
DESCRIPTION:Kom och titta på EPA-traktorer och rösta fram din favorit jul smyckade EPA – traktor. Detta är samtidigt som julmarknaden i Motala hamn. \nFina priser att vinna. \nRöstningen pågår från kl 10.00-15.00\, och röst talongen lämnas inne på Turistbyrån. \nVarmt Välkomna! 🎄🎅🧑‍🎄🎁 \n 
URL:https://motalasjostad.se/ec-event/epa-traktorer-i-motala-hamn/
LOCATION:Motala hamn\, Göta kanalbolags huset\, Platensgatan 12\, Motala
CATEGORIES:Barn/ungdom,Övriga evenemang
ATTACH;FMTTYPE=image/jpeg:https://motalasjostad.se/wp-content/uploads/2025/11/EPA.jpg
ORGANIZER;CN="Hamnr%C3%A5det":MAILTO:info@hamnenimotala.se
END:VEVENT
BEGIN:VEVENT
DTSTART;TZID=Europe/Paris:20251130T100000
DTEND;TZID=Europe/Paris:20251130T150000
DTSTAMP:20260426T030116
CREATED:20251125T090111Z
LAST-MODIFIED:20251125T090258Z
UID:10013574-1764496800-1764514800@motalasjostad.se
SUMMARY:Loppis
DESCRIPTION:Det kommer att finnas massor av billiga saker:Godisremmar 10 kr\, Nya böcker 20 kr\, Barnlotteri\, Nya arbetsskor mm. I samma hus som vätternakvariet
URL:https://motalasjostad.se/ec-event/loppis-2/
LOCATION:Tullkammaren (Vätternakvariet)\, Platensgatan 2\, Motala
CATEGORIES:Övriga evenemang
ATTACH;FMTTYPE=image/jpeg:https://motalasjostad.se/wp-content/uploads/2025/11/loppis-e1764061266968.jpg
END:VEVENT
BEGIN:VEVENT
DTSTART;TZID=Europe/Paris:20251130T100000
DTEND;TZID=Europe/Paris:20251130T150000
DTSTAMP:20260426T030116
CREATED:20250925T075205Z
LAST-MODIFIED:20250925T080108Z
UID:10009627-1764496800-1764514800@motalasjostad.se
SUMMARY:Julmarknad i Folkets hus
DESCRIPTION:Julmarknad  i Folkets Hus.\nFörsäljning av hantverk mm.Varmt välkomna \nÖnskar du delta som utställare skicka ett mail till oss på info@motalafolketshus.se
URL:https://motalasjostad.se/ec-event/julmarknad-i-folkets-hus/
LOCATION:Folkets Hus\, Repslagargatan 3\, Motala\, 591 30
ATTACH;FMTTYPE=image/jpeg:https://motalasjostad.se/wp-content/uploads/2025/09/julmarknad-folkets-hus-e1758787262636.jpg
ORGANIZER;CN="Folkets Hus":MAILTO:konferens@motalafolketshus.se
END:VEVENT
END:VCALENDAR