BEGIN:VCALENDAR
VERSION:2.0
PRODID:-//Motala Sjöstad - ECPv6.13.2.1//NONSGML v1.0//EN
CALSCALE:GREGORIAN
METHOD:PUBLISH
X-WR-CALNAME:Motala Sjöstad
X-ORIGINAL-URL:https://motalasjostad.se
X-WR-CALDESC:Händelser för Motala Sjöstad
REFRESH-INTERVAL;VALUE=DURATION:PT1H
X-Robots-Tag:noindex
X-PUBLISHED-TTL:PT1H
BEGIN:VTIMEZONE
TZID:Europe/Paris
BEGIN:DAYLIGHT
TZOFFSETFROM:+0100
TZOFFSETTO:+0200
TZNAME:CEST
DTSTART:20260329T010000
END:DAYLIGHT
BEGIN:STANDARD
TZOFFSETFROM:+0200
TZOFFSETTO:+0100
TZNAME:CET
DTSTART:20261025T010000
END:STANDARD
END:VTIMEZONE
BEGIN:VEVENT
DTSTART;TZID=Europe/Paris:20260504T140000
DTEND;TZID=Europe/Paris:20260504T150000
DTSTAMP:20260423T044547
CREATED:20260418T172046Z
LAST-MODIFIED:20260418T172046Z
UID:10014222-1777903200-1777906800@motalasjostad.se
SUMMARY:bokvikning
DESCRIPTION:Från ca 9 år. Kom och testa bokvikning. Drop-in.
URL:https://motalasjostad.se/ec-event/bokvikning/
LOCATION:Borensbergs Bibliotek\, Husbyvägen 13\, Borensberg\, 59175
CATEGORIES:Barn/ungdom
ATTACH;FMTTYPE=image/png:https://motalasjostad.se/wp-content/uploads/2026/04/Bokvikning.png
END:VEVENT
BEGIN:VEVENT
DTSTART;TZID=Europe/Paris:20260504T183000
DTEND;TZID=Europe/Paris:20260504T193000
DTSTAMP:20260423T044547
CREATED:20260418T171545Z
LAST-MODIFIED:20260418T171545Z
UID:10014230-1777919400-1777923000@motalasjostad.se
SUMMARY:Kaffe med politik - Vänsterpartiet
DESCRIPTION:Valet är ditt! Vad ska du välja? Vet du inte vad du ska välja i höstens val? Kom och lyssna på vad partierna vill göra för dig. Vi bjuder på kaffe\, ”drömmar” och brysselkex. Fri entré. Vid åtta olika tillfällen kommer partier från kommunfullmäktige för att svara på dina frågor. Håll utkik efter de andra tillfällena. \n 
URL:https://motalasjostad.se/ec-event/kaffe-med-politik-vansterpartiet/
LOCATION:Motala huvudbibliotek
CATEGORIES:Övriga evenemang
ATTACH;FMTTYPE=image/png:https://motalasjostad.se/wp-content/uploads/2026/04/Vansterpartiet.png
END:VEVENT
BEGIN:VEVENT
DTSTART;TZID=Europe/Paris:20260505T103000
DTEND;TZID=Europe/Paris:20260505T110000
DTSTAMP:20260423T044547
CREATED:20260418T172014Z
LAST-MODIFIED:20260418T172014Z
UID:10014223-1777977000-1777978800@motalasjostad.se
SUMMARY:Saga och sång ute
DESCRIPTION:Från 2 år. Vi läser sagor och sjunger. Givetvis är syskon också välkomna. Ta med filt och gärna matsäck om du vill fika efteråt. Vi träffas vid bibliotekets entré och går till en plats nära biblioteket. Vid regn går vi in.
URL:https://motalasjostad.se/ec-event/saga-och-sang-ute/
LOCATION:Borensbergs Bibliotek\, Husbyvägen 13\, Borensberg\, 59175
CATEGORIES:Barn/ungdom
ATTACH;FMTTYPE=image/png:https://motalasjostad.se/wp-content/uploads/2026/04/BBG-Saga-och-sang-ute.png
END:VEVENT
BEGIN:VEVENT
DTSTART;TZID=Europe/Paris:20260505T103000
DTEND;TZID=Europe/Paris:20260505T120000
DTSTAMP:20260423T044547
CREATED:20260418T173959Z
LAST-MODIFIED:20260418T173959Z
UID:10014168-1777977000-1777982400@motalasjostad.se
SUMMARY:Digitala första hjälpen
DESCRIPTION:Välkommen till vår drop-in där vi svarar på dina grundläggande frågor om IT. Ta gärna med din telefon\, surfplatta eller laptop. Här kan du även få hjälp med att hantera Konsumentverkets hemsida.
URL:https://motalasjostad.se/ec-event/digitala-forsta-hjalpen-83/2026-05-05/
LOCATION:Motala huvudbibliotek
CATEGORIES:Övriga evenemang
ATTACH;FMTTYPE=image/png:https://motalasjostad.se/wp-content/uploads/2026/04/DFH.png
END:VEVENT
BEGIN:VEVENT
DTSTART;TZID=Europe/Paris:20260505T170000
DTEND;TZID=Europe/Paris:20260505T190000
DTSTAMP:20260423T044547
CREATED:20260418T173903Z
LAST-MODIFIED:20260418T173903Z
UID:10014176-1778000400-1778007600@motalasjostad.se
SUMMARY:Språkträning
DESCRIPTION:På Motala huvudbibliotek finns möjligheten att få hjälp med att träna på det svenska språket\, tyda krångliga brev\, skriva jobbansökningar med mera.\nI samarbete med Folkuniversitetet.
URL:https://motalasjostad.se/ec-event/spraktraning-49/2026-05-05/
LOCATION:Motala huvudbibliotek
CATEGORIES:Övriga evenemang
ATTACH;FMTTYPE=image/png:https://motalasjostad.se/wp-content/uploads/2026/04/Spraktraning.png
ORGANIZER;CN="Motala huvudbibliotek":MAILTO:bibl.info@motala.se
END:VEVENT
BEGIN:VEVENT
DTSTART;TZID=Europe/Paris:20260505T183000
DTEND;TZID=Europe/Paris:20260505T193000
DTSTAMP:20260423T044547
CREATED:20260418T171517Z
LAST-MODIFIED:20260418T171517Z
UID:10014231-1778005800-1778009400@motalasjostad.se
SUMMARY:Kaffe med politik - Liberalerna
DESCRIPTION:Valet är ditt! Vad ska du välja? Vet du inte vad du ska välja i höstens val? Kom och lyssna på vad partierna vill göra för dig. Vi bjuder på kaffe\, ”drömmar” och brysselkex. Fri entré. Vid åtta olika tillfällen kommer partier från kommunfullmäktige för att svara på dina frågor. Håll utkik efter de andra tillfällena.
URL:https://motalasjostad.se/ec-event/kaffe-med-politik-liberalerna/
LOCATION:Motala huvudbibliotek
CATEGORIES:Övriga evenemang
ATTACH;FMTTYPE=image/png:https://motalasjostad.se/wp-content/uploads/2026/04/Liberalerna.png
END:VEVENT
BEGIN:VEVENT
DTSTART;TZID=Europe/Paris:20260506T120000
DTEND;TZID=Europe/Paris:20260506T153000
DTSTAMP:20260423T044547
CREATED:20260418T173631Z
LAST-MODIFIED:20260418T173631Z
UID:10014183-1778068800-1778081400@motalasjostad.se
SUMMARY:Lättläst nyhetscafé
DESCRIPTION:Välkomna på nyhetscafé där vi läser enkla nyheter tillsammans. Vi bjuder på kaffe\, te och kaka. Plats: Eköns Gemensamhetslokal\, Styvingevägen 14.
URL:https://motalasjostad.se/ec-event/lattlast-nyhetscafe-3/2026-05-06/
LOCATION:Gemensamhetslokalen\, Ekön\, Styvingevägen 14\, Motala
CATEGORIES:Övriga evenemang
ATTACH;FMTTYPE=image/png:https://motalasjostad.se/wp-content/uploads/2026/04/8-sidor.png
END:VEVENT
BEGIN:VEVENT
DTSTART;TZID=Europe/Paris:20260506T140000
DTEND;TZID=Europe/Paris:20260506T153000
DTSTAMP:20260423T044547
CREATED:20260418T173932Z
LAST-MODIFIED:20260418T173932Z
UID:10014172-1778076000-1778081400@motalasjostad.se
SUMMARY:Digitala första hjälpen
DESCRIPTION:Välkommen till vår drop-in där vi svarar på dina grundläggande frågor om IT. Ta gärna med din telefon\, surfplatta eller laptop. Här kan du även få hjälp med att hantera Konsumentverkets hemsida.
URL:https://motalasjostad.se/ec-event/digitala-forsta-hjalpen-82/2026-05-06/
LOCATION:Motala huvudbibliotek
CATEGORIES:Övriga evenemang
ATTACH;FMTTYPE=image/png:https://motalasjostad.se/wp-content/uploads/2026/04/DFH-1.png
END:VEVENT
BEGIN:VEVENT
DTSTART;TZID=Europe/Paris:20260506T183000
DTEND;TZID=Europe/Paris:20260506T193000
DTSTAMP:20260423T044547
CREATED:20260418T171445Z
LAST-MODIFIED:20260418T171445Z
UID:10014232-1778092200-1778095800@motalasjostad.se
SUMMARY:Kaffe med politik - Sverigedemokraterna
DESCRIPTION:Valet är ditt! Vad ska du välja? Vet du inte vad du ska välja i höstens val? Kom och lyssna på vad partierna vill göra för dig. Vi bjuder på kaffe\, ”drömmar” och brysselkex. Fri entré. Vid åtta olika tillfällen kommer partier från kommunfullmäktige för att svara på dina frågor. Håll utkik efter de andra tillfällena.
URL:https://motalasjostad.se/ec-event/kaffe-med-politik-sverigedemokraterna/
LOCATION:Motala huvudbibliotek
CATEGORIES:Övriga evenemang
ATTACH;FMTTYPE=image/png:https://motalasjostad.se/wp-content/uploads/2026/04/Sverigedemokraterna.png
END:VEVENT
BEGIN:VEVENT
DTSTART;TZID=Europe/Paris:20260507T140000
DTEND;TZID=Europe/Paris:20260507T160000
DTSTAMP:20260423T044547
CREATED:20260418T171817Z
LAST-MODIFIED:20260418T171817Z
UID:10014226-1778162400-1778169600@motalasjostad.se
SUMMARY:Handarbeta på bibblan
DESCRIPTION:Ta med dig ditt handarbete och kom till bibblan för en trevlig stund. Biblioteket bjuder på kaffe och te. Ta gärna med eget fikabröd. Ingen anmälan. \n 
URL:https://motalasjostad.se/ec-event/handarbeta-pa-bibblan-29/
LOCATION:Tjällmo bibliotek\, Länsvägen\, Tjällmo\, 59190\, Sverige
CATEGORIES:Övriga evenemang
ATTACH;FMTTYPE=image/png:https://motalasjostad.se/wp-content/uploads/2026/04/Tjallmo-handarbetscafe.png
END:VEVENT
BEGIN:VEVENT
DTSTART;TZID=Europe/Paris:20260507T160000
DTEND;TZID=Europe/Paris:20260507T170000
DTSTAMP:20260423T044547
CREATED:20260418T173307Z
LAST-MODIFIED:20260418T173307Z
UID:10014200-1778169600-1778173200@motalasjostad.se
SUMMARY:Barnens bokval
DESCRIPTION:Hjälp oss att välja nya böcker att köpa till biblioteket! Träffa oss som arbetar med barnlitteratur och var med och bestäm vad vi ska köpa. Vi spanar och läser om vilka nya böcker som finns och som kommer att komma ut. Sist men inte minst väljer och säger du vad du tycker – din röst räknas! Tillsammans hittar vi de bästa böckerna för alla barn. Ingen anmälan.
URL:https://motalasjostad.se/ec-event/barnens-bokval-13/
LOCATION:Motala huvudbibliotek
CATEGORIES:Barn/ungdom
ATTACH;FMTTYPE=image/png:https://motalasjostad.se/wp-content/uploads/2026/04/Barnens-bokval.png
END:VEVENT
BEGIN:VEVENT
DTSTART;TZID=Europe/Paris:20260507T160000
DTEND;TZID=Europe/Paris:20260507T183000
DTSTAMP:20260423T044547
CREATED:20260409T084553Z
LAST-MODIFIED:20260409T084631Z
UID:10014155-1778169600-1778178600@motalasjostad.se
SUMMARY:Öppet hus Svensk Plaståtervinning i Motala
DESCRIPTION:Svensk plaståtervinning anordnar Öppet hus där Site Zero visas upp. På eventområdet kommer ni att ges möjlighet att fråga våra experter om plast\, källsortering och återvinning men också prova några av våra aktiviteter såsom sorteringstävling\, tipspromenad mm. Åldersgräns för rundtur i anläggningen är 10 år i målsmans sällskap. \nFör mer information om Öppet hus för allmänheten gå in och läs på vår hemsida Besöka Site Zero – Svensk plaståtervinning
URL:https://motalasjostad.se/ec-event/oppet-hus-svensk-plastatervinning-i-motala-torsdagen-den-7-maj/
LOCATION:Svensk Plaståtervinning\, Vickerkullavägen 2\, Motala\, 59145
CATEGORIES:Övriga evenemang
ATTACH;FMTTYPE=image/png:https://motalasjostad.se/wp-content/uploads/2026/04/Oppet-hus-2024-e1775724320772.png
END:VEVENT
BEGIN:VEVENT
DTSTART;TZID=Europe/Paris:20260507T170000
DTEND;TZID=Europe/Paris:20260507T190000
DTSTAMP:20260423T044547
CREATED:20260418T173833Z
LAST-MODIFIED:20260418T173833Z
UID:10014180-1778173200-1778180400@motalasjostad.se
SUMMARY:Språkträning
DESCRIPTION:På Motala huvudbibliotek finns möjligheten att få hjälp med att träna på det svenska språket\, tyda krångliga brev\, skriva jobbansökningar med mera.\nI samarbete med Folkuniversitetet.
URL:https://motalasjostad.se/ec-event/spraktraning-48/
LOCATION:Motala huvudbibliotek
CATEGORIES:Övriga evenemang
ATTACH;FMTTYPE=image/png:https://motalasjostad.se/wp-content/uploads/2026/04/Spraktraning-1.png
END:VEVENT
BEGIN:VEVENT
DTSTART;TZID=Europe/Paris:20260507T183000
DTEND;TZID=Europe/Paris:20260507T193000
DTSTAMP:20260423T044547
CREATED:20260418T171420Z
LAST-MODIFIED:20260418T171420Z
UID:10014233-1778178600-1778182200@motalasjostad.se
SUMMARY:Kaffe med politik - Kristdemokraterna
DESCRIPTION:Valet är ditt! Vad ska du välja? Vet du inte vad du ska välja i höstens val? Kom och lyssna på vad partierna vill göra för dig. Vi bjuder på kaffe\, ”drömmar” och brysselkex. Fri entré. Vid åtta olika tillfällen kommer partier från kommunfullmäktige för att svara på dina frågor. Håll utkik efter de andra tillfällena.
URL:https://motalasjostad.se/ec-event/kaffe-med-politik-kristdemokraterna/
LOCATION:Motala huvudbibliotek
CATEGORIES:Övriga evenemang
ATTACH;FMTTYPE=image/png:https://motalasjostad.se/wp-content/uploads/2026/04/Kristdemokraterna.png
END:VEVENT
BEGIN:VEVENT
DTSTART;VALUE=DATE:20260509
DTEND;VALUE=DATE:20260510
DTSTAMP:20260423T044547
CREATED:20241008T133239Z
LAST-MODIFIED:20260325T081743Z
UID:10003669-1778284800-1778371199@motalasjostad.se
SUMMARY:Hinderlopp med hund
DESCRIPTION:Hinderlopp för löpare med hund i drag. \nStart och mål vid Padelladan i Sjökumla. \nSpring\, jogga eller gå 3 km eller 6 km som singellöpare eller som lag. \nmat – och fikaservering på plats. \nMer info www.sjökumla.se
URL:https://motalasjostad.se/ec-event/hinderlopp-med-hund/
LOCATION:Sjökumla Herrgård\, Sjökumla Herrgård\, Motala\, 59192\, Sweden
CATEGORIES:Övriga evenemang
ATTACH;FMTTYPE=image/jpeg:https://motalasjostad.se/wp-content/uploads/2024/10/hinderlopp-med-hund-e1774426655789.jpg
ORGANIZER;CN="Padelladan AB":MAILTO:Elin.andersson@sjokumla.se
END:VEVENT
BEGIN:VEVENT
DTSTART;TZID=Europe/Paris:20260509T090000
DTEND;TZID=Europe/Paris:20260509T160000
DTSTAMP:20260423T044547
CREATED:20260324T105020Z
LAST-MODIFIED:20260324T105020Z
UID:10014106-1778317200-1778342400@motalasjostad.se
SUMMARY:Vårens Östgötadagar
DESCRIPTION:Två gånger om året bjuder Östgötadagarna in till en resa genom smaker\, kultur och natur – en hyllning till det bästa vår region har att erbjuda. \nHär möts du av lokala matupplevelser\, konst och hantverk\, gårdsbutiker\, naturnära aktiviteter och människor som brinner för sin plats och sina produkter.\nFrån smakrika gårdscaféer till öppna ateljéer och vandringar bland ängar och skogar – varje stopp bjuder på en unik berättelse om Östergötland. \nVi sår och vi skördar allt som sås och spirar under Vårens Östgötadagar\, som infaller i mitten av maj\, skördas sedan under Höstens Östgötadagar\, som äger rum första helgen i september.\nTvå tillfällen\, två årstider – men samma känsla av gemenskap\, nyfikenhet och kärlek till platsen. \n Gå in och planera er roadtrip bland de 209 företag och föreningar som är med. Gå in på www.ostgotadagarna.se och planera eran resa. \nÖppettider se resp företag. \n 
URL:https://motalasjostad.se/ec-event/varens-ostgotadagar-2/2026-05-09/
LOCATION:Östgötadagar
CATEGORIES:Övriga evenemang
ATTACH;FMTTYPE=image/jpeg:https://motalasjostad.se/wp-content/uploads/2026/03/ostgotadagarna.jpg
END:VEVENT
BEGIN:VEVENT
DTSTART;TZID=Europe/Paris:20260509T100000
DTEND;TZID=Europe/Paris:20260509T160000
DTSTAMP:20260423T044548
CREATED:20260421T162456Z
LAST-MODIFIED:20260421T162456Z
UID:10014241-1778320800-1778342400@motalasjostad.se
SUMMARY:Östgötadagarna: Sveriges rundradiomuseum
DESCRIPTION:Säsongsöppning för museet! Besök det vackra Bondebacka och beskåda Radiomasterna. Upplev svensk radiohistoria och ta del av utställningen Alla tiders radio! Visningar 11.00 och 15.00. \nSPANA MED SAMLA\nLös uppdrag och hitta ledtrådar i radiomuseets rum och skrymslen. Skissa och leta\, hitta och gissa dig fram till en god belöning. Drop-in! Uppdragsblad finns i receptionen under hela öppettiderna. \nGratis glasspinne till alla barn!
URL:https://motalasjostad.se/ec-event/ostgotadagarna-sveriges-rundradiomuseum/
LOCATION:Sveriges Rundradiomuseum\, Radiovägen 1\, Motala\, 591 35\, Sweden
CATEGORIES:Barn/ungdom,Gudningar och föreläsningar,Utställning
ATTACH;FMTTYPE=image/png:https://motalasjostad.se/wp-content/uploads/2026/04/OSTGOTADAGARNA-BARNAKTIVITET-KUL-I-MOTALA-300x226-4.png
ORGANIZER;CN="Motala museer":MAILTO:museer@motala.se
END:VEVENT
BEGIN:VEVENT
DTSTART;TZID=Europe/Paris:20260509T100000
DTEND;TZID=Europe/Paris:20260509T160000
DTSTAMP:20260423T044548
CREATED:20260421T162840Z
LAST-MODIFIED:20260421T162840Z
UID:10014238-1778320800-1778342400@motalasjostad.se
SUMMARY:Östgötadagarna: Familjedag på slottet
DESCRIPTION:I samband med Östgötadagarna öppnar Museerna för säsongen. \nUpplev slottsmiljö från 1600-talet\, besök stenåldersutställningen\, beundra Sophia Isbergs träsniderier och ta del av hela Motalas historia. Fri entré! \nLördag 9 maj fyller vi slottet med extra många roliga aktiviteter.\nProgram:\nÖPPET klockan 10-16 \n  \nKlockan 10:00-13:00 \nMÅLARVERKSTAD\nVi fyller stora salen på övervåningen med penslar\, färger och stafflier för alla målarsugna besökare. \nDrop-in! \n  \nKlockan 11:00 och 14:00 \nSLOTTSVISNING FÖR HELA FAMILJEN\n  \nKlockan 10:00-16:00 \nPOÄNGJAKTEN\nLös uppdrag och hitta ledtrådar i slottets rum och skrymslen. Skissa och leta\, hitta och gissa dig fram till en god belöning. \nDrop-in! Uppdragsblad finns i receptionen under hela slottets öppettider. \n 
URL:https://motalasjostad.se/ec-event/ostgotadagarna-familjedag-pa-slottet/
LOCATION:Charlottenborgs slott\, Strandvägen 71\, Motala\, 591 46\, Sweden
CATEGORIES:Barn/ungdom,Övriga evenemang
ATTACH;FMTTYPE=image/png:https://motalasjostad.se/wp-content/uploads/2026/04/OSTGOTADAGARNA-BARNAKTIVITET-KUL-I-MOTALA-300x226-1.png
ORGANIZER;CN="Motala museer":MAILTO:museer@motala.se
END:VEVENT
BEGIN:VEVENT
DTSTART;TZID=Europe/Paris:20260509T110000
DTEND;TZID=Europe/Paris:20260509T113000
DTSTAMP:20260423T044548
CREATED:20260418T173211Z
LAST-MODIFIED:20260418T173211Z
UID:10014202-1778324400-1778326200@motalasjostad.se
SUMMARY:Småttestund
DESCRIPTION:För dig mellan 1–2 år. En lördag i månaden är alla småttingar extra välkomna till biblioteket. Det blir en stund där vi tillsammans läser\, ramsar och sjunger. Ingen anmälan.
URL:https://motalasjostad.se/ec-event/smattestund-17/
LOCATION:Motala huvudbibliotek
CATEGORIES:Barn/ungdom
ATTACH;FMTTYPE=image/png:https://motalasjostad.se/wp-content/uploads/2026/04/Smattestund.png
END:VEVENT
BEGIN:VEVENT
DTSTART;TZID=Europe/Paris:20260509T110000
DTEND;TZID=Europe/Paris:20260509T140000
DTSTAMP:20260423T044548
CREATED:20260407T103351Z
LAST-MODIFIED:20260407T103351Z
UID:10014147-1778324400-1778335200@motalasjostad.se
SUMMARY:Godegårds summermeet
DESCRIPTION:Hej på er! Nu är allt klart inför Godegårds Summermeet. Ta med din finbil\, traktor\, lastbil\, mc\, moped eller A-traktor en sväng till Godegårds Festplats.Har du inget av ovanstående så är du naturligtvis hjärtligt välkommen ändå! \nVeteranbilar\, lastbilar\, Traktorer\, Mopeder\, MC\,  A.-traktorer\, Tennkulemotor\, Motorsågar\, Bärgare \nUnderhållning med Bandet Cathrine & the Boys \nGodisregn\, ServeringHoppas vi ses! \nParkering 50:- \nDegerön-Godegårds IF Godegårds festplast\, Motala www.dgif.se
URL:https://motalasjostad.se/ec-event/godegards-summermeet/
LOCATION:Östergötland
CATEGORIES:Övriga evenemang,Utställning
ATTACH;FMTTYPE=image/jpeg:https://motalasjostad.se/wp-content/uploads/2026/04/godegard-summer-meet-26-e1775557738192.jpg
END:VEVENT
BEGIN:VEVENT
DTSTART;TZID=Europe/Paris:20260509T110000
DTEND;TZID=Europe/Paris:20260509T140000
DTSTAMP:20260423T044548
CREATED:20260418T173235Z
LAST-MODIFIED:20260418T173235Z
UID:10014201-1778324400-1778335200@motalasjostad.se
SUMMARY:Familjelördag - Pippi Långstrump
DESCRIPTION:Välkomna att träffa Pippi och Prussiluskan på bibblan. Lyssna på sagor\, gå tipspromenad och pyssla. Drop-in. \n 
URL:https://motalasjostad.se/ec-event/familjelordag-pippi-langstrump/
LOCATION:Motala huvudbibliotek
CATEGORIES:Barn/ungdom
ATTACH;FMTTYPE=image/png:https://motalasjostad.se/wp-content/uploads/2026/04/Familjelordag-Pippi.png
END:VEVENT
BEGIN:VEVENT
DTSTART;TZID=Europe/Paris:20260509T113000
DTEND;TZID=Europe/Paris:20260509T150000
DTSTAMP:20260423T044548
CREATED:20260325T080938Z
LAST-MODIFIED:20260325T080938Z
UID:10014105-1778326200-1778338800@motalasjostad.se
SUMMARY:Kulturskolekalaset
DESCRIPTION:Kom och upplev en festlig dag fylld med musik\, uppträdanden och stipendieutdelning! Kulturskolans lärare och elever underhåller. \n11.30 Marsch runt Stora Torget \n11.45 Uppträdanden från scenen \n14.00 Utdelning av Motala kommuns kultur- och idrottsstipendier. Motalas musikstipendiater framträder\, Friendstay Symphony Orchestra\, Kulturskolans gitarrorkester
URL:https://motalasjostad.se/ec-event/kulturskolekalaset-3/
LOCATION:Stadsparken\, Motala\, Motala\, Östergötland\, Sverige
ATTACH;FMTTYPE=image/png:https://motalasjostad.se/wp-content/uploads/2026/03/Kulturskolekalaset-2026-affisch-e1774426173674.png
ORGANIZER;CN="Kulturskolan Motala":MAILTO:kulturskolan@motala.se
END:VEVENT
BEGIN:VEVENT
DTSTART;TZID=Europe/Paris:20260509T210000
DTEND;TZID=Europe/Paris:20260509T210000
DTSTAMP:20260423T044548
CREATED:20260414T101358Z
LAST-MODIFIED:20260414T101358Z
UID:10014161-1778360400-1778360400@motalasjostad.se
SUMMARY:Wasted Wizards/ Yellow Blend
DESCRIPTION:Fri entré före 21:00\nWasted Wizards might just be the greatest band you’ve never heard of. This young hard rock force is made up of brothers Leo (vocals/synth) and Sam Mårtensson (lead guitar)\, along with Alvin Hilmersson (bass) and John Danielsson (drums). Their fourth and latest single\, ”Hear Me Out!”\, is all the proof you need that hard rock is alive\, loud\, and here to stay.\nYellow Blend är Nässjös kompromisslösa svar på den sleaziga Los Angeles-rockscenen. De har ett rått och energiskt sound som andas Sunset Strip\, där bandet kombinerar klassisk hårdrock med sitt eget nässjö sound. Med ösiga gitarriff\, blytung bas och catchiga refränger har de en attityd som varken ber om ursäkt eller håller tillbaka på scenen.
URL:https://motalasjostad.se/ec-event/wasted-wizards-yellow-blend/
LOCATION:Bomber Bar\, Prästgatan 3\, Motala\, 591 30\, Sweden
CATEGORIES:Musik
ATTACH;FMTTYPE=image/jpeg:https://motalasjostad.se/wp-content/uploads/2026/04/wasted-e1776161632487.jpg
ORGANIZER;CN="Bomber Bar":MAILTO:bomberbarmotala@gmail.com
END:VEVENT
BEGIN:VEVENT
DTSTART;TZID=Europe/Paris:20260510T090000
DTEND;TZID=Europe/Paris:20260510T160000
DTSTAMP:20260423T044548
CREATED:20260324T105020Z
LAST-MODIFIED:20260324T105020Z
UID:10014107-1778403600-1778428800@motalasjostad.se
SUMMARY:Vårens Östgötadagar
DESCRIPTION:Två gånger om året bjuder Östgötadagarna in till en resa genom smaker\, kultur och natur – en hyllning till det bästa vår region har att erbjuda. \nHär möts du av lokala matupplevelser\, konst och hantverk\, gårdsbutiker\, naturnära aktiviteter och människor som brinner för sin plats och sina produkter.\nFrån smakrika gårdscaféer till öppna ateljéer och vandringar bland ängar och skogar – varje stopp bjuder på en unik berättelse om Östergötland. \nVi sår och vi skördar allt som sås och spirar under Vårens Östgötadagar\, som infaller i mitten av maj\, skördas sedan under Höstens Östgötadagar\, som äger rum första helgen i september.\nTvå tillfällen\, två årstider – men samma känsla av gemenskap\, nyfikenhet och kärlek till platsen. \n Gå in och planera er roadtrip bland de 209 företag och föreningar som är med. Gå in på www.ostgotadagarna.se och planera eran resa. \nÖppettider se resp företag. \n 
URL:https://motalasjostad.se/ec-event/varens-ostgotadagar-2/2026-05-10/
LOCATION:Östgötadagar
CATEGORIES:Övriga evenemang
ATTACH;FMTTYPE=image/jpeg:https://motalasjostad.se/wp-content/uploads/2026/03/ostgotadagarna.jpg
END:VEVENT
BEGIN:VEVENT
DTSTART;TZID=Europe/Paris:20260510T100000
DTEND;TZID=Europe/Paris:20260510T160000
DTSTAMP:20260423T044548
CREATED:20260421T162609Z
LAST-MODIFIED:20260421T162609Z
UID:10014240-1778407200-1778428800@motalasjostad.se
SUMMARY:Östgötadagarna: Charlottenborgs slott
DESCRIPTION:Öppet museum. Upplev slottsmiljö från 1600-talet\, besök stenåldersutställning\, beundra Sofia Isbergs träsniderier och ta del av Motalas hela historia. Guidade visningar 11.00 och 14.00. \nGå slottets poängjakt med barnen. Lös uppdrag och hitta ledtrådar i slottets rum och skrymslen. Skissa och leta\, hitta och gissa dig fram till en god belöning. \n  \n  \nFri entré.
URL:https://motalasjostad.se/ec-event/ostgotadagarna-charlottenborgs-slott/
LOCATION:Charlottenborgs slott\, Strandvägen 71\, Motala\, 591 46\, Sweden
CATEGORIES:Barn/ungdom,Gudningar och föreläsningar,Utställning
ATTACH;FMTTYPE=image/png:https://motalasjostad.se/wp-content/uploads/2026/04/OSTGOTADAGARNA-BARNAKTIVITET-KUL-I-MOTALA-300x226-3.png
ORGANIZER;CN="Motala museer":MAILTO:museer@motala.se
END:VEVENT
BEGIN:VEVENT
DTSTART;TZID=Europe/Paris:20260510T100000
DTEND;TZID=Europe/Paris:20260510T160000
DTSTAMP:20260423T044548
CREATED:20260421T162649Z
LAST-MODIFIED:20260421T162649Z
UID:10014239-1778407200-1778428800@motalasjostad.se
SUMMARY:Östgötadagarna: Familjedag på Radiomuseet
DESCRIPTION:I samband med Östgötadagarna öppnar Museerna för säsongen. \nBesök vackra Bondebacka och beskåda Radiomasterna. Upplev svensk radiohistoria och ta del av utställningen Alla tiders radio! Fri entré! \nSöndag 10 maj fyller vi Radiomuseet med extra många roliga aktiviteter.\nProgram:\nÖPPET klockan 10-16 \n  \nKlockan 12:00-14:00 \nMÅLARVERKSTAD\nUtanför museet väntar penslar\, färger och stora stafflier för alla målarsugna besökare. \nDrop-in! \n  \nKlockan 11:00 och 15:00 \nVISNING FÖR HELA FAMILJEN\nFölj med på en visning i museet tillsammans med vår kunniga guide! \n  \nKlockan 10:00-16:00 \nSPANA MED SAMLA\nLös uppdrag och hitta ledtrådar i radiomuseets rum och skrymslem. Skissa och leta\, hitta och gissa dig fram till en god belöning. \nDrop-in! Uppdragsblad finns i receptionen under hela öppettiderna. \n  \nVI BJUDER ALLA BARN PÅ EN GLASSPINNE UNDER DAGEN\n(Så länge lagret räcker)
URL:https://motalasjostad.se/ec-event/ostgotadagarna-familjedag-pa-radiomuseet/
LOCATION:Sveriges Rundradiomuseum\, Radiovägen 1\, Motala\, 591 35\, Sweden
CATEGORIES:Barn/ungdom,Gudningar och föreläsningar,Utställning
ATTACH;FMTTYPE=image/png:https://motalasjostad.se/wp-content/uploads/2026/04/OSTGOTADAGARNA-BARNAKTIVITET-KUL-I-MOTALA-300x226-2.png
ORGANIZER;CN="Motala museer":MAILTO:museer@motala.se
END:VEVENT
BEGIN:VEVENT
DTSTART;TZID=Europe/Paris:20260510T193000
DTEND;TZID=Europe/Paris:20260510T193000
DTSTAMP:20260423T044548
CREATED:20251028T075340Z
LAST-MODIFIED:20260417T095049Z
UID:10013499-1778441400-1778441400@motalasjostad.se
SUMMARY:Sten & Stanley
DESCRIPTION:Förra årets succe’ fortsätter i vår! \nEn magisk afton med legendarerna Sten & Stanley. Säger du\, ”JAG VILL VARA DIN MARGARETA” så kommer majoritet av Sveriges befolkning\, några miljoner norrmän och några hundra tusen finländare och även danskar kommer omedelbart att säga\, – Sten & Stanley! Sten & Stanley har sedan debuten 1962 fram till idag haft över 60 låtar på svensktoppen. De har också placeringar på ett antal andra topplistor i Sverige\, Norge\, Danmark och Finland med bl.a. ”Grindslanten”\, ”I lust och nöd”\, ”En sång om kärlek”\, ”Dra dit pepparn växer”\, ”Medan jorden går ett varv”. \nSten & Stanley har gjort mer än 100 program i TV-serien ”Hallå Sverige”\, medverkat i långfilmer bl.a. ”För tapperhet i tält” och ”Dra på”. De har deltagit i Melodifestivalen i Sverige\, vunnit Melodifestivalen på Irland. Under åren har de uppträtt i Hollywood\, New York\, Degerfors\, Berlin\, Mjölby och Helsingfors… och tusentals andra orter. \nNu finns möjligheten att uppleva Sten & Stanley live. \nEntrédörrarna öppnas kl.18.30. Vänligen kom i god tid för att hänga av era ytterkläder i garderoben\, 30kr/plagg.
URL:https://motalasjostad.se/ec-event/sten-stanley/
LOCATION:Teatersalongen Motala Folkets Hus\, Repslagaretagatan 3\, Motala\, 59130
CATEGORIES:Musik
ATTACH;FMTTYPE=image/jpeg:https://motalasjostad.se/wp-content/uploads/2025/10/sten-stanley.jpg
END:VEVENT
BEGIN:VEVENT
DTSTART;TZID=Europe/Paris:20260511T160000
DTEND;TZID=Europe/Paris:20260511T180000
DTSTAMP:20260423T044548
CREATED:20260418T173144Z
LAST-MODIFIED:20260418T173144Z
UID:10014203-1778515200-1778522400@motalasjostad.se
SUMMARY:Prova på schack
DESCRIPTION:Från 8 år. Vill du prova på och lära dig mer om att spela schack? Motala schacksällskap finns på plats på biblioteket och visar. Drop-in.
URL:https://motalasjostad.se/ec-event/prova-pa-schack-16/
LOCATION:Motala huvudbibliotek
CATEGORIES:Barn/ungdom
ATTACH;FMTTYPE=image/jpeg:https://motalasjostad.se/wp-content/uploads/2026/04/Prova-pa-schack.jpg
END:VEVENT
BEGIN:VEVENT
DTSTART;TZID=Europe/Paris:20260511T170000
DTEND;TZID=Europe/Paris:20260511T180000
DTSTAMP:20260423T044548
CREATED:20260418T172228Z
LAST-MODIFIED:20260418T172228Z
UID:10014218-1778518800-1778522400@motalasjostad.se
SUMMARY:Bokcafé
DESCRIPTION:Personalen tipsar om nya böcker\, vi fikar\, ger varandra boktips och har det trevligt.
URL:https://motalasjostad.se/ec-event/bokcafe-14/
LOCATION:Borensbergs Bibliotek\, Husbyvägen 13\, Borensberg\, 59175
CATEGORIES:Övriga evenemang
ATTACH;FMTTYPE=image/png:https://motalasjostad.se/wp-content/uploads/2026/04/BBG-Bokcafel.png
END:VEVENT
BEGIN:VEVENT
DTSTART;TZID=Europe/Paris:20260512T100000
DTEND;TZID=Europe/Paris:20260512T103000
DTSTAMP:20260423T044548
CREATED:20260418T173401Z
LAST-MODIFIED:20260418T173401Z
UID:10014191-1778580000-1778581800@motalasjostad.se
SUMMARY:Sagor i stadsparken
DESCRIPTION:Från 3 år. Vid dåligt väder läser vi inne på biblioteket. Ingen anmälan.
URL:https://motalasjostad.se/ec-event/sagor-i-stadsparken-2/2026-05-12/
LOCATION:Motala huvudbibliotek
CATEGORIES:Barn/ungdom
ATTACH;FMTTYPE=image/png:https://motalasjostad.se/wp-content/uploads/2026/04/Sagor-i-stadsparkens.png
END:VEVENT
END:VCALENDAR