BEGIN:VCALENDAR
VERSION:2.0
PRODID:-//Motala Sjöstad - ECPv6.13.2.1//NONSGML v1.0//EN
CALSCALE:GREGORIAN
METHOD:PUBLISH
X-ORIGINAL-URL:https://motalasjostad.se
X-WR-CALDESC:Händelser för Motala Sjöstad
REFRESH-INTERVAL;VALUE=DURATION:PT1H
X-Robots-Tag:noindex
X-PUBLISHED-TTL:PT1H
BEGIN:VTIMEZONE
TZID:Europe/Paris
BEGIN:DAYLIGHT
TZOFFSETFROM:+0100
TZOFFSETTO:+0200
TZNAME:CEST
DTSTART:20260329T010000
END:DAYLIGHT
BEGIN:STANDARD
TZOFFSETFROM:+0200
TZOFFSETTO:+0100
TZNAME:CET
DTSTART:20261025T010000
END:STANDARD
END:VTIMEZONE
BEGIN:VEVENT
DTSTART;TZID=Europe/Paris:20260510T100000
DTEND;TZID=Europe/Paris:20260510T160000
DTSTAMP:20260423T082248
CREATED:20260421T162609Z
LAST-MODIFIED:20260421T162609Z
UID:10014240-1778407200-1778428800@motalasjostad.se
SUMMARY:Östgötadagarna: Charlottenborgs slott
DESCRIPTION:Öppet museum. Upplev slottsmiljö från 1600-talet\, besök stenåldersutställning\, beundra Sofia Isbergs träsniderier och ta del av Motalas hela historia. Guidade visningar 11.00 och 14.00. \nGå slottets poängjakt med barnen. Lös uppdrag och hitta ledtrådar i slottets rum och skrymslen. Skissa och leta\, hitta och gissa dig fram till en god belöning. \n  \n  \nFri entré.
URL:https://motalasjostad.se/ec-event/ostgotadagarna-charlottenborgs-slott/
LOCATION:Charlottenborgs slott\, Strandvägen 71\, Motala\, 591 46\, Sweden
CATEGORIES:Barn/ungdom,Gudningar och föreläsningar,Utställning
ATTACH;FMTTYPE=image/png:https://motalasjostad.se/wp-content/uploads/2026/04/OSTGOTADAGARNA-BARNAKTIVITET-KUL-I-MOTALA-300x226-3.png
ORGANIZER;CN="Motala museer":MAILTO:museer@motala.se
END:VEVENT
BEGIN:VEVENT
DTSTART;TZID=Europe/Paris:20260510T100000
DTEND;TZID=Europe/Paris:20260510T160000
DTSTAMP:20260423T082248
CREATED:20260421T162649Z
LAST-MODIFIED:20260421T162649Z
UID:10014239-1778407200-1778428800@motalasjostad.se
SUMMARY:Östgötadagarna: Familjedag på Radiomuseet
DESCRIPTION:I samband med Östgötadagarna öppnar Museerna för säsongen. \nBesök vackra Bondebacka och beskåda Radiomasterna. Upplev svensk radiohistoria och ta del av utställningen Alla tiders radio! Fri entré! \nSöndag 10 maj fyller vi Radiomuseet med extra många roliga aktiviteter.\nProgram:\nÖPPET klockan 10-16 \n  \nKlockan 12:00-14:00 \nMÅLARVERKSTAD\nUtanför museet väntar penslar\, färger och stora stafflier för alla målarsugna besökare. \nDrop-in! \n  \nKlockan 11:00 och 15:00 \nVISNING FÖR HELA FAMILJEN\nFölj med på en visning i museet tillsammans med vår kunniga guide! \n  \nKlockan 10:00-16:00 \nSPANA MED SAMLA\nLös uppdrag och hitta ledtrådar i radiomuseets rum och skrymslem. Skissa och leta\, hitta och gissa dig fram till en god belöning. \nDrop-in! Uppdragsblad finns i receptionen under hela öppettiderna. \n  \nVI BJUDER ALLA BARN PÅ EN GLASSPINNE UNDER DAGEN\n(Så länge lagret räcker)
URL:https://motalasjostad.se/ec-event/ostgotadagarna-familjedag-pa-radiomuseet/
LOCATION:Sveriges Rundradiomuseum\, Radiovägen 1\, Motala\, 591 35\, Sweden
CATEGORIES:Barn/ungdom,Gudningar och föreläsningar,Utställning
ATTACH;FMTTYPE=image/png:https://motalasjostad.se/wp-content/uploads/2026/04/OSTGOTADAGARNA-BARNAKTIVITET-KUL-I-MOTALA-300x226-2.png
ORGANIZER;CN="Motala museer":MAILTO:museer@motala.se
END:VEVENT
BEGIN:VEVENT
DTSTART;TZID=Europe/Paris:20260510T193000
DTEND;TZID=Europe/Paris:20260510T193000
DTSTAMP:20260423T082248
CREATED:20251028T075340Z
LAST-MODIFIED:20260417T095049Z
UID:10013499-1778441400-1778441400@motalasjostad.se
SUMMARY:Sten & Stanley
DESCRIPTION:Förra årets succe’ fortsätter i vår! \nEn magisk afton med legendarerna Sten & Stanley. Säger du\, ”JAG VILL VARA DIN MARGARETA” så kommer majoritet av Sveriges befolkning\, några miljoner norrmän och några hundra tusen finländare och även danskar kommer omedelbart att säga\, – Sten & Stanley! Sten & Stanley har sedan debuten 1962 fram till idag haft över 60 låtar på svensktoppen. De har också placeringar på ett antal andra topplistor i Sverige\, Norge\, Danmark och Finland med bl.a. ”Grindslanten”\, ”I lust och nöd”\, ”En sång om kärlek”\, ”Dra dit pepparn växer”\, ”Medan jorden går ett varv”. \nSten & Stanley har gjort mer än 100 program i TV-serien ”Hallå Sverige”\, medverkat i långfilmer bl.a. ”För tapperhet i tält” och ”Dra på”. De har deltagit i Melodifestivalen i Sverige\, vunnit Melodifestivalen på Irland. Under åren har de uppträtt i Hollywood\, New York\, Degerfors\, Berlin\, Mjölby och Helsingfors… och tusentals andra orter. \nNu finns möjligheten att uppleva Sten & Stanley live. \nEntrédörrarna öppnas kl.18.30. Vänligen kom i god tid för att hänga av era ytterkläder i garderoben\, 30kr/plagg.
URL:https://motalasjostad.se/ec-event/sten-stanley/
LOCATION:Teatersalongen Motala Folkets Hus\, Repslagaretagatan 3\, Motala\, 59130
CATEGORIES:Musik
ATTACH;FMTTYPE=image/jpeg:https://motalasjostad.se/wp-content/uploads/2025/10/sten-stanley.jpg
END:VEVENT
BEGIN:VEVENT
DTSTART;TZID=Europe/Paris:20260511T160000
DTEND;TZID=Europe/Paris:20260511T180000
DTSTAMP:20260423T082248
CREATED:20260418T173144Z
LAST-MODIFIED:20260418T173144Z
UID:10014203-1778515200-1778522400@motalasjostad.se
SUMMARY:Prova på schack
DESCRIPTION:Från 8 år. Vill du prova på och lära dig mer om att spela schack? Motala schacksällskap finns på plats på biblioteket och visar. Drop-in.
URL:https://motalasjostad.se/ec-event/prova-pa-schack-16/
LOCATION:Motala huvudbibliotek
CATEGORIES:Barn/ungdom
ATTACH;FMTTYPE=image/jpeg:https://motalasjostad.se/wp-content/uploads/2026/04/Prova-pa-schack.jpg
END:VEVENT
BEGIN:VEVENT
DTSTART;TZID=Europe/Paris:20260511T170000
DTEND;TZID=Europe/Paris:20260511T180000
DTSTAMP:20260423T082248
CREATED:20260418T172228Z
LAST-MODIFIED:20260418T172228Z
UID:10014218-1778518800-1778522400@motalasjostad.se
SUMMARY:Bokcafé
DESCRIPTION:Personalen tipsar om nya böcker\, vi fikar\, ger varandra boktips och har det trevligt.
URL:https://motalasjostad.se/ec-event/bokcafe-14/
LOCATION:Borensbergs Bibliotek\, Husbyvägen 13\, Borensberg\, 59175
CATEGORIES:Övriga evenemang
ATTACH;FMTTYPE=image/png:https://motalasjostad.se/wp-content/uploads/2026/04/BBG-Bokcafel.png
END:VEVENT
BEGIN:VEVENT
DTSTART;TZID=Europe/Paris:20260512T100000
DTEND;TZID=Europe/Paris:20260512T103000
DTSTAMP:20260423T082248
CREATED:20260418T173401Z
LAST-MODIFIED:20260418T173401Z
UID:10014191-1778580000-1778581800@motalasjostad.se
SUMMARY:Sagor i stadsparken
DESCRIPTION:Från 3 år. Vid dåligt väder läser vi inne på biblioteket. Ingen anmälan.
URL:https://motalasjostad.se/ec-event/sagor-i-stadsparken-2/2026-05-12/
LOCATION:Motala huvudbibliotek
CATEGORIES:Barn/ungdom
ATTACH;FMTTYPE=image/png:https://motalasjostad.se/wp-content/uploads/2026/04/Sagor-i-stadsparkens.png
END:VEVENT
BEGIN:VEVENT
DTSTART;TZID=Europe/Paris:20260512T103000
DTEND;TZID=Europe/Paris:20260512T120000
DTSTAMP:20260423T082248
CREATED:20260418T173959Z
LAST-MODIFIED:20260418T173959Z
UID:10014169-1778581800-1778587200@motalasjostad.se
SUMMARY:Digitala första hjälpen
DESCRIPTION:Välkommen till vår drop-in där vi svarar på dina grundläggande frågor om IT. Ta gärna med din telefon\, surfplatta eller laptop. Här kan du även få hjälp med att hantera Konsumentverkets hemsida.
URL:https://motalasjostad.se/ec-event/digitala-forsta-hjalpen-83/2026-05-12/
LOCATION:Motala huvudbibliotek
CATEGORIES:Övriga evenemang
ATTACH;FMTTYPE=image/png:https://motalasjostad.se/wp-content/uploads/2026/04/DFH.png
END:VEVENT
BEGIN:VEVENT
DTSTART;TZID=Europe/Paris:20260512T153000
DTEND;TZID=Europe/Paris:20260512T163000
DTSTAMP:20260423T082248
CREATED:20260418T173120Z
LAST-MODIFIED:20260418T173120Z
UID:10014204-1778599800-1778603400@motalasjostad.se
SUMMARY:Låt spelet börja - Carcassonne
DESCRIPTION:Från ca 7 år. En gång i månaden testar vi tillsammans några av alla spel vi har på biblioteket. Denna gång provar vi tillsammans sällskapsspelet Carcassonne. Ett roligt och klurigt brickspel som går ut på att bygga upp ett landskap med städer\, vägar\, fält och kloster. Ingen anmälan. \n 
URL:https://motalasjostad.se/ec-event/lat-spelet-borja-carcassonne/
LOCATION:Motala huvudbibliotek
CATEGORIES:Barn/ungdom
ATTACH;FMTTYPE=image/png:https://motalasjostad.se/wp-content/uploads/2026/04/Lat-spelet-borja.png
END:VEVENT
BEGIN:VEVENT
DTSTART;TZID=Europe/Paris:20260512T170000
DTEND;TZID=Europe/Paris:20260512T190000
DTSTAMP:20260423T082248
CREATED:20260418T173903Z
LAST-MODIFIED:20260418T173903Z
UID:10014177-1778605200-1778612400@motalasjostad.se
SUMMARY:Språkträning
DESCRIPTION:På Motala huvudbibliotek finns möjligheten att få hjälp med att träna på det svenska språket\, tyda krångliga brev\, skriva jobbansökningar med mera.\nI samarbete med Folkuniversitetet.
URL:https://motalasjostad.se/ec-event/spraktraning-49/2026-05-12/
LOCATION:Motala huvudbibliotek
CATEGORIES:Övriga evenemang
ATTACH;FMTTYPE=image/png:https://motalasjostad.se/wp-content/uploads/2026/04/Spraktraning.png
ORGANIZER;CN="Motala huvudbibliotek":MAILTO:bibl.info@motala.se
END:VEVENT
BEGIN:VEVENT
DTSTART;TZID=Europe/Paris:20260513T120000
DTEND;TZID=Europe/Paris:20260513T153000
DTSTAMP:20260423T082248
CREATED:20260418T173631Z
LAST-MODIFIED:20260418T173631Z
UID:10014184-1778673600-1778686200@motalasjostad.se
SUMMARY:Lättläst nyhetscafé
DESCRIPTION:Välkomna på nyhetscafé där vi läser enkla nyheter tillsammans. Vi bjuder på kaffe\, te och kaka. Plats: Eköns Gemensamhetslokal\, Styvingevägen 14.
URL:https://motalasjostad.se/ec-event/lattlast-nyhetscafe-3/2026-05-13/
LOCATION:Gemensamhetslokalen\, Ekön\, Styvingevägen 14\, Motala
CATEGORIES:Övriga evenemang
ATTACH;FMTTYPE=image/png:https://motalasjostad.se/wp-content/uploads/2026/04/8-sidor.png
END:VEVENT
BEGIN:VEVENT
DTSTART;TZID=Europe/Paris:20260513T140000
DTEND;TZID=Europe/Paris:20260513T153000
DTSTAMP:20260423T082248
CREATED:20260418T173932Z
LAST-MODIFIED:20260418T173932Z
UID:10014173-1778680800-1778686200@motalasjostad.se
SUMMARY:Digitala första hjälpen
DESCRIPTION:Välkommen till vår drop-in där vi svarar på dina grundläggande frågor om IT. Ta gärna med din telefon\, surfplatta eller laptop. Här kan du även få hjälp med att hantera Konsumentverkets hemsida.
URL:https://motalasjostad.se/ec-event/digitala-forsta-hjalpen-82/2026-05-13/
LOCATION:Motala huvudbibliotek
CATEGORIES:Övriga evenemang
ATTACH;FMTTYPE=image/png:https://motalasjostad.se/wp-content/uploads/2026/04/DFH-1.png
END:VEVENT
BEGIN:VEVENT
DTSTART;TZID=Europe/Paris:20260515T100000
DTEND;TZID=Europe/Paris:20260515T110000
DTSTAMP:20260423T082248
CREATED:20260418T171915Z
LAST-MODIFIED:20260418T171915Z
UID:10014224-1778839200-1778842800@motalasjostad.se
SUMMARY:Pokémon Go-pyssel
DESCRIPTION:Från ca 6 år. Kom och pyssla och gå vår tipspromenad på temat Pokémon Go. Drop-in.
URL:https://motalasjostad.se/ec-event/pokemon-go-pyssel/
LOCATION:Borensbergs Bibliotek\, Husbyvägen 13\, Borensberg\, 59175
CATEGORIES:Barn/ungdom
ATTACH;FMTTYPE=image/png:https://motalasjostad.se/wp-content/uploads/2026/04/Pokemon-Go-pyssel.png
END:VEVENT
BEGIN:VEVENT
DTSTART;TZID=Europe/Paris:20260515T133000
DTEND;TZID=Europe/Paris:20260515T150000
DTSTAMP:20260423T082248
CREATED:20260418T173051Z
LAST-MODIFIED:20260418T173051Z
UID:10014205-1778851800-1778857200@motalasjostad.se
SUMMARY:Bio på bibblan  - Handbok för superhjältar
DESCRIPTION:Rekommenderad ålder 7 år. Lisa är nyinflyttad i staden Rosenhill och har svårt att finna sin plats. Men en dag hittar hon en handbok som lär ut superkrafter. Hon blir superhjälten Röda Masken och hindrar en stöld av ett sällsynt mynt. Men när stadens gangsterkung Wolfgang kidnappar borgmästaren för att komma åt myntet ställs allt på sin spets. Speltid 90 minuter. Anmäl dig på biblioteket eller på 0141-22 51 00.
URL:https://motalasjostad.se/ec-event/bio-pa-bibblan-handbok-for-superhjaltar/
LOCATION:Motala huvudbibliotek
CATEGORIES:Barn/ungdom
ATTACH;FMTTYPE=image/png:https://motalasjostad.se/wp-content/uploads/2026/04/Bio-pa-bibblan.png
END:VEVENT
BEGIN:VEVENT
DTSTART;TZID=Europe/Paris:20260516T090000
DTEND;TZID=Europe/Paris:20260516T143000
DTSTAMP:20260423T082248
CREATED:20260407T101921Z
LAST-MODIFIED:20260407T102037Z
UID:10014146-1778922000-1778941800@motalasjostad.se
SUMMARY:The Swap
DESCRIPTION:Swap Meet (röj garaget\, uthuset\, källaren etc). Bilutställning\, Peoples Choise\, Arrangörens pris\, Underhållning på scen Bluciferz Hubcaps\, AAJT Tattoo\, Pinstripe artist Johan Johujuntti\, Godisregn\, Luftgevärsbanan öppen. Entré: 50 kr. Lotteri på entrébiljetten. Förare av entusiastfordon och barn under 15\, gratis.Fika o korv (fixar Street Cruisers från Linköping).\nSäljplats: 100 kr\, 3 m. Behövs det mer så säg till. Kostar inget extra. När du bokar säljplats\, säg hur många meter du behöver. Säljplats på dansbanan: 140 kr\, 3 m inkl bord o stol. Ska fixa bättre belysning. 0707395356Ej Loppisprylar. Då hänvisar jag till söndagen när Bakluckeloppisen är.
URL:https://motalasjostad.se/ec-event/the-swap-2/
LOCATION:Folkets Park\, Borensberg\, Sweden
CATEGORIES:Övriga evenemang,Utställning
ATTACH;FMTTYPE=image/jpeg:https://motalasjostad.se/wp-content/uploads/2026/04/the-swap-e1775557232915.jpg
END:VEVENT
BEGIN:VEVENT
DTSTART;TZID=Europe/Paris:20260516T120000
DTEND;TZID=Europe/Paris:20260516T123000
DTSTAMP:20260423T082248
CREATED:20260418T172506Z
LAST-MODIFIED:20260418T172506Z
UID:10014212-1778932800-1778934600@motalasjostad.se
SUMMARY:Sagor på somaliska
DESCRIPTION:För dig som är ca 3–8 år. Vi träffas en lördag i månaden för att lyssna på berättelser på somaliska. Ingen anmälan. \n 
URL:https://motalasjostad.se/ec-event/sagor-pa-somaliska-22/
LOCATION:Motala huvudbibliotek
CATEGORIES:Barn/ungdom
ATTACH;FMTTYPE=image/png:https://motalasjostad.se/wp-content/uploads/2026/04/Sagor-pa-somaliska.png
END:VEVENT
BEGIN:VEVENT
DTSTART;TZID=Europe/Paris:20260516T130000
DTEND;TZID=Europe/Paris:20260516T133000
DTSTAMP:20260423T082248
CREATED:20260418T172440Z
LAST-MODIFIED:20260418T172440Z
UID:10014213-1778936400-1778938200@motalasjostad.se
SUMMARY:Sagor på arabiska
DESCRIPTION:För dig som är ca 3–8 år. Vi träffas en lördag i månaden för att lyssna på berättelser på arabiska. Ingen anmälan. \n 
URL:https://motalasjostad.se/ec-event/sagor-pa-arabiska-23/
LOCATION:Motala huvudbibliotek
CATEGORIES:Barn/ungdom
ATTACH;FMTTYPE=image/png:https://motalasjostad.se/wp-content/uploads/2026/04/Sagor-pa-arabiska.png
END:VEVENT
BEGIN:VEVENT
DTSTART;TZID=Europe/Paris:20260516T140000
DTEND;TZID=Europe/Paris:20260516T143000
DTSTAMP:20260423T082248
CREATED:20260418T172415Z
LAST-MODIFIED:20260418T172415Z
UID:10014214-1778940000-1778941800@motalasjostad.se
SUMMARY:Sagor på tigrinska
DESCRIPTION:För dig som är ca 3–8 år. Vi träffas en lördag i månaden för att lyssna på berättelser på tigrinska. Ingen anmälan. \n 
URL:https://motalasjostad.se/ec-event/sagor-pa-tigrinska-20/
LOCATION:Motala huvudbibliotek
CATEGORIES:Barn/ungdom
ATTACH;FMTTYPE=image/png:https://motalasjostad.se/wp-content/uploads/2026/04/Sagostund-pa-tigrinska.png
END:VEVENT
BEGIN:VEVENT
DTSTART;TZID=Europe/Paris:20260516T200000
DTEND;TZID=Europe/Paris:20260516T210000
DTSTAMP:20260423T082248
CREATED:20251006T073530Z
LAST-MODIFIED:20251006T073530Z
UID:10013366-1778961600-1778965200@motalasjostad.se
SUMMARY:Ken Ring - Musiken
DESCRIPTION:En kväll att minnas. Ett ärligt möte med musiken\, livet – och sanningen. Efter år av tystnad\, reflektion och skapande är Ken Ring tillbaka – med sitt mest ärliga verk hittills. Förutom massa stora tv produktioner Hösten 2025 så släpps även nya albumet Musiken\, och i samband med det ger han sig ut på en Skandinavienturné fylld av själ\, eftertanke och en unik musikalisk kraft. Det här är ingen vanlig spelning. Det är ett personligt avtryck. Ett rum för sårbarhet\, glädje\, sorg och närvaro – där både nya låtar och odödliga klassiker framförs med några av Nordens bästa musiker. Tillsammans skapas en kväll för att hedra dem som inte längre finns kvar\, och samtidigt hylla livet som pågår mitt i allt detta kaos som nu råder. Från stora konserthus till små teaterscener – varje kväll blir unik. Naket. Ärligt. Och vackert. “Livet är fortfarande en vacker kamp. Och musiken är bara resan genom den. Så välkomna hem till mig och min galna värld.” – Ken Ring
URL:https://motalasjostad.se/ec-event/ken-ring-musiken/
LOCATION:Teatersalongen Motala Folkets Hus\, Repslagaretagatan 3\, Motala\, 59130
CATEGORIES:Musik
ATTACH;FMTTYPE=image/jpeg:https://motalasjostad.se/wp-content/uploads/2025/10/ken-Ring-e1759736126642.jpg
END:VEVENT
BEGIN:VEVENT
DTSTART;TZID=Europe/Paris:20260518T140000
DTEND;TZID=Europe/Paris:20260518T153000
DTSTAMP:20260423T082248
CREATED:20260418T173600Z
LAST-MODIFIED:20260418T173600Z
UID:10014187-1779112800-1779118200@motalasjostad.se
SUMMARY:Läsa tillsammans
DESCRIPTION:Välkommen till Läsa tillsammans – högläsning för vuxna där vi läser noveller och dikter högt tillsammans och samtalar om det vi läser. Det krävs inga förberedelser. Vi bjuder på kaffe/te. Anmälan senast onsdag 13 maj till biblioteket på 0141-22 51 00 eller till bibl.info@motala.se.
URL:https://motalasjostad.se/ec-event/lasa-tillsammans-13/
LOCATION:Motala huvudbibliotek
CATEGORIES:Övriga evenemang
ATTACH;FMTTYPE=image/png:https://motalasjostad.se/wp-content/uploads/2026/04/Lasa-tillsammans.png
END:VEVENT
BEGIN:VEVENT
DTSTART;TZID=Europe/Paris:20260518T183000
DTEND;TZID=Europe/Paris:20260518T193000
DTSTAMP:20260423T082248
CREATED:20260418T171351Z
LAST-MODIFIED:20260418T171351Z
UID:10014234-1779129000-1779132600@motalasjostad.se
SUMMARY:Kaffe med politik - Miljöpartiet
DESCRIPTION:Valet är ditt! Vad ska du välja? Vet du inte vad du ska välja i höstens val? Kom och lyssna på vad partierna vill göra för dig. Vi bjuder på kaffe\, ”drömmar” och brysselkex. Fri entré. Vid åtta olika tillfällen kommer partier från kommunfullmäktige för att svara på dina frågor. Håll utkik efter de andra tillfällena.
URL:https://motalasjostad.se/ec-event/kaffe-med-politik-miljopartiet/
LOCATION:Motala huvudbibliotek
CATEGORIES:Övriga evenemang
ATTACH;FMTTYPE=image/png:https://motalasjostad.se/wp-content/uploads/2026/04/Miljopartiet.png
END:VEVENT
BEGIN:VEVENT
DTSTART;TZID=Europe/Paris:20260519T100000
DTEND;TZID=Europe/Paris:20260519T103000
DTSTAMP:20260423T082248
CREATED:20260418T173401Z
LAST-MODIFIED:20260418T173401Z
UID:10014192-1779184800-1779186600@motalasjostad.se
SUMMARY:Sagor i stadsparken
DESCRIPTION:Från 3 år. Vid dåligt väder läser vi inne på biblioteket. Ingen anmälan.
URL:https://motalasjostad.se/ec-event/sagor-i-stadsparken-2/2026-05-19/
LOCATION:Motala huvudbibliotek
CATEGORIES:Barn/ungdom
ATTACH;FMTTYPE=image/png:https://motalasjostad.se/wp-content/uploads/2026/04/Sagor-i-stadsparkens.png
END:VEVENT
BEGIN:VEVENT
DTSTART;TZID=Europe/Paris:20260519T103000
DTEND;TZID=Europe/Paris:20260519T120000
DTSTAMP:20260423T082248
CREATED:20260418T173959Z
LAST-MODIFIED:20260418T173959Z
UID:10014170-1779186600-1779192000@motalasjostad.se
SUMMARY:Digitala första hjälpen
DESCRIPTION:Välkommen till vår drop-in där vi svarar på dina grundläggande frågor om IT. Ta gärna med din telefon\, surfplatta eller laptop. Här kan du även få hjälp med att hantera Konsumentverkets hemsida.
URL:https://motalasjostad.se/ec-event/digitala-forsta-hjalpen-83/2026-05-19/
LOCATION:Motala huvudbibliotek
CATEGORIES:Övriga evenemang
ATTACH;FMTTYPE=image/png:https://motalasjostad.se/wp-content/uploads/2026/04/DFH.png
END:VEVENT
BEGIN:VEVENT
DTSTART;TZID=Europe/Paris:20260519T153000
DTEND;TZID=Europe/Paris:20260519T163000
DTSTAMP:20260423T082248
CREATED:20260418T172326Z
LAST-MODIFIED:20260418T172326Z
UID:10014216-1779204600-1779208200@motalasjostad.se
SUMMARY:MangaMania - Sci-fi
DESCRIPTION:Gillar du att läsa manga eller titta på anime? Gillar du att ge och få bok- och filmtips? Då är MangaMania något för dig! Denna gång pratar vi science-fiction och tipsar om Assassination Classroom\, Dr Stone och Kaijuu 8. Ingen anmälan. \n 
URL:https://motalasjostad.se/ec-event/mangamania-sci-fi/
LOCATION:Motala huvudbibliotek
CATEGORIES:Barn/ungdom
ATTACH;FMTTYPE=image/png:https://motalasjostad.se/wp-content/uploads/2026/04/MangaMania.png
END:VEVENT
BEGIN:VEVENT
DTSTART;TZID=Europe/Paris:20260519T170000
DTEND;TZID=Europe/Paris:20260519T190000
DTSTAMP:20260423T082248
CREATED:20260418T173903Z
LAST-MODIFIED:20260418T173903Z
UID:10014178-1779210000-1779217200@motalasjostad.se
SUMMARY:Språkträning
DESCRIPTION:På Motala huvudbibliotek finns möjligheten att få hjälp med att träna på det svenska språket\, tyda krångliga brev\, skriva jobbansökningar med mera.\nI samarbete med Folkuniversitetet.
URL:https://motalasjostad.se/ec-event/spraktraning-49/2026-05-19/
LOCATION:Motala huvudbibliotek
CATEGORIES:Övriga evenemang
ATTACH;FMTTYPE=image/png:https://motalasjostad.se/wp-content/uploads/2026/04/Spraktraning.png
ORGANIZER;CN="Motala huvudbibliotek":MAILTO:bibl.info@motala.se
END:VEVENT
BEGIN:VEVENT
DTSTART;TZID=Europe/Paris:20260519T183000
DTEND;TZID=Europe/Paris:20260519T193000
DTSTAMP:20260423T082248
CREATED:20260418T171258Z
LAST-MODIFIED:20260418T171258Z
UID:10014235-1779215400-1779219000@motalasjostad.se
SUMMARY:Kaffe med politik - Socialdemokraterna
DESCRIPTION:Valet är ditt! Vad ska du välja? Vet du inte vad du ska välja i höstens val? Kom och lyssna på vad partierna vill göra för dig. Vi bjuder på kaffe\, ”drömmar” och brysselkex. Fri entré. Vid åtta olika tillfällen kommer partier från kommunfullmäktige för att svara på dina frågor. Håll utkik efter de andra tillfällena.
URL:https://motalasjostad.se/ec-event/kaffe-med-politik-socialdemokraterna/
LOCATION:Motala huvudbibliotek
CATEGORIES:Övriga evenemang
ATTACH;FMTTYPE=image/png:https://motalasjostad.se/wp-content/uploads/2026/04/Socialdemokraterna.png
END:VEVENT
BEGIN:VEVENT
DTSTART;TZID=Europe/Paris:20260520T113000
DTEND;TZID=Europe/Paris:20260520T123000
DTSTAMP:20260423T082248
CREATED:20260415T091558Z
LAST-MODIFIED:20260415T091558Z
UID:10014163-1779276600-1779280200@motalasjostad.se
SUMMARY:Motalapromenad med Annelie och Lotta
DESCRIPTION:Frisk luft\, härliga promenader och Motalas spännande historia – allt i ett!\nFölj med oss på promenader med korta stopp. Ni får tips på bra rörelser av Annelie Bard Pettersson från Fysioteket och lite Motalahistoria av Lotta Holmberg från Svecia Travels. En promenad som alla klarar av! Tänk på att turerna är utomhus\, kläder efter väder. \n20 maj\, 11.30-12.30\nVi går över gamla Strömbron mot Gästisområdet.\nStart och mål på Poppelgatan 4. \nOm ni betalar plats gör ni helst det via swish (har ni kontanter\, se till att ha en jämn summa).
URL:https://motalasjostad.se/ec-event/motalapromenad-med-annelie-och-lotta-3/
LOCATION:Poppelgatan 4\, 591 35 Motala\, Poppelgatan 4\, Motala\, 591 35
CATEGORIES:Gudningar och föreläsningar
ATTACH;FMTTYPE=image/jpeg:https://motalasjostad.se/wp-content/uploads/2026/04/vandring-med-fysioteket.jpg
ORGANIZER;CN="Svecia Travels":MAILTO:info@sveciatravels.se
END:VEVENT
BEGIN:VEVENT
DTSTART;TZID=Europe/Paris:20260520T120000
DTEND;TZID=Europe/Paris:20260520T153000
DTSTAMP:20260423T082248
CREATED:20260418T173631Z
LAST-MODIFIED:20260418T173631Z
UID:10014185-1779278400-1779291000@motalasjostad.se
SUMMARY:Lättläst nyhetscafé
DESCRIPTION:Välkomna på nyhetscafé där vi läser enkla nyheter tillsammans. Vi bjuder på kaffe\, te och kaka. Plats: Eköns Gemensamhetslokal\, Styvingevägen 14.
URL:https://motalasjostad.se/ec-event/lattlast-nyhetscafe-3/2026-05-20/
LOCATION:Gemensamhetslokalen\, Ekön\, Styvingevägen 14\, Motala
CATEGORIES:Övriga evenemang
ATTACH;FMTTYPE=image/png:https://motalasjostad.se/wp-content/uploads/2026/04/8-sidor.png
END:VEVENT
BEGIN:VEVENT
DTSTART;TZID=Europe/Paris:20260520T140000
DTEND;TZID=Europe/Paris:20260520T153000
DTSTAMP:20260423T082248
CREATED:20260418T173932Z
LAST-MODIFIED:20260418T173932Z
UID:10014174-1779285600-1779291000@motalasjostad.se
SUMMARY:Digitala första hjälpen
DESCRIPTION:Välkommen till vår drop-in där vi svarar på dina grundläggande frågor om IT. Ta gärna med din telefon\, surfplatta eller laptop. Här kan du även få hjälp med att hantera Konsumentverkets hemsida.
URL:https://motalasjostad.se/ec-event/digitala-forsta-hjalpen-82/2026-05-20/
LOCATION:Motala huvudbibliotek
CATEGORIES:Övriga evenemang
ATTACH;FMTTYPE=image/png:https://motalasjostad.se/wp-content/uploads/2026/04/DFH-1.png
END:VEVENT
BEGIN:VEVENT
DTSTART;TZID=Europe/Paris:20260520T183000
DTEND;TZID=Europe/Paris:20260520T193000
DTSTAMP:20260423T082248
CREATED:20260418T171158Z
LAST-MODIFIED:20260418T171158Z
UID:10014236-1779301800-1779305400@motalasjostad.se
SUMMARY:Kaffe med politik - Centerpartiet
DESCRIPTION:Valet är ditt! Vad ska du välja? Vet du inte vad du ska välja i höstens val? Kom och lyssna på vad partierna vill göra för dig. Vi bjuder på kaffe\, ”drömmar” och brysselkex. Fri entré. Vid åtta olika tillfällen kommer partier från kommunfullmäktige för att svara på dina frågor. Håll utkik efter de andra tillfällena.
URL:https://motalasjostad.se/ec-event/kaffe-med-politik-centerpartiet/
LOCATION:Motala huvudbibliotek
CATEGORIES:Övriga evenemang
ATTACH;FMTTYPE=image/png:https://motalasjostad.se/wp-content/uploads/2026/04/Centerpartiet.png
END:VEVENT
BEGIN:VEVENT
DTSTART;TZID=Europe/Paris:20260521T103000
DTEND;TZID=Europe/Paris:20260521T110000
DTSTAMP:20260423T082248
CREATED:20260418T171845Z
LAST-MODIFIED:20260418T171845Z
UID:10014225-1779359400-1779361200@motalasjostad.se
SUMMARY:Bokstund ute
DESCRIPTION:För barn 0–2 år och deras vuxna. Givetvis är syskon också välkomna. Vi läser sagor\, sjunger och ramsar tillsammans. Vi ger dig boktips för att stötta barnets språkutveckling med hjälp av böcker tidigt i livet. Ta med filt och gärna matsäck om du vill fika efteråt. Vi träffas vid bibliotekets entré och går till en plats nära biblioteket. Vid regn går vi in.
URL:https://motalasjostad.se/ec-event/bokstund-ute-4/
LOCATION:Borensbergs Bibliotek\, Husbyvägen 13\, Borensberg\, 59175
CATEGORIES:Barn/ungdom
ATTACH;FMTTYPE=image/png:https://motalasjostad.se/wp-content/uploads/2026/04/BBG-Bokstund-ute.png
END:VEVENT
END:VCALENDAR