BEGIN:VCALENDAR
VERSION:2.0
PRODID:-//Motala Sjöstad - ECPv6.13.2.1//NONSGML v1.0//EN
CALSCALE:GREGORIAN
METHOD:PUBLISH
X-WR-CALNAME:Motala Sjöstad
X-ORIGINAL-URL:https://motalasjostad.se
X-WR-CALDESC:Händelser för Motala Sjöstad
REFRESH-INTERVAL;VALUE=DURATION:PT1H
X-Robots-Tag:noindex
X-PUBLISHED-TTL:PT1H
BEGIN:VTIMEZONE
TZID:Europe/Paris
BEGIN:DAYLIGHT
TZOFFSETFROM:+0100
TZOFFSETTO:+0200
TZNAME:CEST
DTSTART:20260329T010000
END:DAYLIGHT
BEGIN:STANDARD
TZOFFSETFROM:+0200
TZOFFSETTO:+0100
TZNAME:CET
DTSTART:20261025T010000
END:STANDARD
END:VTIMEZONE
BEGIN:VEVENT
DTSTART;TZID=Europe/Paris:20260520T113000
DTEND;TZID=Europe/Paris:20260520T123000
DTSTAMP:20260423T115047
CREATED:20260415T091558Z
LAST-MODIFIED:20260415T091558Z
UID:10014163-1779276600-1779280200@motalasjostad.se
SUMMARY:Motalapromenad med Annelie och Lotta
DESCRIPTION:Frisk luft\, härliga promenader och Motalas spännande historia – allt i ett!\nFölj med oss på promenader med korta stopp. Ni får tips på bra rörelser av Annelie Bard Pettersson från Fysioteket och lite Motalahistoria av Lotta Holmberg från Svecia Travels. En promenad som alla klarar av! Tänk på att turerna är utomhus\, kläder efter väder. \n20 maj\, 11.30-12.30\nVi går över gamla Strömbron mot Gästisområdet.\nStart och mål på Poppelgatan 4. \nOm ni betalar plats gör ni helst det via swish (har ni kontanter\, se till att ha en jämn summa).
URL:https://motalasjostad.se/ec-event/motalapromenad-med-annelie-och-lotta-3/
LOCATION:Poppelgatan 4\, 591 35 Motala\, Poppelgatan 4\, Motala\, 591 35
CATEGORIES:Gudningar och föreläsningar
ATTACH;FMTTYPE=image/jpeg:https://motalasjostad.se/wp-content/uploads/2026/04/vandring-med-fysioteket.jpg
ORGANIZER;CN="Svecia Travels":MAILTO:info@sveciatravels.se
END:VEVENT
BEGIN:VEVENT
DTSTART;TZID=Europe/Paris:20260520T120000
DTEND;TZID=Europe/Paris:20260520T153000
DTSTAMP:20260423T115047
CREATED:20260418T173631Z
LAST-MODIFIED:20260418T173631Z
UID:10014185-1779278400-1779291000@motalasjostad.se
SUMMARY:Lättläst nyhetscafé
DESCRIPTION:Välkomna på nyhetscafé där vi läser enkla nyheter tillsammans. Vi bjuder på kaffe\, te och kaka. Plats: Eköns Gemensamhetslokal\, Styvingevägen 14.
URL:https://motalasjostad.se/ec-event/lattlast-nyhetscafe-3/2026-05-20/
LOCATION:Gemensamhetslokalen\, Ekön\, Styvingevägen 14\, Motala
CATEGORIES:Övriga evenemang
ATTACH;FMTTYPE=image/png:https://motalasjostad.se/wp-content/uploads/2026/04/8-sidor.png
END:VEVENT
BEGIN:VEVENT
DTSTART;TZID=Europe/Paris:20260520T140000
DTEND;TZID=Europe/Paris:20260520T153000
DTSTAMP:20260423T115047
CREATED:20260418T173932Z
LAST-MODIFIED:20260418T173932Z
UID:10014174-1779285600-1779291000@motalasjostad.se
SUMMARY:Digitala första hjälpen
DESCRIPTION:Välkommen till vår drop-in där vi svarar på dina grundläggande frågor om IT. Ta gärna med din telefon\, surfplatta eller laptop. Här kan du även få hjälp med att hantera Konsumentverkets hemsida.
URL:https://motalasjostad.se/ec-event/digitala-forsta-hjalpen-82/2026-05-20/
LOCATION:Motala huvudbibliotek
CATEGORIES:Övriga evenemang
ATTACH;FMTTYPE=image/png:https://motalasjostad.se/wp-content/uploads/2026/04/DFH-1.png
END:VEVENT
BEGIN:VEVENT
DTSTART;TZID=Europe/Paris:20260520T183000
DTEND;TZID=Europe/Paris:20260520T193000
DTSTAMP:20260423T115047
CREATED:20260418T171158Z
LAST-MODIFIED:20260418T171158Z
UID:10014236-1779301800-1779305400@motalasjostad.se
SUMMARY:Kaffe med politik - Centerpartiet
DESCRIPTION:Valet är ditt! Vad ska du välja? Vet du inte vad du ska välja i höstens val? Kom och lyssna på vad partierna vill göra för dig. Vi bjuder på kaffe\, ”drömmar” och brysselkex. Fri entré. Vid åtta olika tillfällen kommer partier från kommunfullmäktige för att svara på dina frågor. Håll utkik efter de andra tillfällena.
URL:https://motalasjostad.se/ec-event/kaffe-med-politik-centerpartiet/
LOCATION:Motala huvudbibliotek
CATEGORIES:Övriga evenemang
ATTACH;FMTTYPE=image/png:https://motalasjostad.se/wp-content/uploads/2026/04/Centerpartiet.png
END:VEVENT
BEGIN:VEVENT
DTSTART;TZID=Europe/Paris:20260521T103000
DTEND;TZID=Europe/Paris:20260521T110000
DTSTAMP:20260423T115047
CREATED:20260418T171845Z
LAST-MODIFIED:20260418T171845Z
UID:10014225-1779359400-1779361200@motalasjostad.se
SUMMARY:Bokstund ute
DESCRIPTION:För barn 0–2 år och deras vuxna. Givetvis är syskon också välkomna. Vi läser sagor\, sjunger och ramsar tillsammans. Vi ger dig boktips för att stötta barnets språkutveckling med hjälp av böcker tidigt i livet. Ta med filt och gärna matsäck om du vill fika efteråt. Vi träffas vid bibliotekets entré och går till en plats nära biblioteket. Vid regn går vi in.
URL:https://motalasjostad.se/ec-event/bokstund-ute-4/
LOCATION:Borensbergs Bibliotek\, Husbyvägen 13\, Borensberg\, 59175
CATEGORIES:Barn/ungdom
ATTACH;FMTTYPE=image/png:https://motalasjostad.se/wp-content/uploads/2026/04/BBG-Bokstund-ute.png
END:VEVENT
BEGIN:VEVENT
DTSTART;TZID=Europe/Paris:20260521T130000
DTEND;TZID=Europe/Paris:20260521T140000
DTSTAMP:20260423T115047
CREATED:20260418T171617Z
LAST-MODIFIED:20260418T171617Z
UID:10014229-1779368400-1779372000@motalasjostad.se
SUMMARY:Nyfiken på nya böcker
DESCRIPTION:Välkommen till biblioteket för att titta på vilka böcker som snart kommer att ges ut. Biblioteket bjuder på kaffe och te. Ta gärna med eget fikabröd. Ingen anmälan. \n 
URL:https://motalasjostad.se/ec-event/nyfiken-pa-nya-bocker-10/
LOCATION:Tjällmo bibliotek\, Länsvägen\, Tjällmo\, 59190\, Sverige
CATEGORIES:Övriga evenemang
ATTACH;FMTTYPE=image/png:https://motalasjostad.se/wp-content/uploads/2026/04/Tjallmo-nyfiken-pa-nya-bocker.png
END:VEVENT
BEGIN:VEVENT
DTSTART;TZID=Europe/Paris:20260521T140000
DTEND;TZID=Europe/Paris:20260521T160000
DTSTAMP:20260423T115047
CREATED:20260418T171746Z
LAST-MODIFIED:20260418T171746Z
UID:10014227-1779372000-1779379200@motalasjostad.se
SUMMARY:Handarbeta på bibblan
DESCRIPTION:Ta med dig ditt handarbete och kom till bibblan för en trevlig stund. Biblioteket bjuder på kaffe och te. Ta gärna med eget fikabröd. Ingen anmälan. \n 
URL:https://motalasjostad.se/ec-event/handarbeta-pa-bibblan-28/2026-05-21/
LOCATION:Tjällmo bibliotek\, Länsvägen\, Tjällmo\, 59190\, Sverige
CATEGORIES:Övriga evenemang
ATTACH;FMTTYPE=image/png:https://motalasjostad.se/wp-content/uploads/2026/04/Tjallmo-handarbetscafe-1.png
END:VEVENT
BEGIN:VEVENT
DTSTART;TZID=Europe/Paris:20260521T160000
DTEND;TZID=Europe/Paris:20260521T170000
DTSTAMP:20260423T115047
CREATED:20260418T172203Z
LAST-MODIFIED:20260418T172203Z
UID:10014219-1779379200-1779382800@motalasjostad.se
SUMMARY:Torsdagsbokcirkel
DESCRIPTION:Vi läser en bok och diskuterar den. Fråga personalen vilken bok det gäller. Biblioteket bjuder på kaffe och te. Ta gärna med eget fikabröd.
URL:https://motalasjostad.se/ec-event/torsdagsbokcirkel-15/
LOCATION:Borensbergs Bibliotek\, Husbyvägen 13\, Borensberg\, 59175
CATEGORIES:Övriga evenemang
ATTACH;FMTTYPE=image/png:https://motalasjostad.se/wp-content/uploads/2026/04/BBG-Torsdagsbokcirkel.png.png
END:VEVENT
BEGIN:VEVENT
DTSTART;TZID=Europe/Paris:20260521T170000
DTEND;TZID=Europe/Paris:20260521T190000
DTSTAMP:20260423T115047
CREATED:20260418T173801Z
LAST-MODIFIED:20260418T173801Z
UID:10014181-1779382800-1779390000@motalasjostad.se
SUMMARY:Språkträning
DESCRIPTION:På Motala huvudbibliotek finns möjligheten att få hjälp med att träna på det svenska språket\, tyda krångliga brev\, skriva jobbansökningar med mera.\nI samarbete med Folkuniversitetet.
URL:https://motalasjostad.se/ec-event/spraktraning-47/2026-05-21/
LOCATION:Motala huvudbibliotek
CATEGORIES:Övriga evenemang
ATTACH;FMTTYPE=image/png:https://motalasjostad.se/wp-content/uploads/2026/04/Spraktraning-2.png
END:VEVENT
BEGIN:VEVENT
DTSTART;TZID=Europe/Paris:20260521T183000
DTEND;TZID=Europe/Paris:20260521T193000
DTSTAMP:20260423T115047
CREATED:20260418T073648Z
LAST-MODIFIED:20260418T073648Z
UID:10014237-1779388200-1779391800@motalasjostad.se
SUMMARY:Kaffe med politik - Moderaterna
DESCRIPTION:Valet är ditt! Vad ska du välja? Vet du inte vad du ska välja i höstens val? Kom och lyssna på vad partierna vill göra för dig. Vi bjuder på kaffe\, ”drömmar” och brysselkex. Fri entré. Vid åtta olika tillfällen kommer partier från kommunfullmäktige för att svara på dina frågor. Håll utkik efter de andra tillfällena.
URL:https://motalasjostad.se/ec-event/kaffe-med-politik-moderaterna/
LOCATION:Motala huvudbibliotek
CATEGORIES:Övriga evenemang
ATTACH;FMTTYPE=image/png:https://motalasjostad.se/wp-content/uploads/2026/04/Moderaterna.png
END:VEVENT
BEGIN:VEVENT
DTSTART;TZID=Europe/Paris:20260522T150000
DTEND;TZID=Europe/Paris:20260522T153000
DTSTAMP:20260423T115047
CREATED:20260418T172352Z
LAST-MODIFIED:20260418T172352Z
UID:10014215-1779462000-1779463800@motalasjostad.se
SUMMARY:Minibio - Örjan: den höjdrädda örnen
DESCRIPTION:Rekommenderad ålder från ca 3 år. Alla örnar tycker om att flyga högt upp bland molnen. Alla – utom Örjan! Örjan är höjdrädd! Baserad på en bok av Lars Klinting. Speltid 20 minuter. Anmäl dig på biblioteket eller på 0141-22 51 00. \n 
URL:https://motalasjostad.se/ec-event/minibio-orjan-den-hojdradda-ornen-2/
LOCATION:Motala huvudbibliotek
CATEGORIES:Barn/ungdom
ATTACH;FMTTYPE=image/png:https://motalasjostad.se/wp-content/uploads/2026/04/Minibio.png
END:VEVENT
BEGIN:VEVENT
DTSTART;TZID=Europe/Paris:20260523T160000
DTEND;TZID=Europe/Paris:20260523T190000
DTSTAMP:20260423T115047
CREATED:20260225T102729Z
LAST-MODIFIED:20260225T102729Z
UID:10013972-1779552000-1779562800@motalasjostad.se
SUMMARY:Cruising 2026
DESCRIPTION:Nu är alla datum spikade för våren och sommaren. \nVarje crusingkväll: Calle med C vid skivorna – äkta 50-\, 60- & 70-tal. \nINFO: 0141-212070 \nVarmt välkomna!
URL:https://motalasjostad.se/ec-event/cruising-2026/2026-05-23/
LOCATION:Borenshult Café & Grill\, Borensvägen 50\, Motala
CATEGORIES:Övriga evenemang
ATTACH;FMTTYPE=image/jpeg:https://motalasjostad.se/wp-content/uploads/2026/02/cruising-e1772015238460.jpg
END:VEVENT
BEGIN:VEVENT
DTSTART;TZID=Europe/Paris:20260525T160000
DTEND;TZID=Europe/Paris:20260525T170000
DTSTAMP:20260423T115047
CREATED:20260418T172137Z
LAST-MODIFIED:20260418T172137Z
UID:10014220-1779724800-1779728400@motalasjostad.se
SUMMARY:Trädgårdsbokcirkel
DESCRIPTION:Vi läser en bok och diskuterar den. Fråga personalen vilken bok det gäller. Sedan pratar vi om trädgården allmänt och ger varandra tips. Biblioteket bjuder på kaffe och te. Ta gärna med eget fikabröd.
URL:https://motalasjostad.se/ec-event/tradgardsbokcirkel-14/
LOCATION:Borensbergs Bibliotek\, Husbyvägen 13\, Borensberg\, 59175
CATEGORIES:Övriga evenemang
ATTACH;FMTTYPE=image/png:https://motalasjostad.se/wp-content/uploads/2026/04/BBG-Tradgardsbokcirkel.png
END:VEVENT
BEGIN:VEVENT
DTSTART;TZID=Europe/Paris:20260526T100000
DTEND;TZID=Europe/Paris:20260526T103000
DTSTAMP:20260423T115047
CREATED:20260418T173401Z
LAST-MODIFIED:20260418T173401Z
UID:10014193-1779789600-1779791400@motalasjostad.se
SUMMARY:Sagor i stadsparken
DESCRIPTION:Från 3 år. Vid dåligt väder läser vi inne på biblioteket. Ingen anmälan.
URL:https://motalasjostad.se/ec-event/sagor-i-stadsparken-2/2026-05-26/
LOCATION:Motala huvudbibliotek
CATEGORIES:Barn/ungdom
ATTACH;FMTTYPE=image/png:https://motalasjostad.se/wp-content/uploads/2026/04/Sagor-i-stadsparkens.png
END:VEVENT
BEGIN:VEVENT
DTSTART;TZID=Europe/Paris:20260526T103000
DTEND;TZID=Europe/Paris:20260526T120000
DTSTAMP:20260423T115047
CREATED:20260418T173959Z
LAST-MODIFIED:20260418T173959Z
UID:10014171-1779791400-1779796800@motalasjostad.se
SUMMARY:Digitala första hjälpen
DESCRIPTION:Välkommen till vår drop-in där vi svarar på dina grundläggande frågor om IT. Ta gärna med din telefon\, surfplatta eller laptop. Här kan du även få hjälp med att hantera Konsumentverkets hemsida.
URL:https://motalasjostad.se/ec-event/digitala-forsta-hjalpen-83/2026-05-26/
LOCATION:Motala huvudbibliotek
CATEGORIES:Övriga evenemang
ATTACH;FMTTYPE=image/png:https://motalasjostad.se/wp-content/uploads/2026/04/DFH.png
END:VEVENT
BEGIN:VEVENT
DTSTART;TZID=Europe/Paris:20260526T150000
DTEND;TZID=Europe/Paris:20260526T163000
DTSTAMP:20260423T115047
CREATED:20260418T173529Z
LAST-MODIFIED:20260418T173529Z
UID:10014188-1779807600-1779813000@motalasjostad.se
SUMMARY:Öppen bokcirkel
DESCRIPTION:Välkommen till bibliotekets bokcirkel. Vi träffas\, fikar och pratar om en bok vi läst. Bokcirkeln är öppen\, du behöver inte ha deltagit vid tidigare tillfällen. Anmälan till biblioteket på bibl.info@motala.se eller på 0141-22 51 00\, senast dagen innan träffen ska äga rum. Vid detta tillfälle pratar vi om Regnmannen av Jonas Karlsson. OBS! Begränsat antal platser. \n 
URL:https://motalasjostad.se/ec-event/oppen-bokcirkel-20/
LOCATION:Motala huvudbibliotek
CATEGORIES:Övriga evenemang
ATTACH;FMTTYPE=image/png:https://motalasjostad.se/wp-content/uploads/2026/04/Oppen-bokcirkel-maj.png
END:VEVENT
BEGIN:VEVENT
DTSTART;TZID=Europe/Paris:20260526T170000
DTEND;TZID=Europe/Paris:20260526T190000
DTSTAMP:20260423T115047
CREATED:20260418T173903Z
LAST-MODIFIED:20260418T173903Z
UID:10014179-1779814800-1779822000@motalasjostad.se
SUMMARY:Språkträning
DESCRIPTION:På Motala huvudbibliotek finns möjligheten att få hjälp med att träna på det svenska språket\, tyda krångliga brev\, skriva jobbansökningar med mera.\nI samarbete med Folkuniversitetet.
URL:https://motalasjostad.se/ec-event/spraktraning-49/2026-05-26/
LOCATION:Motala huvudbibliotek
CATEGORIES:Övriga evenemang
ATTACH;FMTTYPE=image/png:https://motalasjostad.se/wp-content/uploads/2026/04/Spraktraning.png
ORGANIZER;CN="Motala huvudbibliotek":MAILTO:bibl.info@motala.se
END:VEVENT
BEGIN:VEVENT
DTSTART;TZID=Europe/Paris:20260527T120000
DTEND;TZID=Europe/Paris:20260527T153000
DTSTAMP:20260423T115047
CREATED:20260418T173631Z
LAST-MODIFIED:20260418T173631Z
UID:10014186-1779883200-1779895800@motalasjostad.se
SUMMARY:Lättläst nyhetscafé
DESCRIPTION:Välkomna på nyhetscafé där vi läser enkla nyheter tillsammans. Vi bjuder på kaffe\, te och kaka. Plats: Eköns Gemensamhetslokal\, Styvingevägen 14.
URL:https://motalasjostad.se/ec-event/lattlast-nyhetscafe-3/2026-05-27/
LOCATION:Gemensamhetslokalen\, Ekön\, Styvingevägen 14\, Motala
CATEGORIES:Övriga evenemang
ATTACH;FMTTYPE=image/png:https://motalasjostad.se/wp-content/uploads/2026/04/8-sidor.png
END:VEVENT
BEGIN:VEVENT
DTSTART;TZID=Europe/Paris:20260527T140000
DTEND;TZID=Europe/Paris:20260527T153000
DTSTAMP:20260423T115047
CREATED:20260418T173932Z
LAST-MODIFIED:20260418T173932Z
UID:10014175-1779890400-1779895800@motalasjostad.se
SUMMARY:Digitala första hjälpen
DESCRIPTION:Välkommen till vår drop-in där vi svarar på dina grundläggande frågor om IT. Ta gärna med din telefon\, surfplatta eller laptop. Här kan du även få hjälp med att hantera Konsumentverkets hemsida.
URL:https://motalasjostad.se/ec-event/digitala-forsta-hjalpen-82/2026-05-27/
LOCATION:Motala huvudbibliotek
CATEGORIES:Övriga evenemang
ATTACH;FMTTYPE=image/png:https://motalasjostad.se/wp-content/uploads/2026/04/DFH-1.png
END:VEVENT
BEGIN:VEVENT
DTSTART;TZID=Europe/Paris:20260528T140000
DTEND;TZID=Europe/Paris:20260528T160000
DTSTAMP:20260423T115047
CREATED:20260418T171746Z
LAST-MODIFIED:20260418T171746Z
UID:10014228-1779976800-1779984000@motalasjostad.se
SUMMARY:Handarbeta på bibblan
DESCRIPTION:Ta med dig ditt handarbete och kom till bibblan för en trevlig stund. Biblioteket bjuder på kaffe och te. Ta gärna med eget fikabröd. Ingen anmälan. \n 
URL:https://motalasjostad.se/ec-event/handarbeta-pa-bibblan-28/2026-05-28/
LOCATION:Tjällmo bibliotek\, Länsvägen\, Tjällmo\, 59190\, Sverige
CATEGORIES:Övriga evenemang
ATTACH;FMTTYPE=image/png:https://motalasjostad.se/wp-content/uploads/2026/04/Tjallmo-handarbetscafe-1.png
END:VEVENT
BEGIN:VEVENT
DTSTART;TZID=Europe/Paris:20260528T170000
DTEND;TZID=Europe/Paris:20260528T190000
DTSTAMP:20260423T115047
CREATED:20260418T173801Z
LAST-MODIFIED:20260418T173801Z
UID:10014182-1779987600-1779994800@motalasjostad.se
SUMMARY:Språkträning
DESCRIPTION:På Motala huvudbibliotek finns möjligheten att få hjälp med att träna på det svenska språket\, tyda krångliga brev\, skriva jobbansökningar med mera.\nI samarbete med Folkuniversitetet.
URL:https://motalasjostad.se/ec-event/spraktraning-47/2026-05-28/
LOCATION:Motala huvudbibliotek
CATEGORIES:Övriga evenemang
ATTACH;FMTTYPE=image/png:https://motalasjostad.se/wp-content/uploads/2026/04/Spraktraning-2.png
END:VEVENT
BEGIN:VEVENT
DTSTART;TZID=Europe/Paris:20260530T110000
DTEND;TZID=Europe/Paris:20260530T120000
DTSTAMP:20260423T115047
CREATED:20260418T172302Z
LAST-MODIFIED:20260418T172302Z
UID:10014217-1780138800-1780142400@motalasjostad.se
SUMMARY:Sagolördag - Lita aldrig på en fisk
DESCRIPTION:För dig mellan 3–5 år som älskar berättelser och pyssel. Vi läser boken Lita aldrig på en fisk\, där du får reda på fiskarnas lömska inställning och hemliga planer. Fiskar tillbringar ju all sin tid under ytan men vad håller de egentligen på med där nere? Vilka lömska planer smider de? Vi behöver helt klart ta reda på mer. Men vad du än gör – Lita ALDRIG på en fisk!  Efteråt pysslar vi tillsammans. Ingen anmälan.
URL:https://motalasjostad.se/ec-event/sagolordag-lita-aldrig-pa-en-fisk/
LOCATION:Motala huvudbibliotek
CATEGORIES:Barn/ungdom
ATTACH;FMTTYPE=image/png:https://motalasjostad.se/wp-content/uploads/2026/04/Sagolordag.png
END:VEVENT
BEGIN:VEVENT
DTSTART;TZID=Europe/Paris:20260602T100000
DTEND;TZID=Europe/Paris:20260602T103000
DTSTAMP:20260423T115047
CREATED:20260418T173401Z
LAST-MODIFIED:20260418T173401Z
UID:10014194-1780394400-1780396200@motalasjostad.se
SUMMARY:Sagor i stadsparken
DESCRIPTION:Från 3 år. Vid dåligt väder läser vi inne på biblioteket. Ingen anmälan.
URL:https://motalasjostad.se/ec-event/sagor-i-stadsparken-2/2026-06-02/
LOCATION:Motala huvudbibliotek
CATEGORIES:Barn/ungdom
ATTACH;FMTTYPE=image/png:https://motalasjostad.se/wp-content/uploads/2026/04/Sagor-i-stadsparkens.png
END:VEVENT
BEGIN:VEVENT
DTSTART;TZID=Europe/Paris:20260605T170000
DTEND;TZID=Europe/Paris:20260605T220000
DTSTAMP:20260423T115047
CREATED:20260418T173429Z
LAST-MODIFIED:20260418T173430Z
UID:10014190-1780678800-1780696800@motalasjostad.se
SUMMARY:MTB-Vättern 25/50 km – 2026
DESCRIPTION:Ett sjönära MTB-lopp i två distanser\nMTB-Vättern är ett instegslopp med två distanser\, 25 och 50 km\, som passar både nya och vana mountainbikecyklister. Banan är relativt lättcyklad och bjuder på fin variation med grusvägar\, stigar\, backar och vackra vyer längs Göta kanal och Vättern. \nAlla från 8 år har möjlighet att delta i loppet. Kommer du att vara en av dem?
URL:https://motalasjostad.se/ec-event/mtb-vattern-25-50-km-2026/
LOCATION:Stadsparken\, Motala\, Motala\, Östergötland\, Sverige
CATEGORIES:Sportevenemang,Större evenemang
ATTACH;FMTTYPE=image/png:https://motalasjostad.se/wp-content/uploads/2026/04/event_mtb-2025_1920x1005.png
ORGANIZER;CN="V%C3%A4tternrundan":MAILTO:info@vatternrundan.se
END:VEVENT
BEGIN:VEVENT
DTSTART;TZID=Europe/Paris:20260606T073000
DTEND;TZID=Europe/Paris:20260606T210000
DTSTAMP:20260423T115047
CREATED:20260418T173020Z
LAST-MODIFIED:20260418T173020Z
UID:10014206-1780731000-1780779600@motalasjostad.se
SUMMARY:Tjejvättern 100 km – 2026
DESCRIPTION:Ett motionslopp på cykel enbart för tjejer\nCykla själv eller ta med hela tjejgänget på en 100 kilometer lång utmaning som präglas av gemenskap och glädje\, stumma ben i Ombergs backar och vacker natur längs Vättern. Alla tjejer från 12 år har möjlighet att delta i loppet. Kommer du att vara en av dem? \nTjejvättern ingår i En Svensk Klassiker Tjej och En Svensk Klassiker Korta.
URL:https://motalasjostad.se/ec-event/tjejvattern-100-km-2026/
LOCATION:Stadsparken\, Motala\, Motala\, Östergötland\, Sverige
CATEGORIES:Sportevenemang,Större evenemang
ATTACH;FMTTYPE=image/png:https://motalasjostad.se/wp-content/uploads/2026/04/event_tv-2025_1920x1005.png
ORGANIZER;CN="V%C3%A4tternrundan":MAILTO:info@vatternrundan.se
END:VEVENT
BEGIN:VEVENT
DTSTART;TZID=Europe/Paris:20260606T100000
DTEND;TZID=Europe/Paris:20260606T210000
DTSTAMP:20260423T115047
CREATED:20260418T172955Z
LAST-MODIFIED:20260418T172955Z
UID:10014207-1780740000-1780779600@motalasjostad.se
SUMMARY:Halvvättern 150 km – 2026
DESCRIPTION:En klassisk utmaning över 150 kilometer\nEtt vackert och utmanande långlopp där Ombergs backar sätter benen på prov och vyerna över Vättern ger ny energi. Färden går vidare på slingrande vägar genom skog och öppna landskap hela vägen mot målet i Motala. Alla från 15 år har möjlighet att delta i loppet. Kommer du att vara en av dem? \nHalvvättern ingår i En Svensk Klassiker Halva.
URL:https://motalasjostad.se/ec-event/halvvattern-150-km-2026/
LOCATION:Stadsparken\, Motala\, Motala\, Östergötland\, Sverige
CATEGORIES:Sportevenemang,Större evenemang
ATTACH;FMTTYPE=image/png:https://motalasjostad.se/wp-content/uploads/2026/04/event_hv-2025_1920x1005.png
ORGANIZER;CN="V%C3%A4tternrundan":MAILTO:info@vatternrundan.se
END:VEVENT
BEGIN:VEVENT
DTSTART;TZID=Europe/Paris:20260606T123000
DTEND;TZID=Europe/Paris:20260606T210000
DTSTAMP:20260423T115047
CREATED:20260418T172849Z
LAST-MODIFIED:20260418T172849Z
UID:10014208-1780749000-1780779600@motalasjostad.se
SUMMARY:Vätternrundan 100 km – 2026
DESCRIPTION:En 100-kilometersutmaning för alla cyklister\nTa dig an en 100 kilometer lång motionsutmaning med vanlig cykel eller elcykel. Banan bjuder på stumma ben i Ombergs backar\, storslagna vyer över Vättern och vacker cykling genom landskapet på väg mot målet i Motala. Alla från 12 år har möjlighet att delta i loppet. Kommer du att vara en av dem? \nVätternrundan 100 km ingår i En Svensk Klassiker Tjej och En Svensk Klassiker Korta.
URL:https://motalasjostad.se/ec-event/vatternrundan-100-km-2026/
LOCATION:Stadsparken\, Motala\, Motala\, Östergötland\, Sverige
CATEGORIES:Sportevenemang,Större evenemang
ATTACH;FMTTYPE=image/png:https://motalasjostad.se/wp-content/uploads/2026/04/event_vr100-2025_1920x1005.png
ORGANIZER;CN="V%C3%A4tternrundan":MAILTO:info@vatternrundan.se
END:VEVENT
BEGIN:VEVENT
DTSTART;TZID=Europe/Paris:20260606T150000
DTEND;TZID=Europe/Paris:20260606T193000
DTSTAMP:20260423T115047
CREATED:20260423T084942Z
LAST-MODIFIED:20260423T084942Z
UID:10014245-1780758000-1780774200@motalasjostad.se
SUMMARY:Trädgårdshäng på Stenkullen
DESCRIPTION:Stone Hill Music\, i samarbete med KulturAkademin Motala inbjuder till;\nTrädgårdshäng på Stenkullen\nFira Sveriges Nationaldag i vår trädgård i Degerön.\nMedtag brassestol\, filt och picknick\, kanske egen handflagga.Om dåligt väder omgruppering till Godegårds Festplats\, meddelas på FaceBook.Biljetter på förhand via Nortic och Rapps Foto\, Motala.\nVi kan erbjuda ett fantastiskt artistuppbåd;\nFredrik ” Frallan” Jonsson. En av Sveriges bästa singer-songwriter\, jämförs med Lundell\, Winnerbäck\, Hyllander mfl. Trogen hembygden i Kisa som finstämt besjunges i exv ” I dalen mellan bergen ”. Flertalet CD album\, representerad på Spotify och You Tube. Alltför sällan på turne´ men vi är otroligt glada att kunna erbjuda Frallan live !\nRoger ” Mulle” Persson\, Med rätta en av Motalas främsta musiker och låtskrivare\, Spotify etc\, meriter från P4 Live och lokala spelningar i hemstaden. Backas upp av annan Motalaprofil nämligen Jonnie Andersson\nShakey Willard\, Örebro och Ölandsbaserad ”One Man Band”. Sommarens enda inbokade spelning utanför solen och vindarnas ö.\nUlf Holmertz\, presentation överflödig.\nAnswer;42\, Country-folk-visa-rock med stulet\, lånat och eget material. Erfarna grabbar i sina bästa år\, medverkat på div gig från 90års fester\, via stadsfestival\, kulturhus och kaféer till Musikfestival i Wolfenbüttel I Tyskland.\nVälkomna !!!\n\n\n\n\n\n\nBiljetter\nwww.nortic.se/ticket/event/81596
URL:https://motalasjostad.se/ec-event/tradgardshang-pa-stenkullen-2/
LOCATION:Stenkullen\, Degerön 361 Motala\, Degerön 361\, Motala\, 59198\, Sweden
CATEGORIES:Musik
ATTACH;FMTTYPE=image/jpeg:https://motalasjostad.se/wp-content/uploads/2026/04/Tradgardshang-stenkullen.jpg
END:VEVENT
BEGIN:VEVENT
DTSTART;TZID=Europe/Paris:20260607T090000
DTEND;TZID=Europe/Paris:20260607T130000
DTSTAMP:20260423T115047
CREATED:20260418T172809Z
LAST-MODIFIED:20260418T172809Z
UID:10014209-1780822800-1780837200@motalasjostad.se
SUMMARY:Minivättern och "Skoj med hoj" - 2026
DESCRIPTION:Cykelloppet för de yngsta deltagarna\nMinivättern är cykelloppet för de yngsta deltagarna i Cykelveckan\, och samtidigt finalen för barnens alldeles egna ”Skoj med hoj”-dag. På plats finns självklart Vätternrundans lurviga\, busiga och rörelseglada maskot Vättis\, som cyklar\, dansar och sjunger med barnen🥳
URL:https://motalasjostad.se/ec-event/minivattern-och-skoj-med-hoj-2026/
LOCATION:Stadsparken\, Motala\, Motala\, Östergötland\, Sverige
CATEGORIES:Barn/ungdom,Sportevenemang,Större evenemang
ATTACH;FMTTYPE=image/png:https://motalasjostad.se/wp-content/uploads/2026/04/event_mini-2026_1920x1005.png
ORGANIZER;CN="V%C3%A4tternrundan":MAILTO:info@vatternrundan.se
END:VEVENT
BEGIN:VEVENT
DTSTART;TZID=Europe/Paris:20260608T170000
DTEND;TZID=Europe/Paris:20260608T180000
DTSTAMP:20260423T115047
CREATED:20260418T172111Z
LAST-MODIFIED:20260418T172111Z
UID:10014221-1780938000-1780941600@motalasjostad.se
SUMMARY:Måndagsbokcirkel
DESCRIPTION:Vi läser en bok och diskuterar den. Fråga personalen vilken bok det gäller. Biblioteket bjuder på kaffe och te. Ta gärna med eget fikabröd.
URL:https://motalasjostad.se/ec-event/mandagsbokcirkel-17/
LOCATION:Borensbergs Bibliotek\, Husbyvägen 13\, Borensberg\, 59175
CATEGORIES:Övriga evenemang
ATTACH;FMTTYPE=image/png:https://motalasjostad.se/wp-content/uploads/2026/04/BBG-Mandagsbokcirkel.png
END:VEVENT
END:VCALENDAR