BEGIN:VCALENDAR
VERSION:2.0
PRODID:-//Motala Sjöstad - ECPv6.13.2.1//NONSGML v1.0//EN
CALSCALE:GREGORIAN
METHOD:PUBLISH
X-ORIGINAL-URL:https://motalasjostad.se
X-WR-CALDESC:Händelser för Motala Sjöstad
REFRESH-INTERVAL;VALUE=DURATION:PT1H
X-Robots-Tag:noindex
X-PUBLISHED-TTL:PT1H
BEGIN:VTIMEZONE
TZID:Europe/Paris
BEGIN:DAYLIGHT
TZOFFSETFROM:+0100
TZOFFSETTO:+0200
TZNAME:CEST
DTSTART:20240331T010000
END:DAYLIGHT
BEGIN:STANDARD
TZOFFSETFROM:+0200
TZOFFSETTO:+0100
TZNAME:CET
DTSTART:20241027T010000
END:STANDARD
END:VTIMEZONE
BEGIN:VEVENT
DTSTART;TZID=Europe/Paris:20240818T110000
DTEND;TZID=Europe/Paris:20240818T140000
DTSTAMP:20260421T195730
CREATED:20240805T203713Z
LAST-MODIFIED:20240805T204156Z
UID:10003378-1723978800-1723989600@motalasjostad.se
SUMMARY:Bondebackadagen
DESCRIPTION:Välkommen att hälsa på föreningarna på Bondebacka föreningsgård! Motala scoutkår\, Motala biologiska förening\, Motala biodlarförening\, Naturskyddsföreningen i Motala och Motala sändaramatörer visar upp sin verksamhet. Det finns aktiviteter för både barn och vuxna.\nBl a finns möjlighet att lära sig mer om svamp\, biodling och kortvågsradio. Det finns möjlighet att gå tipspromenad\, besöka örtagården\, prova lyckan i skrotfiskedammen\, stapla drickabackar och prova på scouting. Korv och bröd finns till försäljning. \n 
URL:https://motalasjostad.se/ec-event/bondebackadagen/
LOCATION:Bondebacka\, Bondebacka 1\, Motala\, Sverige
ATTACH;FMTTYPE=image/jpeg:https://motalasjostad.se/wp-content/uploads/2024/08/IMG_5563.jpeg
END:VEVENT
END:VCALENDAR