BEGIN:VCALENDAR
VERSION:2.0
PRODID:-//Motala Sjöstad - ECPv6.13.2.1//NONSGML v1.0//EN
CALSCALE:GREGORIAN
METHOD:PUBLISH
X-WR-CALNAME:Motala Sjöstad
X-ORIGINAL-URL:https://motalasjostad.se
X-WR-CALDESC:Händelser för Motala Sjöstad
REFRESH-INTERVAL;VALUE=DURATION:PT1H
X-Robots-Tag:noindex
X-PUBLISHED-TTL:PT1H
BEGIN:VTIMEZONE
TZID:Europe/Paris
BEGIN:DAYLIGHT
TZOFFSETFROM:+0100
TZOFFSETTO:+0200
TZNAME:CEST
DTSTART:20240331T010000
END:DAYLIGHT
BEGIN:STANDARD
TZOFFSETFROM:+0200
TZOFFSETTO:+0100
TZNAME:CET
DTSTART:20241027T010000
END:STANDARD
END:VTIMEZONE
BEGIN:VEVENT
DTSTART;TZID=Europe/Paris:20241201T100000
DTEND;TZID=Europe/Paris:20241201T140000
DTSTAMP:20260419T185539
CREATED:20241118T091617Z
LAST-MODIFIED:20241118T091617Z
UID:10003852-1733047200-1733061600@motalasjostad.se
SUMMARY:Motala Återvinnings stora Julmarknad
DESCRIPTION:MOTALAHär hittar du så mycket billiga julsaker.Allt från modernt till retro.
URL:https://motalasjostad.se/ec-event/motala-atervinnings-stora-julmarknad/2024-12-01/
LOCATION:Motala Återvinning\, Södra Allén 23\, Motala
ATTACH;FMTTYPE=image/jpeg:https://motalasjostad.se/wp-content/uploads/2024/11/atervinningen-e1731921362256.jpg
ORGANIZER;CN="Motala %C3%85tervinning":MAILTO:info@atervinningen.se
END:VEVENT
BEGIN:VEVENT
DTSTART;TZID=Europe/Paris:20241130T100000
DTEND;TZID=Europe/Paris:20241130T150000
DTSTAMP:20260419T185539
CREATED:20241118T091617Z
LAST-MODIFIED:20241118T091617Z
UID:10003851-1732960800-1732978800@motalasjostad.se
SUMMARY:Motala Återvinnings stora Julmarknad
DESCRIPTION:MOTALAHär hittar du så mycket billiga julsaker.Allt från modernt till retro.
URL:https://motalasjostad.se/ec-event/motala-atervinnings-stora-julmarknad/2024-11-30/
LOCATION:Motala Återvinning\, Södra Allén 23\, Motala
ATTACH;FMTTYPE=image/jpeg:https://motalasjostad.se/wp-content/uploads/2024/11/atervinningen-e1731921362256.jpg
ORGANIZER;CN="Motala %C3%85tervinning":MAILTO:info@atervinningen.se
END:VEVENT
END:VCALENDAR