BEGIN:VCALENDAR
VERSION:2.0
PRODID:-//Motala Sjöstad - ECPv6.13.2.1//NONSGML v1.0//EN
CALSCALE:GREGORIAN
METHOD:PUBLISH
X-WR-CALNAME:Motala Sjöstad
X-ORIGINAL-URL:https://motalasjostad.se
X-WR-CALDESC:Händelser för Motala Sjöstad
REFRESH-INTERVAL;VALUE=DURATION:PT1H
X-Robots-Tag:noindex
X-PUBLISHED-TTL:PT1H
BEGIN:VTIMEZONE
TZID:Europe/Paris
BEGIN:DAYLIGHT
TZOFFSETFROM:+0100
TZOFFSETTO:+0200
TZNAME:CEST
DTSTART:20250330T010000
END:DAYLIGHT
BEGIN:STANDARD
TZOFFSETFROM:+0200
TZOFFSETTO:+0100
TZNAME:CET
DTSTART:20251026T010000
END:STANDARD
END:VTIMEZONE
BEGIN:VEVENT
DTSTART;TZID=Europe/Paris:20251208T140000
DTEND;TZID=Europe/Paris:20251208T153000
DTSTAMP:20260423T202644
CREATED:20251126T113638Z
LAST-MODIFIED:20251126T113638Z
UID:10013591-1765202400-1765207800@motalasjostad.se
SUMMARY:Läsa tillsammans
DESCRIPTION:Välkommen till Läsa tillsammans – högläsning för vuxna där vi läser noveller och dikter högt tillsammans och samtalar om det vi läser. Det krävs inga förberedelser. Anmälan till biblioteket på 0141-22 51 00 eller på e-post till bibl.info@motala.se eller till Seniorcenter på 0141-22 24 60 eller på e-post till seniorcenter@motala.se senast onsdag 3 december. OBS! Plats: Seniorcenter\, Båtsmansgatan 7 \n 
URL:https://motalasjostad.se/ec-event/lasa-tillsammans-9/
LOCATION:Seniorcenter\, Båtsmansgatan 7
CATEGORIES:Övriga evenemang
ATTACH;FMTTYPE=image/png:https://motalasjostad.se/wp-content/uploads/2025/11/Lasa-tillsammans1-e1764156993310.png
END:VEVENT
BEGIN:VEVENT
DTSTART;TZID=Europe/Paris:20251110T140000
DTEND;TZID=Europe/Paris:20251110T153000
DTSTAMP:20260423T202644
CREATED:20251027T120110Z
LAST-MODIFIED:20251027T120110Z
UID:10013461-1762783200-1762788600@motalasjostad.se
SUMMARY:Läsa tillsammans
DESCRIPTION:Välkommen till Läsa tillsammans – högläsning för vuxna där vi läser noveller och dikter högt tillsammans och samtalar om det vi läser. Det krävs inga förberedelser. Anmälan till biblioteket på 0141-22 51 00 eller på e-post till bibl.info@motala.se senast onsdag 5 november. Vi bjuder på kaffe och te.\nOBS! Plats: Seniorcenter\, Båtsmansgatan 7 \n 
URL:https://motalasjostad.se/ec-event/lasa-tillsammans-8/
LOCATION:Seniorcenter\, Båtsmansgatan 7
CATEGORIES:Övriga evenemang
ATTACH;FMTTYPE=image/png:https://motalasjostad.se/wp-content/uploads/2025/10/Lasa-tillsammans1.png
END:VEVENT
END:VCALENDAR