BEGIN:VCALENDAR
VERSION:2.0
PRODID:-//Motala Sjöstad - ECPv6.13.2.1//NONSGML v1.0//EN
CALSCALE:GREGORIAN
METHOD:PUBLISH
X-WR-CALNAME:Motala Sjöstad
X-ORIGINAL-URL:https://motalasjostad.se
X-WR-CALDESC:Händelser för Motala Sjöstad
REFRESH-INTERVAL;VALUE=DURATION:PT1H
X-Robots-Tag:noindex
X-PUBLISHED-TTL:PT1H
BEGIN:VTIMEZONE
TZID:Europe/Paris
BEGIN:DAYLIGHT
TZOFFSETFROM:+0100
TZOFFSETTO:+0200
TZNAME:CEST
DTSTART:20250330T010000
END:DAYLIGHT
BEGIN:STANDARD
TZOFFSETFROM:+0200
TZOFFSETTO:+0100
TZNAME:CET
DTSTART:20251026T010000
END:STANDARD
END:VTIMEZONE
BEGIN:VEVENT
DTSTART;TZID=Europe/Paris:20251220T110000
DTEND;TZID=Europe/Paris:20251220T110000
DTSTAMP:20260425T211308
CREATED:20251030T105227Z
LAST-MODIFIED:20251030T105323Z
UID:10013517-1766228400-1766228400@motalasjostad.se
SUMMARY:Juldoppet i Varamon2025
DESCRIPTION:Prick kl11 kastar sig alla glada orädda tomtar i Vätterns svalkande härliga vatten. Förra årets 200 badande tomtar ska vi väl slå i år?Välkomna tomtar och publik!\nPS. Skänk gärna en liten slant till vårt Sjöräddningssällskap som gör en livsviktig insats. Swish 900 5000. Märk betalning med Vadstena/Motala
URL:https://motalasjostad.se/ec-event/juldoppet-i-varamon2025/
LOCATION:Varamon\, Restaurang Sjövik\, Solskensvägen 8\, Motala
CATEGORIES:Övriga evenemang
ATTACH;FMTTYPE=image/jpeg:https://motalasjostad.se/wp-content/uploads/2025/10/juldoppet-2025-e1761821600227.jpg
END:VEVENT
END:VCALENDAR